Workbook

Sheet NOVOS CODIGOS
D8: Código Antigo | E8: Código Novo | F8: Material Description | G8: DATA INÍCIO | H8: DATA FINAL
D9: 400569707 | E9: 400579061 | F9: XALACOM ED 0.05/5MG 2.5ML 1BT BR NGT | G9: 45880 | H9: 46115
D10: 400570990 | E10: 400579069 | F10: ZEFORUS TAB 20MG 4BL BR VIA NGT | G10: 45880 | H10: 46115
D11: 400570993 | E11: 400579070 | F11: ZEFORUS TAB 80MG 2BL BR VIA NGT | G11: 45880 | H11: 46115
D12: 400570995 | E12: 400579036 | F12: LYRICA CAP 150MG 28BL BR VIA NGT | G12: 45880 | H12: 46115
D13: 400570998 | E13: 400579037 | F13: LYRICA CAP 75MG 28BL BR VIA NGT | G13: 45880 | H13: 46115
D14: 400570997 | E14: 400579038 | F14: LYRICA CAP 75MG 14BL BR VIA NGT | G14: 45880 | H14: 46115
D15: 400570996 | E15: 400579039 | F15: LYRICA CAP 25MG 14BL BR VIA NGT | G15: 45880 | H15: 46115
D16: 400570999 | E16: 400579040 | F16: INSPRA TAB 25MG 30BL BR VIA NGT | G16: 45880 | H16: 46115
D17: 400571000 | E17: 400579041 | F17: INSPRA TAB 50MG 30BL BR VIA NGT | G17: 45880 | H17: 46115
D18: 400569708 | E18: 400579067 | F18: XALATAN ED 50MCG/ML 1BT BR MY NGT | G18: 45870

Sheet PREÇO VIATRIS_Mar26
R2: PF Sem Imposto (controle interno) | T2: ICMS 0% | V2: ICMS 12% (Apenas genéricos SP-MG) | X2: ICMS 12% (ALC) | Z2: ICMS 17% (DF-ES-MS-MT-RS-SC) | AB2: ICMS 17% (ALC) | AD2: ICMS 17,5% | AF2: ICMS 17,5% (ALC) | AH2: ICMS 18% (AP-MG-SP) | AJ2: ICMS 18% ALC (AP-MG-SP) | AL2: ICMS 19% (AC-AL-GO-PA-SE) | AN2: ICMS 19% (ALC) | AP2: ICMS 19,5% (PR-RO) | AR2: ICMS 19,5% (ALC) | AT2: ICMS 20% (AM-CE-PB-RR-TO-RN) | AV2: ICMS 20% ALC | AX2: ICMS 20,5% (BA-PE) | AZ2: ICMS 20,5% ALC | BB2: ICMS 21% | BD2: ICMS 21% ALC | BF2: ICMS 22% (RJ) | BH2: ICMS 22% ALC | BJ2: ICMS 22,5% (PI) | BL2: ICMS 22,5% (ALC) | BN2: ICMS 23% (MA) | BP2: ICMS 23% (ALC)
A3: CNPJ (Faturamento) | B3: Empresa (Faturamento) | C3: DETENTORA ( CNPJ) | D3: DETENTORA EMPRESA | E3: CÓDIGO GGREM | F3: REGISTRO | G3: EAN | H3: EAN 2 | I3: COD SAP | J3: CODIGO NOVO | K3: SUBSTÂNCIA | L3: PRODUTO | M3: APRESENTAÇÃO | N3: PRODUTO E APRESENTAÇÃO | O3: CLASSE TERAPÊUTICA | P3: TIPO DE PRODUTO (STATUS DO PRODUTO) | Q3: REGIME DE PREÇO | R3: PF Sem Impostos | S3: PMC Sem Impostos | T3: PF 0% | U3: PMC 0 % | V3: PF 12 % | W3: PMC 12 % | X3: PF 12 % ALC | Y3: PMC 12 % ALC | Z3: PF 17 % | AA3: PMC 17 % | AB3: PF 17 % ALC | AC3: PMC 17 % ALC | AD3: PF 17,5 % | AE3: PMC 17,5 % | AF3: PF 17,5 % ALC | AG3: PMC 17,5 % ALC | AH3: PF 18 % | AI3: PMC 18 % | AJ3: PF 18 % ALC | AK3: PMC 18 % ALC | AL3: PF 19 % | AM3: PMC 19 % | AN3: PF 19 % ALC | AO3: PMC 19 % ALC | AP3: PF 19,5 % | AQ3: PMC 19,5 % | AR3: PF 19,5 % ALC | AS3: PMC 19,5 % ALC | AT3: PF 20 % | AU3: PMC 20 % | AV3: PF 20 % ALC | AW3: PMC 20 % ALC | AX3: PF 20,5 % | AY3: PMC 20,5 % | AZ3: PF 20,5 % ALC | BA3: PMC 20,5 % ALC | BB3: PF 21 % | BC3: PMC 21 % | BD3: PF 21 % ALC | BE3: PMC 21 % ALC | BF3: PF 22 % | BG3: PMC 22 % | BH3: PF 22 % ALC | BI3: PMC 22 % ALC | BJ3: PF 22,5 % | BK3: PMC 22,5 % | BL3: PF 22,5 % ALC | BM3: PMC 22,5 % ALC | BN3: PF 23 % | BO3: PMC 23 % | BP3: PF 23 % ALC | BQ3: PMC 23 % ALC | BR3: RESTRIÇÃO HOSPITALAR | BS3: CAP | BT3: CONFAZ 87 | BU3: ICMS 0% | BV3: ANÁLISE RECURSAL | BW3: LISTA DE CONCESSÃO DE CRÉDITO TRIBUTÁRIO (PIS/COFINS) | BX3: COMERCIALIZAÇÃO 2024 | BY3: TARJA
A4: 11.643.096/0004-75 | B4: Viatris Farmacêutica do Brasil Ltda. | C4: 11.643.096/0001-22 | D4: VIATRIS FARMACEUTICA DO BRASIL LTDA | E4: 541525040033317 | F4: 1883001060022 | G4: 7908236801169 | H4: 7898560666940 | I4: 400570990 | J4: 400579069 | K4: BROMIDRATO DE ELETRIPTANA | L4: ZEFORUS | M4: 20 MG COM REV CT BL AL PLAS PVC/PCTFE OPC X 4 | N4: ZEFORUS20 MG COM REV CT BL AL PLAS PVC/PCTFE OPC X 4 | O4: N2C1 - ANTIENXAQUECOSOS TRIPTÂNICOS | P4: Novo | Q4: Regulado | R4: 23.57 | S4: 32.59 | T4: 26.4 | U4: 35.41 | V4: 30 | W4: 40.24 | X4: 26.79 | Y4: 37.04 | Z4: 31.81 | AA4: 42.67 | AB4: 28.4 | AC4: 39.26 | AD4: 32 | AE4: 42.93 | AF4: 28.57 | AG4: 39.5 | AH4: 32.2 | AI4: 43.2 | AJ4: 28.75 | AK4: 39.75 | AL4: 32.59 | AM4: 43.72 | AN4: 29.1 | AO4: 40.23 | AP4: 32.8 | AQ4: 44 | AR4: 29.28 | AS4: 40.48 | AT4: 33 | AU4: 44.27 | AV4: 29.46 | AW4: 40.73 | AX4: 33.21 | AY4: 44.55 | AZ4: 29.65 | BA4: 40.99 | BB4: 33.42 | BC4: 44.83 | BD4: 29.84 | BE4: 41.25 | BF4: 33.85 | BG4: 45.41 | BH4: 30.22 | BI4: 41.78 | BJ4: 34.06 | BK4: 45.69 | BL4: 30.41 | BM4: 42.04 | BN4: 34.29 | BO4: 46 | BP4: 30.61 | BQ4: 42.32 | BR4: Não | BS4: Não | BT4: Não | BU4: Não | BV4: 0 | BW4: Negativa | BX4: Não | BY4: Tarja Vermelha
A5: 11.643.096/0004-75 | B5: Viatris Farmacêutica do Brasil Ltda. | C5: 11.643.096/0001-22 | D5: VIATRIS FARMACEUTICA DO BRASIL LTDA | E5: 541525040033617 | F5: 1883001060057 | G5: 7898560666957 | H5: 7908236801190 | I5: 400570993 | J5: 400579070 | K5: BROMIDRATO DE ELETRIPTANA | L5: ZEFORUS | M5: 80 MG COM REV CT BL AL PLAS PVC/PCTFE OPC X 2 | N5: ZEFORUS80 MG COM REV CT BL AL PLAS PVC/PCTFE OPC X 2 | O5: N2C1 - ANTIENXAQUECOSOS TRIPTÂNICOS | P5: Novo | Q5: Regulado | R5: 25.59 | S5: 35.38 | T5: 28.66 | U5: 38.45 | V5: 32.57 | W5: 43.69 | X5: 29.08 | Y5: 40.2 | Z5: 34.53 | AA5: 46.32 | AB5: 30.83 | AC5: 42.62 | AD5: 34.74 | AE5: 46.6 | AF5: 31.02 | AG5: 42.88 | AH5: 34.95 | AI5: 46.88 | AJ5: 31.21 | AK5: 43.15 | AL5: 35.38 | AM5: 47.46 | AN5: 31.59 | AO5: 43.67 | AP5: 35.6 | AQ5: 47.76 | AR5: 31.79 | AS5: 43.95 | AT5: 35.83 | AU5: 48.06 | AV5: 31.99 | AW5: 44.22 | AX5: 36.05 | AY5: 48.36 | AZ5: 32.19 | BA5: 44.5 | BB5: 36.28 | BC5: 48.67 | BD5: 32.39 | BE5: 44.78 | BF5: 36.74 | BG5: 49.29 | BH5: 32.81 | BI5: 45.36 | BJ5: 36.98 | BK5: 49.61 | BL5: 33.02 | BM5: 45.65 | BN5: 37.22 | BO5: 49.93 | BP5: 33.23 | BQ5: 45.94 | BR5: Não | BS5: Não | BT5: Não | BU5: Não | BV5: 0 | BW5: Negativa | BX5: Não | BY5: Tarja Vermelha
A6: 11.643.096/0004-75 | B6: Viatris Farmacêutica do Brasil Ltda. | C6: 11.643.096/0001-22 | D6: VIATRIS FARMACEUTICA DO BRASIL LTDA | E6: 541525070033817 | F6: 1883001100032 | G6: 7898560666865 | H6: 7908236801213 | I6: 400570999 | J6: 400579040 | K6: EPLERENONA | L6: INSPRA | M6: 25 MG COM REV CT BL AL PLAS PVC OPC X 30 | N6: INSPRA25 MG COM REV CT BL AL PLAS PVC OPC X 30 | O6: C3A1 - AGENTES DIURÉTICOS POUPADORES POTÁSSIO PUROS | P6: Novo | Q6: Regulado | R6: 41.87 | S6: 57.88 | T6: 41.87 | U6: 57.88 | V6: 47.58 | W6: 65.78 | X6: 47.58 | Y6: 65.78 | Z6: 50.45 | AA6: 69.74 | AB6: 50.45 | AC6: 69.74 | AD6: 50.75 | AE6: 70.16 | AF6: 50.75 | AG6: 70.16 | AH6: 51.06 | AI6: 70.59 | AJ6: 51.06 | AK6: 70.59 | AL6: 51.69 | AM6: 71.46 | AN6: 51.69 | AO6: 71.46 | AP6: 52.01 | AQ6: 71.9 | AR6: 52.01 | AS6: 71.9 | AT6: 52.34 | AU6: 72.36 | AV6: 52.34 | AW6: 72.36 | AX6: 52.67 | AY6: 72.81 | AZ6: 52.67 | BA6: 72.81 | BB6: 53 | BC6: 73.27 | BD6: 53 | BE6: 73.27 | BF6: 53.68 | BG6: 74.21 | BH6: 53.68 | BI6: 74.21 | BJ6: 54.03 | BK6: 74.69 | BL6: 54.03 | BM6: 74.69 | BN6: 54.38 | BO6: 75.18 | BP6: 54.38 | BQ6: 75.18 | BR6: Não | BS6: Não | BT6: Não | BU6: Não | BV6: 0 | BW6: Positiva | BX6: Não | BY6: Tarja Vermelha
A7: 11.643.096/0004-75 | B7: Viatris Farmacêutica do Brasil Ltda. | C7: 11.643.096/0001-22 | D7: VIATRIS FARMACEUTICA DO BRASIL LTDA | E7: 541525070033917 | F7: 1883001100075 | G7: 7898560666872 | H7: 7908236801220 | I7: 400571000 | J7: 400579041 | K7: EPLERENONA | L7: INSPRA | M7: 50 MG COM REV CT BL AL PLAS PVC OPC X 30 | N7: INSPRA50 MG COM REV CT BL AL PLAS PVC OPC X 30 | O7: C3A1 - AGENTES DIURÉTICOS POUPADORES POTÁSSIO PUROS | P7: Novo | Q7: Regulado | R7: 59.98 | S7: 82.92 | T7: 59.98 | U7: 82.92 | V7: 68.16 | W7: 94.23 | X7: 68.16 | Y7: 94.23 | Z7: 72.27 | AA7: 99.91 | AB7: 72.27 | AC7: 99.91 | AD7: 72.7 | AE7: 100.5 | AF7: 72.7 | AG7: 100.5 | AH7: 73.15 | AI7: 101.13 | AJ7: 73.15 | AK7: 101.13 | AL7: 74.05 | AM7: 102.37 | AN7: 74.05 | AO7: 102.37 | AP7: 74.51 | AQ7: 103.01 | AR7: 74.51 | AS7: 103.01 | AT7: 74.98 | AU7: 103.66 | AV7: 74.98 | AW7: 103.66 | AX7: 75.45 | AY7: 104.31 | AZ7: 75.45 | BA7: 104.31 | BB7: 75.92 | BC7: 104.95 | BD7: 75.92 | BE7: 104.95 | BF7: 76.9 | BG7: 106.31 | BH7: 76.9 | BI7: 106.31 | BJ7: 77.39 | BK7: 106.99 | BL7: 77.39 | BM7: 106.99 | BN7: 77.9 | BO7: 107.69 | BP7: 77.9 | BQ7: 107.69 | BR7: Não | BS7: Não | BT7: Não | BU7: Não | BV7: 0 | BW7: Positiva | BX7: Não | BY7: Tarja Vermelha
A8: 11.643.096/0004-75 | B8: Viatris Farmacêutica do Brasil Ltda. | C8: 11.643.096/0001-22 | D8: VIATRIS FARMACEUTICA DO BRASIL LTDA | E8: 541525040033117 | F8: 1883001050019 | G8: 7898560666971 | H8: 7908236800858 | I8: 400569708 | J8: 400579067 | K8: LATANOPROSTA | L8: XALATAN | M8: 50 MCG/ML SOL OFT CT FR PLAS TRANS GOT X 2,5 ML | N8: XALATAN50 MCG/ML SOL OFT CT FR PLAS TRANS GOT X 2,5 ML | O8: Prostaglandinas | P8: Referência | Q8: MONITORADO | R8: 150.07 | S8: 207.46 | T8: 150.07 | U8: 207.46 | V8: 170.53 | W8: 235.75 | X8: 170.53 | Y8: 235.75 | Z8: 180.81 | AA8: 249.96 | AB8: 180.81 | AC8: 249.96 | AD8: 181.9 | AE8: 251.47 | AF8: 181.9 | AG8: 251.47 | AH8: 183.01 | AI8: 253 | AJ8: 183.01 | AK8: 253 | AL8: 185.27 | AM8: 256.12 | AN8: 185.27 | AO8: 256.12 | AP8: 186.42 | AQ8: 257.71 | AR8: 186.42 | AS8: 257.71 | AT8: 187.59 | AU8: 259.33 | AV8: 187.59 | AW8: 259.33 | AX8: 188.77 | AY8: 260.96 | AZ8: 188.77 | BA8: 260.96 | BB8: 189.96 | BC8: 262.61 | BD8: 189.96 | BE8: 262.61 | BF8: 192.4 | BG8: 265.98 | BH8: 192.4 | BI8: 265.98 | BJ8: 193.64 | BK8: 267.7 | BL8: 193.64 | BM8: 267.7 | BN8: 194.9 | BO8: 269.44 | BP8: 194.9 | BQ8: 269.44 | BR8: Não | BS8: Sim | BT8: Sim | BU8: Não | BV8: 0 | BW8: Positiva | BX8: Não | BY8: TVTarja Vermelha
A9: 11.643.096/0004-75 | B9: Viatris Farmacêutica do Brasil Ltda. | C9: 11.643.096/0001-22 | D9: VIATRIS FARMACEUTICA DO BRASIL LTDA | E9: 541525040033017 | F9: 1883001030018 | G9: 7898560666964 | H9: 7908236800841 | I9: 400569707 | J9: 400579061 | K9: MALEATO DE TIMOLOL;LATANOPROSTA | L9: XALACOM | M9: 50 MCG/ML + 5 MG/ML SOL OFT CT FR GOT PLAS TRANS X 2,5 ML | N9: XALACOM50 MCG/ML + 5 MG/ML SOL OFT CT FR GOT PLAS TRANS X 2,5 ML | O9: Antiglaucomatosos | P9: Referência | Q9: MONITORADO | R9: 168.61 | S9: 233.09 | T9: 168.61 | U9: 233.09 | V9: 191.6 | W9: 264.88 | X9: 191.6 | Y9: 264.88 | Z9: 203.14 | AA9: 280.83 | AB9: 203.14 | AC9: 280.83 | AD9: 204.38 | AE9: 282.54 | AF9: 204.38 | AG9: 282.54 | AH9: 205.62 | AI9: 284.26 | AJ9: 205.62 | AK9: 284.26 | AL9: 208.16 | AM9: 287.77 | AN9: 208.16 | AO9: 287.77 | AP9: 209.45 | AQ9: 289.55 | AR9: 209.45 | AS9: 289.55 | AT9: 210.76 | AU9: 291.36 | AV9: 210.76 | AW9: 291.36 | AX9: 212.09 | AY9: 293.2 | AZ9: 212.09 | BA9: 293.2 | BB9: 213.43 | BC9: 295.05 | BD9: 213.43 | BE9: 295.05 | BF9: 216.17 | BG9: 298.84 | BH9: 216.17 | BI9: 298.84 | BJ9: 217.56 | BK9: 300.76 | BL9: 217.56 | BM9: 300.76 | BN9: 218.97 | BO9: 302.71 | BP9: 218.97 | BQ9: 302.71 | BR9: Não | BS9: Não | BT9: Não | BU9: Não | BV9: 0 | BW9: Positiva | BX9: Não | BY9: TVTarja Vermelha
A10: 11.643.096/0004-75 | B10: Viatris Farmacêutica do Brasil Ltda. | C10: 11.643.096/0001-22 | D10: VIATRIS FARMACEUTICA DO BRASIL LTDA | E10: 541525040032317 | F10: 1883001010025 | G10: 7898560666896 | H10: 7908236800919 | I10: 400570996 | J10: 400579039 | K10: PREGABALINA | L10: LYRICA | M10: 25 MG CAP DURA CT BL AL PLAS PVC TRANS X 14 | N10: LYRICA25 MG CAP DURA CT BL AL PLAS PVC TRANS X 14 | O10: N3A - ANTIEPILÉPTICOS | P10: Novo | Q10: Regulado | R10: 15.94 | S10: 22.04 | T10: 15.94 | U10: 22.04 | V10: 18.11 | W10: 25.04 | X10: 18.11 | Y10: 25.04 | Z10: 19.2 | AA10: 26.54 | AB10: 19.2 | AC10: 26.54 | AD10: 19.32 | AE10: 26.71 | AF10: 19.32 | AG10: 26.71 | AH10: 19.44 | AI10: 26.87 | AJ10: 19.44 | AK10: 26.87 | AL10: 19.68 | AM10: 27.21 | AN10: 19.68 | AO10: 27.21 | AP10: 19.8 | AQ10: 27.37 | AR10: 19.8 | AS10: 27.37 | AT10: 19.93 | AU10: 27.55 | AV10: 19.93 | AW10: 27.55 | AX10: 20.05 | AY10: 27.72 | AZ10: 20.05 | BA10: 27.72 | BB10: 20.18 | BC10: 27.9 | BD10: 20.18 | BE10: 27.9 | BF10: 20.44 | BG10: 28.26 | BH10: 20.44 | BI10: 28.26 | BJ10: 20.57 | BK10: 28.44 | BL10: 20.57 | BM10: 28.44 | BN10: 20.7 | BO10: 28.62 | BP10: 20.7 | BQ10: 28.62 | BR10: Não | BS10: Não | BT10: Não | BU10: Não | BV10: 0 | BW10: Positiva | BX10: Não | BY10: Tarja Vermelha sob restrição
A11: 11.643.096/0004-75 | B11: Viatris Farmacêutica do Brasil Ltda. | C11: 11.643.096/0001-22 | D11: VIATRIS FARMACEUTICA DO BRASIL LTDA | E11: 541525040032417 | F11: 1883001010076 | G11: 7898560666902 | H11: 7908236800926 | I11: 400570997 | J11: 400579038 | K11: PREGABALINA | L11: LYRICA | M11: 75 MG CAP DURA CT BL AL PLAS PVC TRANS X 14 | N11: LYRICA75 MG CAP DURA CT BL AL PLAS PVC TRANS X 14 | O11: N3A - ANTIEPILÉPTICOS | P11: Novo | Q11: Regulado | R11: 65.57 | S11: 90.65 | T11: 65.57 | U11: 90.65 | V11: 74.51 | W11: 103.01 | X11: 74.51 | Y11: 103.01 | Z11: 79 | AA11: 109.21 | AB11: 79 | AC11: 109.21 | AD11: 79.48 | AE11: 109.88 | AF11: 79.48 | AG11: 109.88 | AH11: 79.96 | AI11: 110.54 | AJ11: 79.96 | AK11: 110.54 | AL11: 80.95 | AM11: 111.91 | AN11: 80.95 | AO11: 111.91 | AP11: 81.45 | AQ11: 112.6 | AR11: 81.45 | AS11: 112.6 | AT11: 81.96 | AU11: 113.3 | AV11: 81.96 | AW11: 113.3 | AX11: 82.48 | AY11: 114.02 | AZ11: 82.48 | BA11: 114.02 | BB11: 83 | BC11: 114.74 | BD11: 83 | BE11: 114.74 | BF11: 84.06 | BG11: 116.21 | BH11: 84.06 | BI11: 116.21 | BJ11: 84.61 | BK11: 116.97 | BL11: 84.61 | BM11: 116.97 | BN11: 85.16 | BO11: 117.73 | BP11: 85.16 | BQ11: 117.73 | BR11: Não | BS11: Não | BT11: Não | BU11: Não | BV11: 0 | BW11: Positiva | BX11: Não | BY11: Tarja Vermelha sob restrição
A12: 11.643.096/0004-75 | B12: Viatris Farmacêutica do Brasil Ltda. | C12: 11.643.096/0001-22 | D12: VIATRIS FARMACEUTICA DO BRASIL LTDA | E12: 541525040032517 | F12: 1883001010092 | G12: 7898560666919 | H12: 7908236800933 | I12: 400570998 | J12: 400579037 | K12: PREGABALINA | L12: LYRICA | M12: 75 MG CAP DURA CT BL AL PLAS PVC TRANS X 28 | N12: LYRICA75 MG CAP DURA CT BL AL PLAS PVC TRANS X 28 | O12: N3A - ANTIEPILÉPTICOS | P12: Novo | Q12: Regulado | R12: 131.13 | S12: 181.28 | T12: 131.13 | U12: 181.28 | V12: 149.01 | W12: 206 | X12: 149.01 | Y12: 206 | Z12: 157.99 | AA12: 218.41 | AB12: 157.99 | AC12: 218.41 | AD12: 158.95 | AE12: 219.74 | AF12: 158.95 | AG12: 219.74 | AH12: 159.91 | AI12: 221.07 | AJ12: 159.91 | AK12: 221.07 | AL12: 161.89 | AM12: 223.8 | AN12: 161.89 | AO12: 223.8 | AP12: 162.89 | AQ12: 225.19 | AR12: 162.89 | AS12: 225.19 | AT12: 163.91 | AU12: 226.6 | AV12: 163.91 | AW12: 226.6 | AX12: 164.94 | AY12: 228.02 | AZ12: 164.94 | BA12: 228.02 | BB12: 165.99 | BC12: 229.47 | BD12: 165.99 | BE12: 229.47 | BF12: 168.12 | BG12: 232.42 | BH12: 168.12 | BI12: 232.42 | BJ12: 169.2 | BK12: 233.91 | BL12: 169.2 | BM12: 233.91 | BN12: 170.3 | BO12: 235.43 | BP12: 170.3 | BQ12: 235.43 | BR12: Não | BS12: Não | BT12: Não | BU12: Não | BV12: 0 | BW12: Positiva | BX12: Não | BY12: Tarja Vermelha sob restrição
A13: 11.643.096/0004-75 | B13: Viatris Farmacêutica do Brasil Ltda. | C13: 11.643.096/0001-22 | D13: VIATRIS FARMACEUTICA DO BRASIL LTDA | E13: 541525040032817 | F13: 1883001010149 | G13: 7898560666889 | H13: 7908236800902 | I13: 400570995 | J13: 400579036 | K13: PREGABALINA | L13: LYRICA | M13: 150 MG CAP DURA CT BL AL PLAS PVC TRANS X 28 | N13: LYRICA150 MG CAP DURA CT BL AL PLAS PVC TRANS X 28 | O13: N3A - ANTIEPILÉPTICOS | P13: Novo | Q13: Regulado | R13: 201.08 | S13: 277.98 | T13: 201.08 | U13: 277.98 | V13: 228.5 | W13: 315.89 | X13: 228.5 | Y13: 315.89 | Z13: 242.27 | AA13: 334.92 | AB13: 242.27 | AC13: 334.92 | AD13: 243.73 | AE13: 336.94 | AF13: 243.73 | AG13: 336.94 | AH13: 245.22 | AI13: 339 | AJ13: 245.22 | AK13: 339 | AL13: 248.25 | AM13: 343.19 | AN13: 248.25 | AO13: 343.19 | AP13: 249.79 | AQ13: 345.32 | AR13: 249.79 | AS13: 345.32 | AT13: 251.35 | AU13: 347.48 | AV13: 251.35 | AW13: 347.48 | AX13: 252.93 | AY13: 349.66 | AZ13: 252.93 | BA13: 349.66 | BB13: 254.53 | BC13: 351.87 | BD13: 254.53 | BE13: 351.87 | BF13: 257.79 | BG13: 356.38 | BH13: 257.79 | BI13: 356.38 | BJ13: 259.46 | BK13: 358.69 | BL13: 259.46 | BM13: 358.69 | BN13: 261.14 | BO13: 361.01 | BP13: 261.14 | BQ13: 361.01 | BR13: Não | BS13: Não | BT13: Não | BU13: Não | BV13: 0 | BW13: Positiva | BX13: Não | BY13: Tarja Vermelha sob restrição
A14: 11.643.096/0004-75 | B14: Viatris Farmacêutica do Brasil Ltda. | C14: 11.643.096/0001-22 | D14: VIATRIS FARMACEUTICA DO BRASIL LTDA | E14: 541523050027717 | F14: 1883000910022 | G14: 7908236800643 | H14: =VLOOKUP(E14,'[2]VIATRIS '!$D$1:$F$65536,3,0) -> 7908236800643 | I14: 400569615 | J14: #N/A | K14: ALPRAZOLAM | L14: FRONTAL | M14: 0,25 MG COM CT BL AL PLAS TRANS X 30 | N14: FRONTAL0,25 MG COM CT BL AL PLAS TRANS X 30 | O14: N5C - TRANQUILIZANTES | P14: Novo | Q14: Regulado | R14: 22.03 | S14: 30.46 | T14: 22.03 | U14: 30.46 | V14: 25.03 | W14: 34.6 | X14: 25.03 | Y14: 34.6 | Z14: 26.54 | AA14: 36.69 | AB14: 26.54 | AC14: 36.69 | AD14: 26.7 | AE14: 36.91 | AF14: 26.7 | AG14: 36.91 | AH14: 26.87 | AI14: 37.15 | AJ14: 26.87 | AK14: 37.15 | AL14: 27.2 | AM14: 37.6 | AN14: 27.2 | AO14: 37.6 | AP14: 27.37 | AQ14: 37.84 | AR14: 27.37 | AS14: 37.84 | AT14: 27.54 | AU14: 38.07 | AV14: 27.54 | AW14: 38.07 | AX14: 27.71 | AY14: 38.31 | AZ14: 27.71 | BA14: 38.31 | BB14: 27.89 | BC14: 38.56 | BD14: 27.89 | BE14: 38.56 | BF14: 28.24 | BG14: 39.04 | BH14: 28.24 | BI14: 39.04 | BJ14: 28.43 | BK14: 39.3 | BL14: 28.43 | BM14: 39.3 | BN14: 28.61 | BO14: 39.55 | BP14: 28.61 | BQ14: 39.55 | BR14: Não | BS14: Não | BT14: Não | BU14: Não | BV14: 0 | BW14: Positiva | BX14: Não | BY14: Tarja Preta
A15: 11.643.096/0004-75 | B15: Viatris Farmacêutica do Brasil Ltda. | C15: 11.643.096/0001-22 | D15: VIATRIS FARMACEUTICA DO BRASIL LTDA | E15: 541523050027817 | F15: 1883000910049 | G15: 7908236800650 | H15: =VLOOKUP(E15,'[2]VIATRIS '!$D$1:$F$65536,3,0) -> 7908236800650 | I15: 400569616 | J15: #N/A | K15: ALPRAZOLAM | L15: FRONTAL | M15: 0,5 MG COM CT BL AL PLAS TRANS X 30 | N15: FRONTAL0,5 MG COM CT BL AL PLAS TRANS X 30 | O15: N5C - TRANQUILIZANTES | P15: Novo | Q15: Regulado | R15: 42.97 | S15: 59.4 | T15: 42.97 | U15: 59.4 | V15: 48.83 | W15: 67.5 | X15: 48.83 | Y15: 67.5 | Z15: 51.77 | AA15: 71.57 | AB15: 51.77 | AC15: 71.57 | AD15: 52.08 | AE15: 72 | AF15: 52.08 | AG15: 72 | AH15: 52.4 | AI15: 72.44 | AJ15: 52.4 | AK15: 72.44 | AL15: 53.05 | AM15: 73.34 | AN15: 53.05 | AO15: 73.34 | AP15: 53.38 | AQ15: 73.79 | AR15: 53.38 | AS15: 73.79 | AT15: 53.71 | AU15: 74.25 | AV15: 53.71 | AW15: 74.25 | AX15: 54.05 | AY15: 74.72 | AZ15: 54.05 | BA15: 74.72 | BB15: 54.39 | BC15: 75.19 | BD15: 54.39 | BE15: 75.19 | BF15: 55.09 | BG15: 76.16 | BH15: 55.09 | BI15: 76.16 | BJ15: 55.45 | BK15: 76.66 | BL15: 55.45 | BM15: 76.66 | BN15: 55.81 | BO15: 77.15 | BP15: 55.81 | BQ15: 77.15 | BR15: Não | BS15: Não | BT15: Não | BU15: Não | BV15: 0 | BW15: Positiva | BX15: Não | BY15: Tarja Preta
A16: 11.643.096/0004-75 | B16: Viatris Farmacêutica do Brasil Ltda. | C16: 11.643.096/0001-22 | D16: VIATRIS FARMACEUTICA DO BRASIL LTDA | E16: 541523050027917 | F16: 1883000910065 | G16: 7908236800667 | H16: =VLOOKUP(E16,'[2]VIATRIS '!$D$1:$F$65536,3,0) -> 7908236800667 | I16: 400569617 | J16: #N/A | K16: ALPRAZOLAM | L16: FRONTAL | M16: 1 MG COM CT BL AL PLAS TRANS X 30 | N16: FRONTAL1 MG COM CT BL AL PLAS TRANS X 30 | O16: N5C - TRANQUILIZANTES | P16: Novo | Q16: Regulado | R16: 76.38 | S16: 105.59 | T16: 76.38 | U16: 105.59 | V16: 86.8 | W16: 120 | X16: 86.8 | Y16: 120 | Z16: 92.02 | AA16: 127.21 | AB16: 92.02 | AC16: 127.21 | AD16: 92.58 | AE16: 127.99 | AF16: 92.58 | AG16: 127.99 | AH16: 93.15 | AI16: 128.77 | AJ16: 93.15 | AK16: 128.77 | AL16: 94.3 | AM16: 130.36 | AN16: 94.3 | AO16: 130.36 | AP16: 94.88 | AQ16: 131.17 | AR16: 94.88 | AS16: 131.17 | AT16: 95.48 | AU16: 132 | AV16: 95.48 | AW16: 132 | AX16: 96.08 | AY16: 132.82 | AZ16: 96.08 | BA16: 132.82 | BB16: 96.68 | BC16: 133.65 | BD16: 96.68 | BE16: 133.65 | BF16: 97.92 | BG16: 135.37 | BH16: 97.92 | BI16: 135.37 | BJ16: 98.55 | BK16: 136.24 | BL16: 98.55 | BM16: 136.24 | BN16: 99.19 | BO16: 137.12 | BP16: 99.19 | BQ16: 137.12 | BR16: Não | BS16: Não | BT16: Não | BU16: Não | BV16: 0 | BW16: Positiva | BX16: Não | BY16: Tarja Preta
A17: 11.643.096/0004-75 | B17: Viatris Farmacêutica do Brasil Ltda. | C17: 11.643.096/0001-22 | D17: VIATRIS FARMACEUTICA DO BRASIL LTDA | E17: 541523050028017 | F17: 1883000910073 | G17: 7908236800674 | H17: =VLOOKUP(E17,'[2]VIATRIS '!$D$1:$F$65536,3,0) -> 7908236800674 | I17: 400569618 | J17: #N/A | K17: ALPRAZOLAM | L17: FRONTAL | M17: 2 MG COM CT FR VD AMB X 30 | N17: FRONTAL2 MG COM CT FR VD AMB X 30 | O17: N5C - TRANQUILIZANTES | P17: Novo | Q17: Regulado | R17: 120.81 | S17: 167.01 | T17: 120.81 | U17: 167.01 | V17: 137.28 | W17: 189.78 | X17: 137.28 | Y17: 189.78 | Z17: 145.55 | AA17: 201.21 | AB17: 145.55 | AC17: 201.21 | AD17: 146.44 | AE17: 202.44 | AF17: 146.44 | AG17: 202.44 | AH17: 147.33 | AI17: 203.68 | AJ17: 147.33 | AK17: 203.68 | AL17: 149.15 | AM17: 206.19 | AN17: 149.15 | AO17: 206.19 | AP17: 150.07 | AQ17: 207.46 | AR17: 150.07 | AS17: 207.46 | AT17: 151.01 | AU17: 208.76 | AV17: 151.01 | AW17: 208.76 | AX17: 151.96 | AY17: 210.08 | AZ17: 151.96 | BA17: 210.08 | BB17: 152.92 | BC17: 211.4 | BD17: 152.92 | BE17: 211.4 | BF17: 154.88 | BG17: 214.11 | BH17: 154.88 | BI17: 214.11 | BJ17: 155.88 | BK17: 215.49 | BL17: 155.88 | BM17: 215.49 | BN17: 156.9 | BO17: 216.91 | BP17: 156.9 | BQ17: 216.91 | BR17: Não | BS17: Não | BT17: Não | BU17: Não | BV17: 0 | BW17: Positiva | BX17: Não | BY17: Tarja Preta
A18: 11.643.096/0004-75 | B18: Viatris Farmacêutica do Brasil Ltda. | C18: 11.643.096/0001-22 | D18: VIATRIS FARMACEUTICA DO BRASIL LTDA | E18: 541523050028117 | F18: 1883000910081 | G18: 7908236800728 | H18: =VLOOKUP(E18,'[2]VIATRIS '!$D$1:$F$65536,3,0) -> 7908236800728 | I18: 400569709 | J18: #N/A | K18: ALPRAZOLAM | L18: FRONTAL | M18: 0,5 MG COM LIB PROL CT BL AL/AL X 30 | N18: FRONTAL0,5 MG COM LIB PROL CT BL AL/AL X 30 | O18: N5C - TRANQUILIZANTES | P18: Novo | Q18: Regulado | R18: 42.97 | S18: 59.4 | T18: 42.97 | U18: 59.4 | V18: 48.83 | W18: 67.5 | X18: 48.83 | Y18: 67.5 | Z18: 51.77 | AA18: 71.57 | AB18: 51.77 | AC18: 71.57 | AD18: 52.08 | AE18: 72 | AF18: 52.08 | AG18: 72 | AH18: 52.4 | AI18: 72.44 | AJ18: 52.4 | AK18: 72.44 | AL18: 53.05 | AM18: 73.34 | AN18: 53.05 | AO18: 73.34 | AP18: 53.38 | AQ18: 73.79 | AR18: 53.38 | AS18: 73.79 | AT18: 53.71 | AU18: 74.25 | AV18: 53.71 | AW18: 74.25 | AX18: 54.05 | AY18: 74.72 | AZ18: 54.05 | BA18: 74.72 | BB18: 54.39 | BC18: 75.19 | BD18: 54.39 | BE18: 75.19 | BF18: 55.09 | BG18: 76.16 | BH18: 55.09 | BI18: 76.16 | BJ18: 55.45 | BK18: 76.66 | BL18: 55.45 | BM18: 76.66 | BN18: 55.81 | BO18: 77.15 | BP18: 55.81 | BQ18: 77.15 | BR18: Não | BS18: Não | BT18: Não | BU18: Não | BV18: 0 | BW18: Positiva | BX18: Não | BY18: Tarja Preta
A19: 11.643.096/0004-75 | B19: Viatris Farmacêutica do Brasil Ltda. | C19: 11.643.096/0001-22 | D19: VIATRIS FARMACEUTICA DO BRASIL LTDA | E19: 541523050028217 | F19: 1883000910091 | G19: 7908236800735 | H19: =VLOOKUP(E19,'[2]VIATRIS '!$D$1:$F$65536,3,0) -> 7908236800735 | I19: 400569710 | J19: #N/A | K19: ALPRAZOLAM | L19: FRONTAL | M19: 1 MG COM LIB PROL CT BL AL/AL X 30 | N19: FRONTAL1 MG COM LIB PROL CT BL AL/AL X 30 | O19: N5C - TRANQUILIZANTES | P19: Novo | Q19: Regulado | R19: 76.38 | S19: 105.59 | T19: 76.38 | U19: 105.59 | V19: 86.8 | W19: 120 | X19: 86.8 | Y19: 120 | Z19: 92.02 | AA19: 127.21 | AB19: 92.02 | AC19: 127.21 | AD19: 92.58 | AE19: 127.99 | AF19: 92.58 | AG19: 127.99 | AH19: 93.15 | AI19: 128.77 | AJ19: 93.15 | AK19: 128.77 | AL19: 94.3 | AM19: 130.36 | AN19: 94.3 | AO19: 130.36 | AP19: 94.88 | AQ19: 131.17 | AR19: 94.88 | AS19: 131.17 | AT19: 95.48 | AU19: 132 | AV19: 95.48 | AW19: 132 | AX19: 96.08 | AY19: 132.82 | AZ19: 96.08 | BA19: 132.82 | BB19: 96.68 | BC19: 133.65 | BD19: 96.68 | BE19: 133.65 | BF19: 97.92 | BG19: 135.37 | BH19: 97.92 | BI19: 135.37 | BJ19: 98.55 | BK19: 136.24 | BL19: 98.55 | BM19: 136.24 | BN19: 99.19 | BO19: 137.12 | BP19: 99.19 | BQ19: 137.12 | BR19: Não | BS19: Não | BT19: Não | BU19: Não | BV19: 0 | BW19: Positiva | BX19: Não | BY19: Tarja Preta
A20: 11.643.096/0004-75 | B20: Viatris Farmacêutica do Brasil Ltda. | C20: 11.643.096/0001-22 | D20: VIATRIS FARMACEUTICA DO BRASIL LTDA | E20: 541523050028317 | F20: 1883000910103 | G20: 7908236800742 | H20: =VLOOKUP(E20,'[2]VIATRIS '!$D$1:$F$65536,3,0) -> 7908236800742 | I20: 400569711 | J20: #N/A | K20: ALPRAZOLAM | L20: FRONTAL | M20: 2 MG COM LIB PROL CT BL AL/AL X 30 | N20: FRONTAL2 MG COM LIB PROL CT BL AL/AL X 30 | O20: N5C - TRANQUILIZANTES | P20: Novo | Q20: Regulado | R20: 120.81 | S20: 167.01 | T20: 120.81 | U20: 167.01 | V20: 137.28 | W20: 189.78 | X20: 137.28 | Y20: 189.78 | Z20: 145.55 | AA20: 201.21 | AB20: 145.55 | AC20: 201.21 | AD20: 146.44 | AE20: 202.44 | AF20: 146.44 | AG20: 202.44 | AH20: 147.33 | AI20: 203.68 | AJ20: 147.33 | AK20: 203.68 | AL20: 149.15 | AM20: 206.19 | AN20: 149.15 | AO20: 206.19 | AP20: 150.07 | AQ20: 207.46 | AR20: 150.07 | AS20: 207.46 | AT20: 151.01 | AU20: 208.76 | AV20: 151.01 | AW20: 208.76 | AX20: 151.96 | AY20: 210.08 | AZ20: 151.96 | BA20: 210.08 | BB20: 152.92 | BC20: 211.4 | BD20: 152.92 | BE20: 211.4 | BF20: 154.88 | BG20: 214.11 | BH20: 154.88 | BI20: 214.11 | BJ20: 155.88 | BK20: 215.49 | BL20: 155.88 | BM20: 215.49 | BN20: 156.9 | BO20: 216.91 | BP20: 156.9 | BQ20: 216.91 | BR20: Não | BS20: Não | BT20: Não | BU20: Não | BV20: 0 | BW20: Positiva | BX20: Não | BY20: Tarja Preta
A21: 05.656.727/0001-45 | B21: Viatris Brasil Imp. e Distrib. Medicamentos Ltda. | C21: 11.643.096/0001-22 | D21: VIATRIS FARMACEUTICA DO BRASIL LTDA | E21: 541523110031004 | F21: 1883000990018 | G21: 7898560665349 | H21: =VLOOKUP(E21,'[2]VIATRIS '!$D$1:$F$65536,3,0) -> 7898560665349 | I21: NÃO COMERCILIZA NO MOMENTO | J21: =I21 -> NÃO COMERCILIZA NO MOMENTO | K21: APIXABANA | L21: EKNUS | M21: 2,5 MG COM REV CT BL AL PLAS PVC/PVDC TRANS X 10 | N21: EKNUS2,5 MG COM REV CT BL AL PLAS PVC/PVDC TRANS X 10 | O21: B1F - INIBIDORES DIRETOS DO FATOR XA | P21: Similar | Q21: Regulado | R21: 39.77 | S21: 54.98 | T21: 39.77 | U21: 54.98 | V21: 45.19 | W21: 62.47 | X21: 45.19 | Y21: 62.47 | Z21: 47.92 | AA21: 66.25 | AB21: 47.92 | AC21: 66.25 | AD21: 48.21 | AE21: 66.65 | AF21: 48.21 | AG21: 66.65 | AH21: 48.5 | AI21: 67.05 | AJ21: 48.5 | AK21: 67.05 | AL21: 49.1 | AM21: 67.88 | AN21: 49.1 | AO21: 67.88 | AP21: 49.4 | AQ21: 68.29 | AR21: 49.4 | AS21: 68.29 | AT21: 49.71 | AU21: 68.72 | AV21: 49.71 | AW21: 68.72 | AX21: 50.03 | AY21: 69.16 | AZ21: 50.03 | BA21: 69.16 | BB21: 50.34 | BC21: 69.59 | BD21: 50.34 | BE21: 69.59 | BF21: 50.99 | BG21: 70.49 | BH21: 50.99 | BI21: 70.49 | BJ21: 51.32 | BK21: 70.95 | BL21: 51.32 | BM21: 70.95 | BN21: 51.65 | BO21: 71.4 | BP21: 51.65 | BQ21: 71.4 | BR21: Não | BS21: Não | BT21: Não | BU21: Não | BV21: 0 | BW21: Positiva | BX21: Não | BY21: Tarja Vermelha
A22: 05.656.727/0001-45 | B22: Viatris Brasil Imp. e Distrib. Medicamentos Ltda. | C22: 11.643.096/0001-22 | D22: VIATRIS FARMACEUTICA DO BRASIL LTDA | E22: 541523110031104 | F22: 1883000990026 | G22: 7898560665363 | H22: =VLOOKUP(E22,'[2]VIATRIS '!$D$1:$F$65536,3,0) -> 7898560665363 | I22: 400575153 | J22: #N/A | K22: APIXABANA | L22: EKNUS | M22: 2,5 MG COM REV CT BL AL PLAS PVC/PVDC TRANS X 20 | N22: EKNUS2,5 MG COM REV CT BL AL PLAS PVC/PVDC TRANS X 20 | O22: B1F - INIBIDORES DIRETOS DO FATOR XA | P22: Similar | Q22: Regulado | R22: 79.54 | S22: 109.96 | T22: 79.54 | U22: 109.96 | V22: 90.39 | W22: 124.96 | X22: 90.39 | Y22: 124.96 | Z22: 95.83 | AA22: 132.48 | AB22: 95.83 | AC22: 132.48 | AD22: 96.41 | AE22: 133.28 | AF22: 96.41 | AG22: 133.28 | AH22: 97 | AI22: 134.1 | AJ22: 97 | AK22: 134.1 | AL22: 98.2 | AM22: 135.76 | AN22: 98.2 | AO22: 135.76 | AP22: 98.81 | AQ22: 136.6 | AR22: 98.81 | AS22: 136.6 | AT22: 99.43 | AU22: 137.46 | AV22: 99.43 | AW22: 137.46 | AX22: 100.05 | AY22: 138.31 | AZ22: 100.05 | BA22: 138.31 | BB22: 100.68 | BC22: 139.18 | BD22: 100.68 | BE22: 139.18 | BF22: 101.97 | BG22: 140.97 | BH22: 101.97 | BI22: 140.97 | BJ22: 102.63 | BK22: 141.88 | BL22: 102.63 | BM22: 141.88 | BN22: 103.3 | BO22: 142.81 | BP22: 103.3 | BQ22: 142.81 | BR22: Não | BS22: Não | BT22: Não | BU22: Não | BV22: 0 | BW22: Positiva | BX22: Não | BY22: Tarja Vermelha
A23: 05.656.727/0001-45 | B23: Viatris Brasil Imp. e Distrib. Medicamentos Ltda. | C23: 11.643.096/0001-22 | D23: VIATRIS FARMACEUTICA DO BRASIL LTDA | E23: 541523110031204 | F23: 1883000990034 | G23: 7898560665387 | H23: =VLOOKUP(E23,'[2]VIATRIS '!$D$1:$F$65536,3,0) -> 7898560665387 | I23: 400575154 | J23: #N/A | K23: APIXABANA | L23: EKNUS | M23: 2,5 MG COM REV CT BL AL PLAS PVC/PVDC TRANS X 60 | N23: EKNUS2,5 MG COM REV CT BL AL PLAS PVC/PVDC TRANS X 60 | O23: B1F - INIBIDORES DIRETOS DO FATOR XA | P23: Similar | Q23: Regulado | R23: 238.62 | S23: 329.88 | T23: 238.62 | U23: 329.88 | V23: 271.16 | W23: 374.86 | X23: 271.16 | Y23: 374.86 | Z23: 287.49 | AA23: 397.44 | AB23: 287.49 | AC23: 397.44 | AD23: 289.24 | AE23: 399.86 | AF23: 289.24 | AG23: 399.86 | AH23: 291 | AI23: 402.29 | AJ23: 291 | AK23: 402.29 | AL23: 294.59 | AM23: 407.25 | AN23: 294.59 | AO23: 407.25 | AP23: 296.42 | AQ23: 409.78 | AR23: 296.42 | AS23: 409.78 | AT23: 298.28 | AU23: 412.35 | AV23: 298.28 | AW23: 412.35 | AX23: 300.15 | AY23: 414.94 | AZ23: 300.15 | BA23: 414.94 | BB23: 302.05 | BC23: 417.57 | BD23: 302.05 | BE23: 417.57 | BF23: 305.92 | BG23: 422.92 | BH23: 305.92 | BI23: 422.92 | BJ23: 307.9 | BK23: 425.65 | BL23: 307.9 | BM23: 425.65 | BN23: 309.9 | BO23: 428.42 | BP23: 309.9 | BQ23: 428.42 | BR23: Não | BS23: Não | BT23: Não | BU23: Não | BV23: 0 | BW23: Positiva | BX23: Não | BY23: Tarja Vermelha
A24: 05.656.727/0001-45 | B24: Viatris Brasil Imp. e Distrib. Medicamentos Ltda. | C24: 11.643.096/0001-22 | D24: VIATRIS FARMACEUTICA DO BRASIL LTDA | E24: 541523110031304 | F24: 1883000990042 | G24: 7898560665356 | H24: =VLOOKUP(E24,'[2]VIATRIS '!$D$1:$F$65536,3,0) -> 7898560665356 | I24: NÃO COMERCILIZA NO MOMENTO | J24: =I24 -> NÃO COMERCILIZA NO MOMENTO | K24: APIXABANA | L24: EKNUS | M24: 5,0 MG COM REV CT BL AL PLAS PVC/PVDC TRANS X 10 | N24: EKNUS5,0 MG COM REV CT BL AL PLAS PVC/PVDC TRANS X 10 | O24: B1F - INIBIDORES DIRETOS DO FATOR XA | P24: Similar | Q24: Regulado | R24: 41.32 | S24: 57.12 | T24: 41.32 | U24: 57.12 | V24: 46.95 | W24: 64.91 | X24: 46.95 | Y24: 64.91 | Z24: 49.78 | AA24: 68.82 | AB24: 49.78 | AC24: 68.82 | AD24: 50.08 | AE24: 69.23 | AF24: 50.08 | AG24: 69.23 | AH24: 50.39 | AI24: 69.66 | AJ24: 50.39 | AK24: 69.66 | AL24: 51.01 | AM24: 70.52 | AN24: 51.01 | AO24: 70.52 | AP24: 51.33 | AQ24: 70.96 | AR24: 51.33 | AS24: 70.96 | AT24: 51.65 | AU24: 71.4 | AV24: 51.65 | AW24: 71.4 | AX24: 51.97 | AY24: 71.85 | AZ24: 51.97 | BA24: 71.85 | BB24: 52.3 | BC24: 72.3 | BD24: 52.3 | BE24: 72.3 | BF24: 52.97 | BG24: 73.23 | BH24: 52.97 | BI24: 73.23 | BJ24: 53.32 | BK24: 73.71 | BL24: 53.32 | BM24: 73.71 | BN24: 53.66 | BO24: 74.18 | BP24: 53.66 | BQ24: 74.18 | BR24: Não | BS24: Não | BT24: Não | BU24: Não | BV24: 0 | BW24: Positiva | BX24: Não | BY24: Tarja Vermelha
A25: 05.656.727/0001-45 | B25: Viatris Brasil Imp. e Distrib. Medicamentos Ltda. | C25: 11.643.096/0001-22 | D25: VIATRIS FARMACEUTICA DO BRASIL LTDA | E25: 541523110031404 | F25: 1883000990050 | G25: 7898560665370 | H25: =VLOOKUP(E25,'[2]VIATRIS '!$D$1:$F$65536,3,0) -> 7898560665370 | I25: 400575156 | J25: #N/A | K25: APIXABANA | L25: EKNUS | M25: 5,0 MG COM REV CT BL AL PLAS PVC/PVDC TRANS X 20 | N25: EKNUS5,0 MG COM REV CT BL AL PLAS PVC/PVDC TRANS X 20 | O25: B1F - INIBIDORES DIRETOS DO FATOR XA | P25: Similar | Q25: Regulado | R25: 82.65 | S25: 114.26 | T25: 82.65 | U25: 114.26 | V25: 93.92 | W25: 129.84 | X25: 93.92 | Y25: 129.84 | Z25: 99.58 | AA25: 137.66 | AB25: 99.58 | AC25: 137.66 | AD25: 100.18 | AE25: 138.49 | AF25: 100.18 | AG25: 138.49 | AH25: 100.79 | AI25: 139.34 | AJ25: 100.79 | AK25: 139.34 | AL25: 102.04 | AM25: 141.06 | AN25: 102.04 | AO25: 141.06 | AP25: 102.67 | AQ25: 141.94 | AR25: 102.67 | AS25: 141.94 | AT25: 103.31 | AU25: 142.82 | AV25: 103.31 | AW25: 142.82 | AX25: 103.96 | AY25: 143.72 | AZ25: 103.96 | BA25: 143.72 | BB25: 104.62 | BC25: 144.63 | BD25: 104.62 | BE25: 144.63 | BF25: 105.96 | BG25: 146.48 | BH25: 105.96 | BI25: 146.48 | BJ25: 106.65 | BK25: 147.44 | BL25: 106.65 | BM25: 147.44 | BN25: 107.34 | BO25: 148.39 | BP25: 107.34 | BQ25: 148.39 | BR25: Não | BS25: Não | BT25: Não | BU25: Não | BV25: 0 | BW25: Positiva | BX25: Não | BY25: Tarja Vermelha
A26: 05.656.727/0001-45 | B26: Viatris Brasil Imp. e Distrib. Medicamentos Ltda. | C26: 11.643.096/0001-22 | D26: VIATRIS FARMACEUTICA DO BRASIL LTDA | E26: 541523110031504 | F26: 1883000990069 | G26: 7898560665394 | H26: =VLOOKUP(E26,'[2]VIATRIS '!$D$1:$F$65536,3,0) -> 7898560665394 | I26: 400575157 | J26: #N/A | K26: APIXABANA | L26: EKNUS | M26: 5,0 MG COM REV CT BL AL PLAS PVC/PVDC TRANS X 60 | N26: EKNUS5,0 MG COM REV CT BL AL PLAS PVC/PVDC TRANS X 60 | O26: B1F - INIBIDORES DIRETOS DO FATOR XA | P26: Similar | Q26: Regulado | R26: 247.94 | S26: 342.76 | T26: 247.94 | U26: 342.76 | V26: 281.75 | W26: 389.5 | X26: 281.75 | Y26: 389.5 | Z26: 298.72 | AA26: 412.96 | AB26: 298.72 | AC26: 412.96 | AD26: 300.53 | AE26: 415.47 | AF26: 300.53 | AG26: 415.47 | AH26: 302.37 | AI26: 418.01 | AJ26: 302.37 | AK26: 418.01 | AL26: 306.1 | AM26: 423.17 | AN26: 306.1 | AO26: 423.17 | AP26: 308 | AQ26: 425.79 | AR26: 308 | AS26: 425.79 | AT26: 309.93 | AU26: 428.46 | AV26: 309.93 | AW26: 428.46 | AX26: 311.87 | AY26: 431.14 | AZ26: 311.87 | BA26: 431.14 | BB26: 313.85 | BC26: 433.88 | BD26: 313.85 | BE26: 433.88 | BF26: 317.87 | BG26: 439.44 | BH26: 317.87 | BI26: 439.44 | BJ26: 319.92 | BK26: 442.27 | BL26: 319.92 | BM26: 442.27 | BN26: 322 | BO26: 445.15 | BP26: 322 | BQ26: 445.15 | BR26: Não | BS26: Não | BT26: Não | BU26: Não | BV26: 0 | BW26: Positiva | BX26: Não | BY26: Tarja Vermelha
A27: 11.643.096/0004-75 | B27: Viatris Farmacêutica do Brasil Ltda. | C27: 11.643.096/0001-22 | D27: VIATRIS FARMACEUTICA DO BRASIL LTDA | E27: 541522040025417 | F27: 1883000840032 | G27: 7908236800544 | H27: =VLOOKUP(E27,'[2]VIATRIS '!$D$1:$F$65536,3,0) -> 7908236800544 | I27: 400569611 | J27: #N/A | K27: ATORVASTATINA CÁLCICA | L27: LIPITOR | M27: 10 MG COM REV CT BL AL/AL X 30 | N27: LIPITOR10 MG COM REV CT BL AL/AL X 30 | O27: C10A1 - ESTATINAS, INIBIDORES DA REDUTASE HMG-CoA | P27: Similar | Q27: Regulado | R27: 189.36 | S27: 170.16 | T27: 123.08 | U27: 170.16 | V27: 139.87 | W27: 193.36 | X27: 139.87 | Y27: 166.82 | Z27: 148.3 | AA27: 205.01 | AB27: 148.3 | AC27: 205.01 | AD27: 149.19 | AE27: 206.25 | AF27: 149.19 | AG27: 206.25 | AH27: 150.1 | AI27: 207.53 | AJ27: 150.1 | AK27: 207.53 | AL27: 151.96 | AM27: 210.07 | AN27: 151.96 | AO27: 210.07 | AP27: 152.9 | AQ27: 211.37 | AR27: 152.9 | AS27: 211.37 | AT27: 153.86 | AU27: 212.69 | AV27: 153.86 | AW27: 212.69 | AX27: 154.82 | AY27: 214.03 | AZ27: 154.82 | BA27: 214.03 | BB27: 155.81 | BC27: 215.39 | BD27: 155.81 | BE27: 215.39 | BF27: 157.8 | BG27: 218.15 | BH27: 157.8 | BI27: 218.15 | BJ27: 158.82 | BK27: 219.56 | BL27: 158.82 | BM27: 219.56 | BN27: 159.85 | BO27: 220.98 | BP27: 159.85 | BQ27: 220.98 | BR27: Não | BS27: Sim | BT27: Sim | BU27: Não | BV27: 0 | BW27: Positiva | BX27: Sim | BY27: Tarja Vermelha
A28: 11.643.096/0004-75 | B28: Viatris Farmacêutica do Brasil Ltda. | C28: 11.643.096/0001-22 | D28: VIATRIS FARMACEUTICA DO BRASIL LTDA | E28: 541522040025517 | F28: 1883000840067 | G28: 7908236800360 | H28: =VLOOKUP(E28,'[2]VIATRIS '!$D$1:$F$65536,3,0) -> 7908236800360 | I28: NÃO COMERCILIZA NO MOMENTO | J28: =I28 -> NÃO COMERCILIZA NO MOMENTO | K28: ATORVASTATINA CÁLCICA | L28: LIPITOR | M28: 20 MG COM REV CT BL AL/AL X 10 | N28: LIPITOR20 MG COM REV CT BL AL/AL X 10 | O28: C10A1 - ESTATINAS, INIBIDORES DA REDUTASE HMG-CoA | P28: Similar | Q28: Regulado | R28: 77.42 | S28: 69.57 | T28: 50.32 | U28: 69.57 | V28: 57.19 | W28: 79.06 | X28: 57.19 | Y28: 68.2 | Z28: 60.63 | AA28: 83.82 | AB28: 60.63 | AC28: 83.82 | AD28: 61 | AE28: 84.32 | AF28: 61 | AG28: 84.32 | AH28: 61.37 | AI28: 84.86 | AJ28: 61.37 | AK28: 84.86 | AL28: 62.13 | AM28: 85.88 | AN28: 62.13 | AO28: 85.88 | AP28: 62.51 | AQ28: 86.42 | AR28: 62.51 | AS28: 86.42 | AT28: 62.91 | AU28: 86.96 | AV28: 62.91 | AW28: 86.96 | AX28: 63.3 | AY28: 87.5 | AZ28: 63.3 | BA28: 87.5 | BB28: 63.7 | BC28: 88.06 | BD28: 63.7 | BE28: 88.06 | BF28: 64.52 | BG28: 89.19 | BH28: 64.52 | BI28: 89.19 | BJ28: 64.94 | BK28: 89.77 | BL28: 64.94 | BM28: 89.77 | BN28: 65.36 | BO28: 90.35 | BP28: 65.36 | BQ28: 90.35 | BR28: Não | BS28: Sim | BT28: Sim | BU28: Não | BV28: 0 | BW28: Positiva | BX28: Não | BY28: Tarja Vermelha
A29: 11.643.096/0004-75 | B29: Viatris Farmacêutica do Brasil Ltda. | C29: 11.643.096/0001-22 | D29: VIATRIS FARMACEUTICA DO BRASIL LTDA | E29: 541522040025617 | F29: 1883000840083 | G29: 7908236800483 | H29: =VLOOKUP(E29,'[2]VIATRIS '!$D$1:$F$65536,3,0) -> 7908236800483 | I29: 400569610 | J29: #N/A | K29: ATORVASTATINA CÁLCICA | L29: LIPITOR | M29: 20 MG COM REV CT BL AL/AL X 30 | N29: LIPITOR20 MG COM REV CT BL AL/AL X 30 | O29: C10A1 - ESTATINAS, INIBIDORES DA REDUTASE HMG-CoA | P29: Similar | Q29: Regulado | R29: 232.2 | S29: 208.65 | T29: 150.93 | U29: 208.65 | V29: 171.51 | W29: 237.1 | X29: 171.51 | Y29: 204.56 | Z29: 181.84 | AA29: 251.39 | AB29: 181.84 | AC29: 251.39 | AD29: 182.94 | AE29: 252.91 | AF29: 182.94 | AG29: 252.91 | AH29: 184.06 | AI29: 254.48 | AJ29: 184.06 | AK29: 254.48 | AL29: 186.34 | AM29: 257.6 | AN29: 186.34 | AO29: 257.6 | AP29: 187.49 | AQ29: 259.2 | AR29: 187.49 | AS29: 259.2 | AT29: 188.66 | AU29: 260.81 | AV29: 188.66 | AW29: 260.81 | AX29: 189.85 | AY29: 262.46 | AZ29: 189.85 | BA29: 262.46 | BB29: 191.05 | BC29: 264.11 | BD29: 191.05 | BE29: 264.11 | BF29: 193.5 | BG29: 267.5 | BH29: 193.5 | BI29: 267.5 | BJ29: 194.75 | BK29: 269.22 | BL29: 194.75 | BM29: 269.22 | BN29: 196.01 | BO29: 270.98 | BP29: 196.01 | BQ29: 270.98 | BR29: Não | BS29: Sim | BT29: Sim | BU29: Não | BV29: 0 | BW29: Positiva | BX29: Sim | BY29: Tarja Vermelha
A30: 11.643.096/0004-75 | B30: Viatris Farmacêutica do Brasil Ltda. | C30: 11.643.096/0001-22 | D30: VIATRIS FARMACEUTICA DO BRASIL LTDA | E30: 541522040025717 | F30: 1883000840148 | G30: 7908236800773 | H30: =VLOOKUP(E30,'[2]VIATRIS '!$D$1:$F$65536,3,0) -> 7908236800773 | I30: 400563415 | J30: #N/A | K30: ATORVASTATINA CÁLCICA | L30: LIPITOR | M30: 40 MG COM REV CT BL AL/AL X 30 | N30: LIPITOR40 MG COM REV CT BL AL/AL X 30 | O30: C10A1 - ESTATINAS, INIBIDORES DA REDUTASE HMG-CoA | P30: Similar | Q30: Regulado | R30: 341.45 | S30: 306.83 | T30: 221.94 | U30: 306.83 | V30: 252.21 | W30: 348.66 | X30: 252.21 | Y30: 300.8 | Z30: 267.4 | AA30: 369.67 | AB30: 267.4 | AC30: 369.67 | AD30: 269.02 | AE30: 371.91 | AF30: 269.02 | AG30: 371.91 | AH30: 270.66 | AI30: 374.2 | AJ30: 270.66 | AK30: 374.2 | AL30: 274 | AM30: 378.79 | AN30: 274 | AO30: 378.79 | AP30: 275.7 | AQ30: 381.15 | AR30: 275.7 | AS30: 381.15 | AT30: 277.43 | AU30: 383.53 | AV30: 277.43 | AW30: 383.53 | AX30: 279.18 | AY30: 385.94 | AZ30: 279.18 | BA30: 385.94 | BB30: 280.94 | BC30: 388.39 | BD30: 280.94 | BE30: 388.39 | BF30: 284.54 | BG30: 393.37 | BH30: 284.54 | BI30: 393.37 | BJ30: 286.38 | BK30: 395.9 | BL30: 286.38 | BM30: 395.9 | BN30: 288.24 | BO30: 398.47 | BP30: 288.24 | BQ30: 398.47 | BR30: Não | BS30: Sim | BT30: Sim | BU30: Não | BV30: 0 | BW30: Positiva | BX30: Sim | BY30: Tarja Vermelha
A31: 11.643.096/0004-75 | B31: Viatris Farmacêutica do Brasil Ltda. | C31: 11.643.096/0001-22 | D31: VIATRIS FARMACEUTICA DO BRASIL LTDA | E31: 541522040025817 | F31: 1883000840199 | G31: 7908236800797 | H31: =VLOOKUP(E31,'[2]VIATRIS '!$D$1:$F$65536,3,0) -> 7908236800797 | I31: 400563416 | J31: #N/A | K31: ATORVASTATINA CÁLCICA | L31: LIPITOR | M31: 80 MG COM REV CT BL AL/AL X 30 | N31: LIPITOR80 MG COM REV CT BL AL/AL X 30 | O31: C10A1 - ESTATINAS, INIBIDORES DA REDUTASE HMG-CoA | P31: Similar | Q31: Regulado | R31: 341.45 | S31: 306.83 | T31: 221.94 | U31: 306.83 | V31: 252.21 | W31: 348.66 | X31: 252.21 | Y31: 300.8 | Z31: 267.4 | AA31: 369.67 | AB31: 267.4 | AC31: 369.67 | AD31: 269.02 | AE31: 371.91 | AF31: 269.02 | AG31: 371.91 | AH31: 270.66 | AI31: 374.2 | AJ31: 270.66 | AK31: 374.2 | AL31: 274 | AM31: 378.79 | AN31: 274 | AO31: 378.79 | AP31: 275.7 | AQ31: 381.15 | AR31: 275.7 | AS31: 381.15 | AT31: 277.43 | AU31: 383.53 | AV31: 277.43 | AW31: 383.53 | AX31: 279.18 | AY31: 385.94 | AZ31: 279.18 | BA31: 385.94 | BB31: 280.94 | BC31: 388.39 | BD31: 280.94 | BE31: 388.39 | BF31: 284.54 | BG31: 393.37 | BH31: 284.54 | BI31: 393.37 | BJ31: 286.38 | BK31: 395.9 | BL31: 286.38 | BM31: 395.9 | BN31: 288.24 | BO31: 398.47 | BP31: 288.24 | BQ31: 398.47 | BR31: Não | BS31: Sim | BT31: Sim | BU31: Não | BV31: 0 | BW31: Positiva | BX31: Sim | BY31: Tarja Vermelha
A32: 11.643.096/0004-75 | B32: Viatris Farmacêutica do Brasil Ltda. | C32: 11.643.096/0001-22 | D32: VIATRIS FARMACEUTICA DO BRASIL LTDA | E32: 541522040025017 | F32: 1883000880026 | G32: 7908236800087 | H32: =VLOOKUP(E32,'[2]VIATRIS '!$D$1:$F$65536,3,0) -> 7908236800087 | I32: 400569594 | J32: #N/A | K32: ATORVASTATINA CÁLCICA | L32: CITALOR | M32: 10 MG COM REV CT BL AL/AL X 30 | N32: CITALOR10 MG COM REV CT BL AL/AL X 30 | O32: C10A1 - ESTATINAS, INIBIDORES DA REDUTASE HMG-CoA | P32: Novo | Q32: Regulado | R32: 94.66 | S32: 130.86 | T32: 94.66 | U32: 130.86 | V32: 107.57 | W32: 148.71 | X32: 107.57 | Y32: 148.71 | Z32: 114.05 | AA32: 157.67 | AB32: 114.05 | AC32: 157.67 | AD32: 114.74 | AE32: 158.62 | AF32: 114.74 | AG32: 158.62 | AH32: 115.44 | AI32: 159.59 | AJ32: 115.44 | AK32: 159.59 | AL32: 116.86 | AM32: 161.55 | AN32: 116.86 | AO32: 161.55 | AP32: 117.59 | AQ32: 162.56 | AR32: 117.59 | AS32: 162.56 | AT32: 118.33 | AU32: 163.58 | AV32: 118.33 | AW32: 163.58 | AX32: 119.07 | AY32: 164.61 | AZ32: 119.07 | BA32: 164.61 | BB32: 119.82 | BC32: 165.64 | BD32: 119.82 | BE32: 165.64 | BF32: 121.36 | BG32: 167.77 | BH32: 121.36 | BI32: 167.77 | BJ32: 122.14 | BK32: 168.85 | BL32: 122.14 | BM32: 168.85 | BN32: 122.94 | BO32: 169.96 | BP32: 122.94 | BQ32: 169.96 | BR32: Não | BS32: Sim | BT32: Sim | BU32: Não | BV32: 0 | BW32: Positiva | BX32: Sim | BY32: Tarja Vermelha
A33: 11.643.096/0004-75 | B33: Viatris Farmacêutica do Brasil Ltda. | C33: 11.643.096/0001-22 | D33: VIATRIS FARMACEUTICA DO BRASIL LTDA | E33: 541522040025117 | F33: 1883000880042 | G33: 7908236800100 | H33: =VLOOKUP(E33,'[2]VIATRIS '!$D$1:$F$65536,3,0) -> 7908236800100 | I33: 400569595 | J33: #N/A | K33: ATORVASTATINA CÁLCICA | L33: CITALOR | M33: 20 MG COM REV CT BL AL/AL X 30 | N33: CITALOR20 MG COM REV CT BL AL/AL X 30 | O33: C10A1 - ESTATINAS, INIBIDORES DA REDUTASE HMG-CoA | P33: Novo | Q33: Regulado | R33: 94.66 | S33: 130.86 | T33: 94.66 | U33: 130.86 | V33: 107.57 | W33: 148.71 | X33: 107.57 | Y33: 148.71 | Z33: 114.05 | AA33: 157.67 | AB33: 114.05 | AC33: 157.67 | AD33: 114.74 | AE33: 158.62 | AF33: 114.74 | AG33: 158.62 | AH33: 115.44 | AI33: 159.59 | AJ33: 115.44 | AK33: 159.59 | AL33: 116.86 | AM33: 161.55 | AN33: 116.86 | AO33: 161.55 | AP33: 117.59 | AQ33: 162.56 | AR33: 117.59 | AS33: 162.56 | AT33: 118.33 | AU33: 163.58 | AV33: 118.33 | AW33: 163.58 | AX33: 119.07 | AY33: 164.61 | AZ33: 119.07 | BA33: 164.61 | BB33: 119.82 | BC33: 165.64 | BD33: 119.82 | BE33: 165.64 | BF33: 121.36 | BG33: 167.77 | BH33: 121.36 | BI33: 167.77 | BJ33: 122.14 | BK33: 168.85 | BL33: 122.14 | BM33: 168.85 | BN33: 122.94 | BO33: 169.96 | BP33: 122.94 | BQ33: 169.96 | BR33: Não | BS33: Sim | BT33: Sim | BU33: Não | BV33: 0 | BW33: Positiva | BX33: Sim | BY33: Tarja Vermelha
A34: 11.643.096/0004-75 | B34: Viatris Farmacêutica do Brasil Ltda. | C34: 11.643.096/0001-22 | D34: VIATRIS FARMACEUTICA DO BRASIL LTDA | E34: 541522040025217 | F34: 1883000880085 | G34: 7908236801008 | H34: =VLOOKUP(E34,'[2]VIATRIS '!$D$1:$F$65536,3,0) -> 7908236801008 | I34: 400569706 | J34: #N/A | K34: ATORVASTATINA CÁLCICA | L34: CITALOR | M34: 80 MG COM REV CT BL AL/AL X 30 | N34: CITALOR80 MG COM REV CT BL AL/AL X 30 | O34: C10A1 - ESTATINAS, INIBIDORES DA REDUTASE HMG-CoA | P34: Novo | Q34: Regulado | R34: 189.36 | S34: 261.78 | T34: 189.36 | U34: 261.78 | V34: 215.18 | W34: 297.47 | X34: 215.18 | Y34: 297.47 | Z34: 228.14 | AA34: 315.39 | AB34: 228.14 | AC34: 315.39 | AD34: 229.53 | AE34: 317.31 | AF34: 229.53 | AG34: 317.31 | AH34: 230.93 | AI34: 319.25 | AJ34: 230.93 | AK34: 319.25 | AL34: 233.78 | AM34: 323.19 | AN34: 233.78 | AO34: 323.19 | AP34: 235.23 | AQ34: 325.19 | AR34: 235.23 | AS34: 325.19 | AT34: 236.7 | AU34: 327.22 | AV34: 236.7 | AW34: 327.22 | AX34: 238.19 | AY34: 329.28 | AZ34: 238.19 | BA34: 329.28 | BB34: 239.7 | BC34: 331.37 | BD34: 239.7 | BE34: 331.37 | BF34: 242.77 | BG34: 335.62 | BH34: 242.77 | BI34: 335.62 | BJ34: 244.34 | BK34: 337.79 | BL34: 244.34 | BM34: 337.79 | BN34: 245.92 | BO34: 339.97 | BP34: 245.92 | BQ34: 339.97 | BR34: Não | BS34: Sim | BT34: Não | BU34: Não | BV34: 0 | BW34: Positiva | BX34: Sim | BY34: Tarja Vermelha
A35: 11.643.096/0004-75 | B35: Viatris Farmacêutica do Brasil Ltda. | C35: 11.643.096/0001-22 | D35: VIATRIS FARMACEUTICA DO BRASIL LTDA | E35: 541522040025317 | F35: 1883000880093 | G35: 7908236800995 | H35: =VLOOKUP(E35,'[2]VIATRIS '!$D$1:$F$65536,3,0) -> 7908236800995 | I35: 400569705 | J35: #N/A | K35: ATORVASTATINA CÁLCICA | L35: CITALOR | M35: 40 MG COM REV CT BL AL/AL X 30 | N35: CITALOR40 MG COM REV CT BL AL/AL X 30 | O35: C10A1 - ESTATINAS, INIBIDORES DA REDUTASE HMG-CoA | P35: Novo | Q35: Regulado | R35: 189.36 | S35: 261.78 | T35: 189.36 | U35: 261.78 | V35: 215.18 | W35: 297.47 | X35: 215.18 | Y35: 297.47 | Z35: 228.14 | AA35: 315.39 | AB35: 228.14 | AC35: 315.39 | AD35: 229.53 | AE35: 317.31 | AF35: 229.53 | AG35: 317.31 | AH35: 230.93 | AI35: 319.25 | AJ35: 230.93 | AK35: 319.25 | AL35: 233.78 | AM35: 323.19 | AN35: 233.78 | AO35: 323.19 | AP35: 235.23 | AQ35: 325.19 | AR35: 235.23 | AS35: 325.19 | AT35: 236.7 | AU35: 327.22 | AV35: 236.7 | AW35: 327.22 | AX35: 238.19 | AY35: 329.28 | AZ35: 238.19 | BA35: 329.28 | BB35: 239.7 | BC35: 331.37 | BD35: 239.7 | BE35: 331.37 | BF35: 242.77 | BG35: 335.62 | BH35: 242.77 | BI35: 335.62 | BJ35: 244.34 | BK35: 337.79 | BL35: 244.34 | BM35: 337.79 | BN35: 245.92 | BO35: 339.97 | BP35: 245.92 | BQ35: 339.97 | BR35: Não | BS35: Sim | BT35: Não | BU35: Não | BV35: 0 | BW35: Positiva | BX35: Sim | BY35: Tarja Vermelha
A36: 11.643.096/0004-75 | B36: Viatris Farmacêutica do Brasil Ltda. | C36: 11.643.096/0001-22 | D36: VIATRIS FARMACEUTICA DO BRASIL LTDA | E36: 541521120022417 | F36: 1883000800073 | G36: 7908236800322 | H36: =VLOOKUP(E36,'[2]VIATRIS '!$D$1:$F$65536,3,0) -> 7908236800322 | I36: 400569604 | J36: #N/A | K36: BESILATO DE ANLODIPINO | L36: NORVASC | M36: 5 MG COM CT BL AL PLAS PVC OPC X 30 | N36: NORVASC5 MG COM CT BL AL PLAS PVC OPC X 30 | O36: C8A - ANTAGONISTAS DO CÁLCIO PUROS | P36: Novo | Q36: Regulado | R36: 53.42 | S36: 73.85 | T36: 53.42 | U36: 73.85 | V36: 60.7 | W36: 83.91 | X36: 60.7 | Y36: 83.91 | Z36: 64.36 | AA36: 88.97 | AB36: 64.36 | AC36: 88.97 | AD36: 64.75 | AE36: 89.51 | AF36: 64.75 | AG36: 89.51 | AH36: 65.15 | AI36: 90.07 | AJ36: 65.15 | AK36: 90.07 | AL36: 65.95 | AM36: 91.17 | AN36: 65.95 | AO36: 91.17 | AP36: 66.36 | AQ36: 91.74 | AR36: 66.36 | AS36: 91.74 | AT36: 66.78 | AU36: 92.32 | AV36: 66.78 | AW36: 92.32 | AX36: 67.19 | AY36: 92.89 | AZ36: 67.19 | BA36: 92.89 | BB36: 67.62 | BC36: 93.48 | BD36: 67.62 | BE36: 93.48 | BF36: 68.49 | BG36: 94.68 | BH36: 68.49 | BI36: 94.68 | BJ36: 68.93 | BK36: 95.29 | BL36: 68.93 | BM36: 95.29 | BN36: 69.38 | BO36: 95.91 | BP36: 69.38 | BQ36: 95.91 | BR36: Não | BS36: Não | BT36: Não | BU36: Não | BV36: 0 | BW36: Positiva | BX36: Sim | BY36: Tarja Vermelha
A37: 11.643.096/0004-75 | B37: Viatris Farmacêutica do Brasil Ltda. | C37: 11.643.096/0001-22 | D37: VIATRIS FARMACEUTICA DO BRASIL LTDA | E37: 541521120022517 | F37: 1883000800081 | G37: 7908236800353 | H37: =VLOOKUP(E37,'[2]VIATRIS '!$D$1:$F$65536,3,0) -> 7908236800353 | I37: 400569606 | J37: #N/A | K37: BESILATO DE ANLODIPINO | L37: NORVASC | M37: 10 MG COM CT BL AL PLAS PVC OPC X 30 | N37: NORVASC10 MG COM CT BL AL PLAS PVC OPC X 30 | O37: C8A - ANTAGONISTAS DO CÁLCIO PUROS | P37: Novo | Q37: Regulado | R37: 105.11 | S37: 145.31 | T37: 105.11 | U37: 145.31 | V37: 119.44 | W37: 165.12 | X37: 119.44 | Y37: 165.12 | Z37: 126.64 | AA37: 175.07 | AB37: 126.64 | AC37: 175.07 | AD37: 127.41 | AE37: 176.14 | AF37: 127.41 | AG37: 176.14 | AH37: 128.18 | AI37: 177.2 | AJ37: 128.18 | AK37: 177.2 | AL37: 129.77 | AM37: 179.4 | AN37: 129.77 | AO37: 179.4 | AP37: 130.57 | AQ37: 180.51 | AR37: 130.57 | AS37: 180.51 | AT37: 131.39 | AU37: 181.64 | AV37: 131.39 | AW37: 181.64 | AX37: 132.21 | AY37: 182.77 | AZ37: 132.21 | BA37: 182.77 | BB37: 133.05 | BC37: 183.93 | BD37: 133.05 | BE37: 183.93 | BF37: 134.76 | BG37: 186.3 | BH37: 134.76 | BI37: 186.3 | BJ37: 135.63 | BK37: 187.5 | BL37: 135.63 | BM37: 187.5 | BN37: 136.51 | BO37: 188.72 | BP37: 136.51 | BQ37: 188.72 | BR37: Não | BS37: Não | BT37: Não | BU37: Não | BV37: 0 | BW37: Positiva | BX37: Sim | BY37: Tarja Vermelha
A38: 11.643.096/0004-75 | B38: Viatris Farmacêutica do Brasil Ltda. | C38: 11.643.096/0001-22 | D38: VIATRIS FARMACEUTICA DO BRASIL LTDA | E38: 541521120022617 | F38: 1883000800091 | G38: 7908236800315 | H38: =VLOOKUP(E38,'[2]VIATRIS '!$D$1:$F$65536,3,0) -> 7908236800315 | I38: NÃO COMERCILIZA NO MOMENTO | J38: =I38 -> NÃO COMERCILIZA NO MOMENTO | K38: BESILATO DE ANLODIPINO | L38: NORVASC | M38: 5 MG COM CT BL AL PLAS PVC OPC X 60 | N38: NORVASC5 MG COM CT BL AL PLAS PVC OPC X 60 | O38: C8A - ANTAGONISTAS DO CÁLCIO PUROS | P38: Novo | Q38: Regulado | R38: 110.05 | S38: 152.14 | T38: 110.05 | U38: 152.14 | V38: 125.06 | W38: 172.89 | X38: 125.06 | Y38: 172.89 | Z38: 132.59 | AA38: 183.3 | AB38: 132.59 | AC38: 183.3 | AD38: 133.39 | AE38: 184.4 | AF38: 133.39 | AG38: 184.4 | AH38: 134.21 | AI38: 185.54 | AJ38: 134.21 | AK38: 185.54 | AL38: 135.86 | AM38: 187.82 | AN38: 135.86 | AO38: 187.82 | AP38: 136.71 | AQ38: 188.99 | AR38: 136.71 | AS38: 188.99 | AT38: 137.56 | AU38: 190.17 | AV38: 137.56 | AW38: 190.17 | AX38: 138.43 | AY38: 191.37 | AZ38: 138.43 | BA38: 191.37 | BB38: 139.3 | BC38: 192.57 | BD38: 139.3 | BE38: 192.57 | BF38: 141.09 | BG38: 195.05 | BH38: 141.09 | BI38: 195.05 | BJ38: 142 | BK38: 196.31 | BL38: 142 | BM38: 196.31 | BN38: 142.92 | BO38: 197.58 | BP38: 142.92 | BQ38: 197.58 | BR38: Não | BS38: Não | BT38: Não | BU38: Não | BV38: 0 | BW38: Positiva | BX38: Não | BY38: Tarja Vermelha
A39: 11.643.096/0004-75 | B39: Viatris Farmacêutica do Brasil Ltda. | C39: 11.643.096/0001-22 | D39: VIATRIS FARMACEUTICA DO BRASIL LTDA | E39: 541521120022717 | F39: 1883000800103 | G39: 7908236800346 | H39: =VLOOKUP(E39,'[2]VIATRIS '!$D$1:$F$65536,3,0) -> 7908236800346 | I39: NÃO COMERCILIZA NO MOMENTO | J39: =I39 -> NÃO COMERCILIZA NO MOMENTO | K39: BESILATO DE ANLODIPINO | L39: NORVASC | M39: 10 MG COM CT BL AL PLAS PVC OPC X 60 | N39: NORVASC10 MG COM CT BL AL PLAS PVC OPC X 60 | O39: C8A - ANTAGONISTAS DO CÁLCIO PUROS | P39: Novo | Q39: Regulado | R39: 216.83 | S39: 299.75 | T39: 216.83 | U39: 299.75 | V39: 246.4 | W39: 340.63 | X39: 246.4 | Y39: 340.63 | Z39: 261.24 | AA39: 361.15 | AB39: 261.24 | AC39: 361.15 | AD39: 262.82 | AE39: 363.33 | AF39: 262.82 | AG39: 363.33 | AH39: 264.43 | AI39: 365.56 | AJ39: 264.43 | AK39: 365.56 | AL39: 267.69 | AM39: 370.07 | AN39: 267.69 | AO39: 370.07 | AP39: 269.35 | AQ39: 372.36 | AR39: 269.35 | AS39: 372.36 | AT39: 271.04 | AU39: 374.7 | AV39: 271.04 | AW39: 374.7 | AX39: 272.74 | AY39: 377.05 | AZ39: 272.74 | BA39: 377.05 | BB39: 274.47 | BC39: 379.44 | BD39: 274.47 | BE39: 379.44 | BF39: 277.99 | BG39: 384.3 | BH39: 277.99 | BI39: 384.3 | BJ39: 279.78 | BK39: 386.78 | BL39: 279.78 | BM39: 386.78 | BN39: 281.6 | BO39: 389.3 | BP39: 281.6 | BQ39: 389.3 | BR39: Não | BS39: Não | BT39: Não | BU39: Não | BV39: 0 | BW39: Positiva | BX39: Sim | BY39: Tarja Vermelha
A40: 11.643.096/0004-75 | B40: Viatris Farmacêutica do Brasil Ltda. | C40: 11.643.096/0001-22 | D40: VIATRIS FARMACEUTICA DO BRASIL LTDA | E40: 541522030024317 | F40: 1883000820031 | G40: 7908236800377 | H40: =VLOOKUP(E40,'[2]VIATRIS '!$D$1:$F$65536,3,0) -> 7908236800377 | I40: 400571040 | J40: #N/A | K40: CELECOXIBE | L40: DICOXIBE | M40: 100 MG CAP DURA CT BL AL PLAS TRANS X 20 | N40: DICOXIBE100 MG CAP DURA CT BL AL PLAS TRANS X 20 | O40: M1A3 - COXIBS | P40: Similar | Q40: Regulado | R40: 53.2 | S40: 73.55 | T40: 53.2 | U40: 73.55 | V40: 60.45 | W40: 83.57 | X40: 60.45 | Y40: 83.57 | Z40: 64.1 | AA40: 88.61 | AB40: 64.1 | AC40: 88.61 | AD40: 64.48 | AE40: 89.14 | AF40: 64.48 | AG40: 89.14 | AH40: 64.88 | AI40: 89.69 | AJ40: 64.88 | AK40: 89.69 | AL40: 65.68 | AM40: 90.8 | AN40: 65.68 | AO40: 90.8 | AP40: 66.09 | AQ40: 91.37 | AR40: 66.09 | AS40: 91.37 | AT40: 66.5 | AU40: 91.93 | AV40: 66.5 | AW40: 91.93 | AX40: 66.92 | AY40: 92.51 | AZ40: 66.92 | BA40: 92.51 | BB40: 67.34 | BC40: 93.09 | BD40: 67.34 | BE40: 93.09 | BF40: 68.21 | BG40: 94.3 | BH40: 68.21 | BI40: 94.3 | BJ40: 68.65 | BK40: 94.9 | BL40: 68.65 | BM40: 94.9 | BN40: 69.09 | BO40: 95.51 | BP40: 69.09 | BQ40: 95.51 | BR40: Não | BS40: Não | BT40: Não | BU40: Não | BV40: 0 | BW40: Positiva | BX40: Não | BY40: Tarja Vermelha sob restrição
A41: 11.643.096/0004-75 | B41: Viatris Farmacêutica do Brasil Ltda. | C41: 11.643.096/0001-22 | D41: VIATRIS FARMACEUTICA DO BRASIL LTDA | E41: 541522030024417 | F41: 1883000820066 | G41: 7908236801084 | H41: =VLOOKUP(E41,'[2]VIATRIS '!$D$1:$F$65536,3,0) -> 7908236801084 | I41: NÃO COMERCILIZA NO MOMENTO | J41: =I41 -> NÃO COMERCILIZA NO MOMENTO | K41: CELECOXIBE | L41: DICOXIBE | M41: 200 MG CAP DURA CT BL AL PLAS TRANS X 2 | N41: DICOXIBE200 MG CAP DURA CT BL AL PLAS TRANS X 2 | O41: M1A3 - COXIBS | P41: Similar | Q41: Regulado | R41: 7.82 | S41: 10.81 | T41: 7.82 | U41: 10.81 | V41: 8.89 | W41: 12.29 | X41: 8.89 | Y41: 12.29 | Z41: 9.42 | AA41: 13.02 | AB41: 9.42 | AC41: 13.02 | AD41: 9.48 | AE41: 13.11 | AF41: 9.48 | AG41: 13.11 | AH41: 9.54 | AI41: 13.19 | AJ41: 9.54 | AK41: 13.19 | AL41: 9.65 | AM41: 13.34 | AN41: 9.65 | AO41: 13.34 | AP41: 9.71 | AQ41: 13.42 | AR41: 9.71 | AS41: 13.42 | AT41: 9.78 | AU41: 13.52 | AV41: 9.78 | AW41: 13.52 | AX41: 9.84 | AY41: 13.6 | AZ41: 9.84 | BA41: 13.6 | BB41: 9.9 | BC41: 13.69 | BD41: 9.9 | BE41: 13.69 | BF41: 10.03 | BG41: 13.87 | BH41: 10.03 | BI41: 13.87 | BJ41: 10.09 | BK41: 13.95 | BL41: 10.09 | BM41: 13.95 | BN41: 10.16 | BO41: 14.05 | BP41: 10.16 | BQ41: 14.05 | BR41: Não | BS41: Não | BT41: Não | BU41: Não | BV41: 0 | BW41: Positiva | BX41: Sim | BY41: Tarja Vermelha sob restrição
A42: 11.643.096/0004-75 | B42: Viatris Farmacêutica do Brasil Ltda. | C42: 11.643.096/0001-22 | D42: VIATRIS FARMACEUTICA DO BRASIL LTDA | E42: 541522030024517 | F42: 1883000820104 | G42: 7908236800384 | H42: =VLOOKUP(E42,'[2]VIATRIS '!$D$1:$F$65536,3,0) -> 7908236800384 | I42: 400569607 | J42: #N/A | K42: CELECOXIBE | L42: DICOXIBE | M42: 200 MG CAP DURA CT BL AL PLAS TRANS X 10 | N42: DICOXIBE200 MG CAP DURA CT BL AL PLAS TRANS X 10 | O42: M1A3 - COXIBS | P42: Similar | Q42: Regulado | R42: 39.15 | S42: 54.12 | T42: 39.15 | U42: 54.12 | V42: 44.49 | W42: 61.5 | X42: 44.49 | Y42: 61.5 | Z42: 47.17 | AA42: 65.21 | AB42: 47.17 | AC42: 65.21 | AD42: 47.45 | AE42: 65.6 | AF42: 47.45 | AG42: 65.6 | AH42: 47.74 | AI42: 66 | AJ42: 47.74 | AK42: 66 | AL42: 48.33 | AM42: 66.81 | AN42: 48.33 | AO42: 66.81 | AP42: 48.63 | AQ42: 67.23 | AR42: 48.63 | AS42: 67.23 | AT42: 48.94 | AU42: 67.66 | AV42: 48.94 | AW42: 67.66 | AX42: 49.25 | AY42: 68.09 | AZ42: 49.25 | BA42: 68.09 | BB42: 49.56 | BC42: 68.51 | BD42: 49.56 | BE42: 68.51 | BF42: 50.19 | BG42: 69.38 | BH42: 50.19 | BI42: 69.38 | BJ42: 50.52 | BK42: 69.84 | BL42: 50.52 | BM42: 69.84 | BN42: 50.84 | BO42: 70.28 | BP42: 50.84 | BQ42: 70.28 | BR42: Não | BS42: Não | BT42: Não | BU42: Não | BV42: 0 | BW42: Positiva | BX42: Sim | BY42: Tarja Vermelha sob restrição
A43: 11.643.096/0004-75 | B43: Viatris Farmacêutica do Brasil Ltda. | C43: 11.643.096/0001-22 | D43: VIATRIS FARMACEUTICA DO BRASIL LTDA | E43: 541522030024617 | F43: 1883000820112 | G43: 7908236800391 | H43: =VLOOKUP(E43,'[2]VIATRIS '!$D$1:$F$65536,3,0) -> 7908236800391 | I43: 400569608 | J43: #N/A | K43: CELECOXIBE | L43: DICOXIBE | M43: 200 MG CAP DURA CT BL AL PLAS TRANS X 15 | N43: DICOXIBE200 MG CAP DURA CT BL AL PLAS TRANS X 15 | O43: M1A3 - COXIBS | P43: Similar | Q43: Regulado | R43: 58.74 | S43: 81.2 | T43: 58.74 | U43: 81.2 | V43: 66.75 | W43: 92.28 | X43: 66.75 | Y43: 92.28 | Z43: 70.77 | AA43: 97.84 | AB43: 70.77 | AC43: 97.84 | AD43: 71.2 | AE43: 98.43 | AF43: 71.2 | AG43: 98.43 | AH43: 71.63 | AI43: 99.02 | AJ43: 71.63 | AK43: 99.02 | AL43: 72.52 | AM43: 100.25 | AN43: 72.52 | AO43: 100.25 | AP43: 72.97 | AQ43: 100.88 | AR43: 72.97 | AS43: 100.88 | AT43: 73.43 | AU43: 101.51 | AV43: 73.43 | AW43: 101.51 | AX43: 73.89 | AY43: 102.15 | AZ43: 73.89 | BA43: 102.15 | BB43: 74.35 | BC43: 102.78 | BD43: 74.35 | BE43: 102.78 | BF43: 75.31 | BG43: 104.11 | BH43: 75.31 | BI43: 104.11 | BJ43: 75.79 | BK43: 104.78 | BL43: 75.79 | BM43: 104.78 | BN43: 76.29 | BO43: 105.47 | BP43: 76.29 | BQ43: 105.47 | BR43: Não | BS43: Não | BT43: Não | BU43: Não | BV43: 0 | BW43: Positiva | BX43: Sim | BY43: Tarja Vermelha sob restrição
A44: 11.643.096/0004-75 | B44: Viatris Farmacêutica do Brasil Ltda. | C44: 11.643.096/0001-22 | D44: VIATRIS FARMACEUTICA DO BRASIL LTDA | E44: 541522030024717 | F44: 1883000820139 | G44: 7908236800407 | H44: =VLOOKUP(E44,'[2]VIATRIS '!$D$1:$F$65536,3,0) -> 7908236800407 | I44: 400569609 | J44: #N/A | K44: CELECOXIBE | L44: DICOXIBE | M44: 200 MG CAP DURA CT BL AL PLAS TRANS X 30 | N44: DICOXIBE200 MG CAP DURA CT BL AL PLAS TRANS X 30 | O44: M1A3 - COXIBS | P44: Similar | Q44: Regulado | R44: 117.48 | S44: 162.41 | T44: 117.48 | U44: 162.41 | V44: 133.5 | W44: 184.56 | X44: 133.5 | Y44: 184.56 | Z44: 141.54 | AA44: 195.67 | AB44: 141.54 | AC44: 195.67 | AD44: 142.4 | AE44: 196.86 | AF44: 142.4 | AG44: 196.86 | AH44: 143.27 | AI44: 198.06 | AJ44: 143.27 | AK44: 198.06 | AL44: 145.04 | AM44: 200.51 | AN44: 145.04 | AO44: 200.51 | AP44: 145.94 | AQ44: 201.75 | AR44: 145.94 | AS44: 201.75 | AT44: 146.85 | AU44: 203.01 | AV44: 146.85 | AW44: 203.01 | AX44: 147.77 | AY44: 204.28 | AZ44: 147.77 | BA44: 204.28 | BB44: 148.71 | BC44: 205.58 | BD44: 148.71 | BE44: 205.58 | BF44: 150.62 | BG44: 208.22 | BH44: 150.62 | BI44: 208.22 | BJ44: 151.59 | BK44: 209.56 | BL44: 151.59 | BM44: 209.56 | BN44: 152.57 | BO44: 210.92 | BP44: 152.57 | BQ44: 210.92 | BR44: Não | BS44: Não | BT44: Não | BU44: Não | BV44: 0 | BW44: Positiva | BX44: Sim | BY44: Tarja Vermelha sob restrição
A45: 11.643.096/0004-75 | B45: Viatris Farmacêutica do Brasil Ltda. | C45: 11.643.096/0001-22 | D45: VIATRIS FARMACEUTICA DO BRASIL LTDA | E45: 541522020023717 | F45: 1883000860033 | G45: 7908236800698 | H45: =VLOOKUP(E45,'[2]VIATRIS '!$D$1:$F$65536,3,0) -> 7908236800698 | I45: 400569590 | J45: #N/A | K45: CELECOXIBE | L45: CELEBRA | M45: 100 MG CAP DURA CT BL AL PLAS TRANS X 20 | N45: CELEBRA100 MG CAP DURA CT BL AL PLAS TRANS X 20 | O45: M1A3 - COXIBS | P45: Novo | Q45: Regulado | R45: 59.08 | S45: 81.67 | T45: 59.08 | U45: 81.67 | V45: 67.14 | W45: 92.82 | X45: 67.14 | Y45: 92.82 | Z45: 71.18 | AA45: 98.4 | AB45: 71.18 | AC45: 98.4 | AD45: 71.61 | AE45: 99 | AF45: 71.61 | AG45: 99 | AH45: 72.05 | AI45: 99.6 | AJ45: 72.05 | AK45: 99.6 | AL45: 72.94 | AM45: 100.84 | AN45: 72.94 | AO45: 100.84 | AP45: 73.39 | AQ45: 101.46 | AR45: 73.39 | AS45: 101.46 | AT45: 73.85 | AU45: 102.09 | AV45: 73.85 | AW45: 102.09 | AX45: 74.31 | AY45: 102.73 | AZ45: 74.31 | BA45: 102.73 | BB45: 74.78 | BC45: 103.38 | BD45: 74.78 | BE45: 103.38 | BF45: 75.74 | BG45: 104.71 | BH45: 75.74 | BI45: 104.71 | BJ45: 76.23 | BK45: 105.38 | BL45: 76.23 | BM45: 105.38 | BN45: 76.73 | BO45: 106.07 | BP45: 76.73 | BQ45: 106.07 | BR45: Não | BS45: Não | BT45: Não | BU45: Não | BV45: 0 | BW45: Positiva | BX45: Sim | BY45: Tarja Vermelha sob restrição
A46: 11.643.096/0004-75 | B46: Viatris Farmacêutica do Brasil Ltda. | C46: 11.643.096/0001-22 | D46: VIATRIS FARMACEUTICA DO BRASIL LTDA | E46: 541522020024217 | F46: 1883000860068 | G46: 7908236801053 | H46: =VLOOKUP(E46,'[2]VIATRIS '!$D$1:$F$65536,3,0) -> 7908236801053 | I46: NÃO COMERCILIZA NO MOMENTO | J46: =I46 -> NÃO COMERCILIZA NO MOMENTO | K46: CELECOXIBE | L46: CELEBRA | M46: 200 MG CAP DURA CT BL AL PLAS TRANS X 2 | N46: CELEBRA200 MG CAP DURA CT BL AL PLAS TRANS X 2 | O46: M1A3 - COXIBS | P46: Novo | Q46: Regulado | R46: 8.62 | S46: 11.92 | T46: 8.62 | U46: 11.92 | V46: 9.8 | W46: 13.55 | X46: 9.8 | Y46: 13.55 | Z46: 10.39 | AA46: 14.36 | AB46: 10.39 | AC46: 14.36 | AD46: 10.45 | AE46: 14.45 | AF46: 10.45 | AG46: 14.45 | AH46: 10.51 | AI46: 14.53 | AJ46: 10.51 | AK46: 14.53 | AL46: 10.64 | AM46: 14.71 | AN46: 10.64 | AO46: 14.71 | AP46: 10.71 | AQ46: 14.81 | AR46: 10.71 | AS46: 14.81 | AT46: 10.78 | AU46: 14.9 | AV46: 10.78 | AW46: 14.9 | AX46: 10.84 | AY46: 14.99 | AZ46: 10.84 | BA46: 14.99 | BB46: 10.91 | BC46: 15.08 | BD46: 10.91 | BE46: 15.08 | BF46: 11.05 | BG46: 15.28 | BH46: 11.05 | BI46: 15.28 | BJ46: 11.12 | BK46: 15.37 | BL46: 11.12 | BM46: 15.37 | BN46: 11.19 | BO46: 15.47 | BP46: 11.19 | BQ46: 15.47 | BR46: Não | BS46: Não | BT46: Não | BU46: Não | BV46: 0 | BW46: Positiva | BX46: Sim | BY46: Tarja Vermelha sob restrição
A47: 11.643.096/0004-75 | B47: Viatris Farmacêutica do Brasil Ltda. | C47: 11.643.096/0001-22 | D47: VIATRIS FARMACEUTICA DO BRASIL LTDA | E47: 541522020023817 | F47: 1883000860076 | G47: 7908236800063 | H47: =VLOOKUP(E47,'[2]VIATRIS '!$D$1:$F$65536,3,0) -> 7908236800063 | I47: NÃO COMERCILIZA NO MOMENTO | J47: =I47 -> NÃO COMERCILIZA NO MOMENTO | K47: CELECOXIBE | L47: CELEBRA | M47: 200 MG CAP DURA CT BL AL PLAS TRANS X 4 | N47: CELEBRA200 MG CAP DURA CT BL AL PLAS TRANS X 4 | O47: M1A3 - COXIBS | P47: Novo | Q47: Regulado | R47: 19.22 | S47: 26.57 | T47: 19.22 | U47: 26.57 | V47: 21.84 | W47: 30.19 | X47: 21.84 | Y47: 30.19 | Z47: 23.16 | AA47: 32.02 | AB47: 23.16 | AC47: 32.02 | AD47: 23.3 | AE47: 32.21 | AF47: 23.3 | AG47: 32.21 | AH47: 23.44 | AI47: 32.4 | AJ47: 23.44 | AK47: 32.4 | AL47: 23.73 | AM47: 32.81 | AN47: 23.73 | AO47: 32.81 | AP47: 23.88 | AQ47: 33.01 | AR47: 23.88 | AS47: 33.01 | AT47: 24.03 | AU47: 33.22 | AV47: 24.03 | AW47: 33.22 | AX47: 24.18 | AY47: 33.43 | AZ47: 24.18 | BA47: 33.43 | BB47: 24.33 | BC47: 33.63 | BD47: 24.33 | BE47: 33.63 | BF47: 24.64 | BG47: 34.06 | BH47: 24.64 | BI47: 34.06 | BJ47: 24.8 | BK47: 34.28 | BL47: 24.8 | BM47: 34.28 | BN47: 24.96 | BO47: 34.51 | BP47: 24.96 | BQ47: 34.51 | BR47: Não | BS47: Não | BT47: Não | BU47: Não | BV47: 0 | BW47: Positiva | BX47: Não | BY47: Tarja Vermelha sob restrição
A48: 11.643.096/0004-75 | B48: Viatris Farmacêutica do Brasil Ltda. | C48: 11.643.096/0001-22 | D48: VIATRIS FARMACEUTICA DO BRASIL LTDA | E48: 541522020023917 | F48: 1883000860106 | G48: 7908236800049 | H48: =VLOOKUP(E48,'[2]VIATRIS '!$D$1:$F$65536,3,0) -> 7908236800049 | I48: 400569591 | J48: #N/A | K48: CELECOXIBE | L48: CELEBRA | M48: 200 MG CAP DURA CT BL AL PLAS TRANS X 10 | N48: CELEBRA200 MG CAP DURA CT BL AL PLAS TRANS X 10 | O48: M1A3 - COXIBS | P48: Novo | Q48: Regulado | R48: 48.63 | S48: 67.23 | T48: 48.63 | U48: 67.23 | V48: 55.26 | W48: 76.39 | X48: 55.26 | Y48: 76.39 | Z48: 58.59 | AA48: 81 | AB48: 58.59 | AC48: 81 | AD48: 58.95 | AE48: 81.49 | AF48: 58.95 | AG48: 81.49 | AH48: 59.3 | AI48: 81.98 | AJ48: 59.3 | AK48: 81.98 | AL48: 60.04 | AM48: 83 | AN48: 60.04 | AO48: 83 | AP48: 60.41 | AQ48: 83.51 | AR48: 60.41 | AS48: 83.51 | AT48: 60.79 | AU48: 84.04 | AV48: 60.79 | AW48: 84.04 | AX48: 61.17 | AY48: 84.56 | AZ48: 61.17 | BA48: 84.56 | BB48: 61.56 | BC48: 85.1 | BD48: 61.56 | BE48: 85.1 | BF48: 62.35 | BG48: 86.2 | BH48: 62.35 | BI48: 86.2 | BJ48: 62.75 | BK48: 86.75 | BL48: 62.75 | BM48: 86.75 | BN48: 63.16 | BO48: 87.31 | BP48: 63.16 | BQ48: 87.31 | BR48: Não | BS48: Não | BT48: Não | BU48: Não | BV48: 0 | BW48: Positiva | BX48: Sim | BY48: Tarja Vermelha sob restrição
A49: 11.643.096/0004-75 | B49: Viatris Farmacêutica do Brasil Ltda. | C49: 11.643.096/0001-22 | D49: VIATRIS FARMACEUTICA DO BRASIL LTDA | E49: 541522020024117 | F49: 1883000860114 | G49: 7908236800056 | H49: =VLOOKUP(E49,'[2]VIATRIS '!$D$1:$F$65536,3,0) -> 7908236800056 | I49: 400569592 | J49: #N/A | K49: CELECOXIBE | L49: CELEBRA | M49: 200 MG CAP DURA CT BL AL PLAS TRANS X 15 | N49: CELEBRA200 MG CAP DURA CT BL AL PLAS TRANS X 15 | O49: M1A3 - COXIBS | P49: Novo | Q49: Regulado | R49: 71.96 | S49: 99.48 | T49: 71.96 | U49: 99.48 | V49: 81.77 | W49: 113.04 | X49: 81.77 | Y49: 113.04 | Z49: 86.7 | AA49: 119.86 | AB49: 86.7 | AC49: 119.86 | AD49: 87.22 | AE49: 120.58 | AF49: 87.22 | AG49: 120.58 | AH49: 87.76 | AI49: 121.32 | AJ49: 87.76 | AK49: 121.32 | AL49: 88.84 | AM49: 122.82 | AN49: 88.84 | AO49: 122.82 | AP49: 89.39 | AQ49: 123.58 | AR49: 89.39 | AS49: 123.58 | AT49: 89.95 | AU49: 124.35 | AV49: 89.95 | AW49: 124.35 | AX49: 90.52 | AY49: 125.14 | AZ49: 90.52 | BA49: 125.14 | BB49: 91.09 | BC49: 125.93 | BD49: 91.09 | BE49: 125.93 | BF49: 92.26 | BG49: 127.54 | BH49: 92.26 | BI49: 127.54 | BJ49: 92.85 | BK49: 128.36 | BL49: 92.85 | BM49: 128.36 | BN49: 93.45 | BO49: 129.19 | BP49: 93.45 | BQ49: 129.19 | BR49: Não | BS49: Não | BT49: Não | BU49: Não | BV49: 0 | BW49: Positiva | BX49: Sim | BY49: Tarja Vermelha sob restrição
A50: 11.643.096/0004-75 | B50: Viatris Farmacêutica do Brasil Ltda. | C50: 11.643.096/0001-22 | D50: VIATRIS FARMACEUTICA DO BRASIL LTDA | E50: 541522020024017 | F50: 1883000860130 | G50: 7908236800070 | H50: =VLOOKUP(E50,'[2]VIATRIS '!$D$1:$F$65536,3,0) -> 7908236800070 | I50: 400569593 | J50: #N/A | K50: CELECOXIBE | L50: CELEBRA | M50: 200 MG CAP DURA CT BL AL PLAS TRANS X 30 | N50: CELEBRA200 MG CAP DURA CT BL AL PLAS TRANS X 30 | O50: M1A3 - COXIBS | P50: Novo | Q50: Regulado | R50: 142.13 | S50: 196.49 | T50: 142.13 | U50: 196.49 | V50: 161.51 | W50: 223.28 | X50: 161.51 | Y50: 223.28 | Z50: 171.24 | AA50: 236.73 | AB50: 171.24 | AC50: 236.73 | AD50: 172.28 | AE50: 238.17 | AF50: 172.28 | AG50: 238.17 | AH50: 173.33 | AI50: 239.62 | AJ50: 173.33 | AK50: 239.62 | AL50: 175.47 | AM50: 242.58 | AN50: 175.47 | AO50: 242.58 | AP50: 176.56 | AQ50: 244.08 | AR50: 176.56 | AS50: 244.08 | AT50: 177.66 | AU50: 245.6 | AV50: 177.66 | AW50: 245.6 | AX50: 178.78 | AY50: 247.15 | AZ50: 178.78 | BA50: 247.15 | BB50: 179.91 | BC50: 248.72 | BD50: 179.91 | BE50: 248.72 | BF50: 182.22 | BG50: 251.91 | BH50: 182.22 | BI50: 251.91 | BJ50: 183.39 | BK50: 253.53 | BL50: 183.39 | BM50: 253.53 | BN50: 184.58 | BO50: 255.17 | BP50: 184.58 | BQ50: 255.17 | BR50: Não | BS50: Não | BT50: Não | BU50: Não | BV50: 0 | BW50: Positiva | BX50: Sim | BY50: Tarja Vermelha sob restrição
A51: 11.643.096/0004-75 | B51: Viatris Farmacêutica do Brasil Ltda. | C51: 11.643.096/0001-22 | D51: VIATRIS FARMACEUTICA DO BRASIL LTDA | E51: 541521120021717 | F51: 1883000770018 | G51: 7908236800216 | H51: =VLOOKUP(E51,'[2]VIATRIS '!$D$1:$F$65536,3,0) -> 7908236800216 | I51: 400569601 | J51: #N/A | K51: CITRATO DE SILDENAFILA | L51: VIAGRA | M51: 25 MG COM REV CT BL AL PLAS PVC TRANS X 4 | N51: VIAGRA25 MG COM REV CT BL AL PLAS PVC TRANS X 4 | O51: G4E1 - PRODUTOS PARA DISFUNÇÃO ERÉTIL, INIBIDORES DA PDE5 | P51: Novo | Q51: Regulado | R51: 75.76 | S51: 104.73 | T51: 84.85 | U51: 113.82 | V51: 96.42 | W51: 129.34 | X51: 86.09 | Y51: 119.01 | Z51: 102.23 | AA51: 137.14 | AB51: 91.28 | AC51: 126.19 | AD51: 102.85 | AE51: 137.97 | AF51: 91.83 | AG51: 126.95 | AH51: 103.48 | AI51: 138.81 | AJ51: 92.39 | AK51: 127.72 | AL51: 104.75 | AM51: 140.52 | AN51: 93.53 | AO51: 129.3 | AP51: 105.4 | AQ51: 141.39 | AR51: 94.11 | AS51: 130.1 | AT51: 106.06 | AU51: 142.28 | AV51: 94.7 | AW51: 130.92 | AX51: 106.73 | AY51: 143.17 | AZ51: 95.29 | BA51: 131.73 | BB51: 107.41 | BC51: 144.09 | BD51: 95.9 | BE51: 132.58 | BF51: 108.78 | BG51: 145.92 | BH51: 97.13 | BI51: 134.28 | BJ51: 109.48 | BK51: 146.86 | BL51: 97.75 | BM51: 135.13 | BN51: 110.19 | BO51: 147.82 | BP51: 98.39 | BQ51: 136.02 | BR51: Não | BS51: Sim | BT51: Não | BU51: Não | BV51: 0 | BW51: Negativa | BX51: Sim | BY51: Tarja Vermelha
A52: 11.643.096/0004-75 | B52: Viatris Farmacêutica do Brasil Ltda. | C52: 11.643.096/0001-22 | D52: VIATRIS FARMACEUTICA DO BRASIL LTDA | E52: 541521120021817 | F52: 1883000770026 | G52: 7908236800209 | H52: =VLOOKUP(E52,'[2]VIATRIS '!$D$1:$F$65536,3,0) -> 7908236800209 | I52: 400569600 | J52: #N/A | K52: CITRATO DE SILDENAFILA | L52: VIAGRA | M52: 50 MG COM REV CT BL AL PLAS PVC TRANS X 1 | N52: VIAGRA50 MG COM REV CT BL AL PLAS PVC TRANS X 1 | O52: G4E1 - PRODUTOS PARA DISFUNÇÃO ERÉTIL, INIBIDORES DA PDE5 | P52: Novo | Q52: Regulado | R52: 20.79 | S52: 28.75 | T52: 23.29 | U52: 31.24 | V52: 26.47 | W52: 35.51 | X52: 23.63 | Y52: 32.67 | Z52: 28.06 | AA52: 37.64 | AB52: 25.05 | AC52: 34.63 | AD52: 28.23 | AE52: 37.87 | AF52: 25.21 | AG52: 34.85 | AH52: 28.4 | AI52: 38.1 | AJ52: 25.36 | AK52: 35.06 | AL52: 28.75 | AM52: 38.57 | AN52: 25.67 | AO52: 35.49 | AP52: 28.93 | AQ52: 38.81 | AR52: 25.83 | AS52: 35.71 | AT52: 29.11 | AU52: 39.05 | AV52: 25.99 | AW52: 35.93 | AX52: 29.3 | AY52: 39.3 | AZ52: 26.16 | BA52: 36.16 | BB52: 29.48 | BC52: 39.55 | BD52: 26.32 | BE52: 36.39 | BF52: 29.86 | BG52: 40.06 | BH52: 26.66 | BI52: 36.86 | BJ52: 30.05 | BK52: 40.31 | BL52: 26.83 | BM52: 37.09 | BN52: 30.25 | BO52: 40.58 | BP52: 27.01 | BQ52: 37.34 | BR52: Não | BS52: Sim | BT52: Não | BU52: Não | BV52: 0 | BW52: Negativa | BX52: Sim | BY52: Tarja Vermelha
A53: 11.643.096/0004-75 | B53: Viatris Farmacêutica do Brasil Ltda. | C53: 11.643.096/0001-22 | D53: VIATRIS FARMACEUTICA DO BRASIL LTDA | E53: 541521120021917 | F53: 1883000770034 | G53: 7908236800162 | H53: =VLOOKUP(E53,'[2]VIATRIS '!$D$1:$F$65536,3,0) -> 7908236800162 | I53: 400569597 | J53: #N/A | K53: CITRATO DE SILDENAFILA | L53: VIAGRA | M53: 50 MG COM REV CT BL AL PLAS PVC TRANS X 8 | N53: VIAGRA50 MG COM REV CT BL AL PLAS PVC TRANS X 8 | O53: G4E1 - PRODUTOS PARA DISFUNÇÃO ERÉTIL, INIBIDORES DA PDE5 | P53: Novo | Q53: Regulado | R53: 166.5 | S53: 230.18 | T53: 186.48 | U53: 250.16 | V53: 211.91 | W53: 284.27 | X53: 189.2 | Y53: 261.56 | Z53: 224.67 | AA53: 301.39 | AB53: 200.6 | AC53: 277.32 | AD53: 226.04 | AE53: 303.22 | AF53: 201.82 | AG53: 279 | AH53: 227.41 | AI53: 305.06 | AJ53: 203.05 | AK53: 280.7 | AL53: 230.22 | AM53: 308.83 | AN53: 205.56 | AO53: 284.17 | AP53: 231.65 | AQ53: 310.75 | AR53: 206.83 | AS53: 285.93 | AT53: 233.1 | AU53: 312.7 | AV53: 208.12 | AW53: 287.71 | AX53: 234.57 | AY53: 314.67 | AZ53: 209.43 | BA53: 289.52 | BB53: 236.05 | BC53: 316.65 | BD53: 210.76 | BE53: 291.36 | BF53: 239.08 | BG53: 320.72 | BH53: 213.46 | BI53: 295.1 | BJ53: 240.62 | BK53: 322.78 | BL53: 214.84 | BM53: 297 | BN53: 242.18 | BO53: 324.88 | BP53: 216.23 | BQ53: 298.93 | BR53: Não | BS53: Sim | BT53: Não | BU53: Não | BV53: 0 | BW53: Negativa | BX53: Sim | BY53: Tarja Vermelha
A54: 11.643.096/0004-75 | B54: Viatris Farmacêutica do Brasil Ltda. | C54: 11.643.096/0001-22 | D54: VIATRIS FARMACEUTICA DO BRASIL LTDA | E54: 541521120022017 | F54: 1883000770042 | G54: 7908236800179 | H54: =VLOOKUP(E54,'[2]VIATRIS '!$D$1:$F$65536,3,0) -> 7908236800179 | I54: 400569598 | J54: #N/A | K54: CITRATO DE SILDENAFILA | L54: VIAGRA | M54: 50 MG COM REV CT BL AL PLAS PVC TRANS X 4 | N54: VIAGRA50 MG COM REV CT BL AL PLAS PVC TRANS X 4 | O54: G4E1 - PRODUTOS PARA DISFUNÇÃO ERÉTIL, INIBIDORES DA PDE5 | P54: Novo | Q54: Regulado | R54: 83.26 | S54: 115.1 | T54: 93.25 | U54: 125.09 | V54: 105.97 | W54: 142.15 | X54: 94.61 | Y54: 130.79 | Z54: 112.35 | AA54: 150.71 | AB54: 100.31 | AC54: 138.67 | AD54: 113.03 | AE54: 151.63 | AF54: 100.92 | AG54: 139.52 | AH54: 113.72 | AI54: 152.55 | AJ54: 101.54 | AK54: 140.37 | AL54: 115.12 | AM54: 154.43 | AN54: 102.79 | AO54: 142.1 | AP54: 115.84 | AQ54: 155.4 | AR54: 103.43 | AS54: 142.99 | AT54: 116.56 | AU54: 156.36 | AV54: 104.07 | AW54: 143.87 | AX54: 117.3 | AY54: 157.35 | AZ54: 104.73 | BA54: 144.78 | BB54: 118.04 | BC54: 158.35 | BD54: 105.39 | BE54: 145.7 | BF54: 119.55 | BG54: 160.37 | BH54: 106.74 | BI54: 147.56 | BJ54: 120.32 | BK54: 161.4 | BL54: 107.43 | BM54: 148.52 | BN54: 121.1 | BO54: 162.45 | BP54: 108.13 | BQ54: 149.48 | BR54: Não | BS54: Sim | BT54: Não | BU54: Não | BV54: 0 | BW54: Negativa | BX54: Sim | BY54: Tarja Vermelha
A55: 11.643.096/0004-75 | B55: Viatris Farmacêutica do Brasil Ltda. | C55: 11.643.096/0001-22 | D55: VIATRIS FARMACEUTICA DO BRASIL LTDA | E55: 541521120022117 | F55: 1883000770069 | G55: 7908236800223 | H55: =VLOOKUP(E55,'[2]VIATRIS '!$D$1:$F$65536,3,0) -> 7908236800223 | I55: 400569602 | J55: #N/A | K55: CITRATO DE SILDENAFILA | L55: VIAGRA | M55: 100 MG COM REV CT BL AL PLAS PVC TRANS X 4 | N55: VIAGRA100 MG COM REV CT BL AL PLAS PVC TRANS X 4 | O55: G4E1 - PRODUTOS PARA DISFUNÇÃO ERÉTIL, INIBIDORES DA PDE5 | P55: Novo | Q55: Regulado | R55: 130.35 | S55: 180.2 | T55: 145.99 | U55: 195.84 | V55: 165.9 | W55: 222.55 | X55: 148.12 | Y55: 204.77 | Z55: 175.89 | AA55: 235.95 | AB55: 157.05 | AC55: 217.11 | AD55: 176.96 | AE55: 237.39 | AF55: 158 | AG55: 218.43 | AH55: 178.04 | AI55: 238.83 | AJ55: 158.96 | AK55: 219.75 | AL55: 180.23 | AM55: 241.77 | AN55: 160.92 | AO55: 222.46 | AP55: 181.35 | AQ55: 243.27 | AR55: 161.92 | AS55: 223.84 | AT55: 182.49 | AU55: 244.8 | AV55: 162.94 | AW55: 225.25 | AX55: 183.64 | AY55: 246.35 | AZ55: 163.96 | BA55: 226.67 | BB55: 184.8 | BC55: 247.9 | BD55: 165 | BE55: 228.1 | BF55: 187.17 | BG55: 251.08 | BH55: 167.11 | BI55: 231.02 | BJ55: 188.37 | BK55: 252.69 | BL55: 168.19 | BM55: 232.51 | BN55: 189.6 | BO55: 254.34 | BP55: 169.28 | BQ55: 234.02 | BR55: Não | BS55: Não | BT55: Não | BU55: Não | BV55: 0 | BW55: Negativa | BX55: Sim | BY55: Tarja Vermelha
A56: 11.643.096/0004-75 | B56: Viatris Farmacêutica do Brasil Ltda. | C56: 11.643.096/0001-22 | D56: VIATRIS FARMACEUTICA DO BRASIL LTDA | E56: 541521120022217 | F56: 1883000770093 | G56: 7908236800186 | H56: =VLOOKUP(E56,'[2]VIATRIS '!$D$1:$F$65536,3,0) -> 7908236800186 | I56: 400569599 | J56: #N/A | K56: CITRATO DE SILDENAFILA | L56: VIAGRA | M56: 50 MG COM REV CT BL AL PLAS PVC TRANS X 2 | N56: VIAGRA50 MG COM REV CT BL AL PLAS PVC TRANS X 2 | O56: G4E1 - PRODUTOS PARA DISFUNÇÃO ERÉTIL, INIBIDORES DA PDE5 | P56: Novo | Q56: Regulado | R56: 41.63 | S56: 57.56 | T56: 46.63 | U56: 62.55 | V56: 52.99 | W56: 71.08 | X56: 47.31 | Y56: 65.4 | Z56: 56.18 | AA56: 75.36 | AB56: 50.16 | AC56: 69.34 | AD56: 56.52 | AE56: 75.82 | AF56: 50.47 | AG56: 69.77 | AH56: 56.87 | AI56: 76.29 | AJ56: 50.77 | AK56: 70.19 | AL56: 57.57 | AM56: 77.23 | AN56: 51.4 | AO56: 71.06 | AP56: 57.93 | AQ56: 77.71 | AR56: 51.72 | AS56: 71.5 | AT56: 58.29 | AU56: 78.19 | AV56: 52.04 | AW56: 71.94 | AX56: 58.65 | AY56: 78.68 | AZ56: 52.37 | BA56: 72.4 | BB56: 59.03 | BC56: 79.19 | BD56: 52.7 | BE56: 72.85 | BF56: 59.78 | BG56: 80.19 | BH56: 53.38 | BI56: 73.79 | BJ56: 60.17 | BK56: 80.72 | BL56: 53.72 | BM56: 74.26 | BN56: 60.56 | BO56: 81.24 | BP56: 54.07 | BQ56: 74.75 | BR56: Não | BS56: Sim | BT56: Não | BU56: Não | BV56: 0 | BW56: Negativa | BX56: Sim | BY56: Tarja Vermelha
A57: 11.643.096/0004-75 | B57: Viatris Farmacêutica do Brasil Ltda. | C57: 11.643.096/0001-22 | D57: VIATRIS FARMACEUTICA DO BRASIL LTDA | E57: 541521120022817 | F57: 1883000780013 | G57: 7908236800148 | H57: =VLOOKUP(E57,'[2]VIATRIS '!$D$1:$F$65536,3,0) -> 7908236800148 | I57: NÃO COMERCILIZA NO MOMENTO | J57: =I57 -> NÃO COMERCILIZA NO MOMENTO | K57: CLORIDRATO DE SERTRALINA | L57: ZOLOFT | M57: 50 MG COM REV CT BL AL PLAS PVC TRANS X 10 | N57: ZOLOFT50 MG COM REV CT BL AL PLAS PVC TRANS X 10 | O57: N6A4 - ANTIDEPRESSIVOS SSRI | P57: Novo | Q57: Regulado | R57: 59.61 | S57: 82.41 | T57: 59.61 | U57: 82.41 | V57: 67.74 | W57: 93.65 | X57: 67.74 | Y57: 93.65 | Z57: 71.82 | AA57: 99.29 | AB57: 71.82 | AC57: 99.29 | AD57: 72.25 | AE57: 99.88 | AF57: 72.25 | AG57: 99.88 | AH57: 72.7 | AI57: 100.5 | AJ57: 72.7 | AK57: 100.5 | AL57: 73.59 | AM57: 101.73 | AN57: 73.59 | AO57: 101.73 | AP57: 74.05 | AQ57: 102.37 | AR57: 74.05 | AS57: 102.37 | AT57: 74.51 | AU57: 103.01 | AV57: 74.51 | AW57: 103.01 | AX57: 74.98 | AY57: 103.66 | AZ57: 74.98 | BA57: 103.66 | BB57: 75.46 | BC57: 104.32 | BD57: 75.46 | BE57: 104.32 | BF57: 76.42 | BG57: 105.65 | BH57: 76.42 | BI57: 105.65 | BJ57: 76.92 | BK57: 106.34 | BL57: 76.92 | BM57: 106.34 | BN57: 77.42 | BO57: 107.03 | BP57: 77.42 | BQ57: 107.03 | BR57: Não | BS57: Não | BT57: Não | BU57: Não | BV57: 0 | BW57: Positiva | BX57: Não | BY57: Tarja Vermelha sob restrição
A58: 11.643.096/0004-75 | B58: Viatris Farmacêutica do Brasil Ltda. | C58: 11.643.096/0001-22 | D58: VIATRIS FARMACEUTICA DO BRASIL LTDA | E58: 541521120022917 | F58: 1883000780072 | G58: 7908236800124 | H58: =VLOOKUP(E58,'[2]VIATRIS '!$D$1:$F$65536,3,0) -> 7908236800124 | I58: 400569596 | J58: #N/A | K58: CLORIDRATO DE SERTRALINA | L58: ZOLOFT | M58: 50 MG COM REV CT BL AL PLAS PVC TRANS X 30 | N58: ZOLOFT50 MG COM REV CT BL AL PLAS PVC TRANS X 30 | O58: N6A4 - ANTIDEPRESSIVOS SSRI | P58: Novo | Q58: Regulado | R58: 93.5 | S58: 129.26 | T58: 93.5 | U58: 129.26 | V58: 106.25 | W58: 146.88 | X58: 106.25 | Y58: 146.88 | Z58: 112.65 | AA58: 155.73 | AB58: 112.65 | AC58: 155.73 | AD58: 113.33 | AE58: 156.67 | AF58: 113.33 | AG58: 156.67 | AH58: 114.02 | AI58: 157.63 | AJ58: 114.02 | AK58: 157.63 | AL58: 115.43 | AM58: 159.58 | AN58: 115.43 | AO58: 159.58 | AP58: 116.15 | AQ58: 160.57 | AR58: 116.15 | AS58: 160.57 | AT58: 116.88 | AU58: 161.58 | AV58: 116.88 | AW58: 161.58 | AX58: 117.61 | AY58: 162.59 | AZ58: 117.61 | BA58: 162.59 | BB58: 118.35 | BC58: 163.61 | BD58: 118.35 | BE58: 163.61 | BF58: 119.87 | BG58: 165.71 | BH58: 119.87 | BI58: 165.71 | BJ58: 120.65 | BK58: 166.79 | BL58: 120.65 | BM58: 166.79 | BN58: 121.43 | BO58: 167.87 | BP58: 121.43 | BQ58: 167.87 | BR58: Não | BS58: Não | BT58: Não | BU58: Não | BV58: 0 | BW58: Positiva | BX58: Sim | BY58: Tarja Vermelha sob restrição
A59: 11.643.096/0004-75 | B59: Viatris Farmacêutica do Brasil Ltda. | C59: 11.643.096/0001-22 | D59: VIATRIS FARMACEUTICA DO BRASIL LTDA | E59: 541521120023017 | F59: 1883000780080 | G59: 7908236800865 | H59: =VLOOKUP(E59,'[2]VIATRIS '!$D$1:$F$65536,3,0) -> 7908236800865 | I59: 400563422 | J59: #N/A | K59: CLORIDRATO DE SERTRALINA | L59: ZOLOFT | M59: 100 MG COM REV CT BL AL PLAS PVC TRANS X 30 | N59: ZOLOFT100 MG COM REV CT BL AL PLAS PVC TRANS X 30 | O59: N6A4 - ANTIDEPRESSIVOS SSRI | P59: Novo | Q59: Regulado | R59: 201.01 | S59: 277.88 | T59: 201.01 | U59: 277.88 | V59: 228.42 | W59: 315.78 | X59: 228.42 | Y59: 315.78 | Z59: 242.18 | AA59: 334.8 | AB59: 242.18 | AC59: 334.8 | AD59: 243.65 | AE59: 336.83 | AF59: 243.65 | AG59: 336.83 | AH59: 245.13 | AI59: 338.88 | AJ59: 245.13 | AK59: 338.88 | AL59: 248.16 | AM59: 343.07 | AN59: 248.16 | AO59: 343.07 | AP59: 249.7 | AQ59: 345.2 | AR59: 249.7 | AS59: 345.2 | AT59: 251.26 | AU59: 347.35 | AV59: 251.26 | AW59: 347.35 | AX59: 252.84 | AY59: 349.54 | AZ59: 252.84 | BA59: 349.54 | BB59: 254.44 | BC59: 351.75 | BD59: 254.44 | BE59: 351.75 | BF59: 257.71 | BG59: 356.27 | BH59: 257.71 | BI59: 356.27 | BJ59: 259.37 | BK59: 358.56 | BL59: 259.37 | BM59: 358.56 | BN59: 261.05 | BO59: 360.89 | BP59: 261.05 | BQ59: 360.89 | BR59: Não | BS59: Não | BT59: Não | BU59: Não | BV59: 0 | BW59: Positiva | BX59: Sim | BY59: Tarja Vermelha sob restrição
A60: 11.643.096/0004-75 | B60: Viatris Farmacêutica do Brasil Ltda. | C60: 11.643.096/0001-22 | D60: VIATRIS FARMACEUTICA DO BRASIL LTDA | E60: 541522010023117 | F60: 1883000810011 | G60: 7908236800599 | H60: =VLOOKUP(E60,'[2]VIATRIS '!$D$1:$F$65536,3,0) -> 7908236800599 | I60: NÃO COMERCILIZA NO MOMENTO | J60: =I60 -> NÃO COMERCILIZA NO MOMENTO | K60: CLORIDRATO DE VENLAFAXINA | L60: EFEXOR | M60: 37,5 MG CAP DURA LIB PROL CT BL AL PLAS TRANS X 7 | N60: EFEXOR37,5 MG CAP DURA LIB PROL CT BL AL PLAS TRANS X 7 | O60: N6A5 - ANTIDEPRESSIVOS SNRI | P60: Novo | Q60: Regulado | R60: 31.5 | S60: 40.5 | T60: 29.3 | U60: 40.5 | V60: 33.29 | W60: 46.03 | X60: 33.29 | Y60: 46.03 | Z60: 35.29 | AA60: 48.79 | AB60: 35.29 | AC60: 48.79 | AD60: 35.51 | AE60: 49.09 | AF60: 35.51 | AG60: 49.09 | AH60: 35.73 | AI60: 49.39 | AJ60: 35.73 | AK60: 49.39 | AL60: 36.17 | AM60: 50 | AN60: 36.17 | AO60: 50 | AP60: 36.39 | AQ60: 50.31 | AR60: 36.39 | AS60: 50.31 | AT60: 36.62 | AU60: 50.63 | AV60: 36.62 | AW60: 50.63 | AX60: 36.85 | AY60: 50.94 | AZ60: 36.85 | BA60: 50.94 | BB60: 37.08 | BC60: 51.26 | BD60: 37.08 | BE60: 51.26 | BF60: 37.56 | BG60: 51.93 | BH60: 37.56 | BI60: 51.93 | BJ60: 37.8 | BK60: 52.27 | BL60: 37.8 | BM60: 52.27 | BN60: 38.05 | BO60: 52.6 | BP60: 38.05 | BQ60: 52.6 | BR60: Não | BS60: Não | BT60: Não | BU60: Não | BV60: 0 | BW60: Positiva | BX60: Não | BY60: Tarja Vermelha sob restrição
A61: 11.643.096/0004-75 | B61: Viatris Farmacêutica do Brasil Ltda. | C61: 11.643.096/0001-22 | D61: VIATRIS FARMACEUTICA DO BRASIL LTDA | E61: 541522010023217 | F61: 1883000810036 | G61: 7908236800605 | H61: =VLOOKUP(E61,'[2]VIATRIS '!$D$1:$F$65536,3,0) -> 7908236800605 | I61: 400569613 | J61: #N/A | K61: CLORIDRATO DE VENLAFAXINA | L61: EFEXOR | M61: 37,5 MG CAP DURA LIB PROL CT BL AL PLAS TRANS X30 | N61: EFEXOR37,5 MG CAP DURA LIB PROL CT BL AL PLAS TRANS X30 | O61: N6A5 - ANTIDEPRESSIVOS SNRI | P61: Novo | Q61: Regulado | R61: 135.11 | S61: 173.71 | T61: 125.65 | U61: 173.71 | V61: 142.78 | W61: 197.39 | X61: 142.78 | Y61: 197.39 | Z61: 151.39 | AA61: 209.28 | AB61: 151.39 | AC61: 209.28 | AD61: 152.31 | AE61: 210.55 | AF61: 152.31 | AG61: 210.55 | AH61: 153.24 | AI61: 211.84 | AJ61: 153.24 | AK61: 211.84 | AL61: 155.12 | AM61: 214.45 | AN61: 155.12 | AO61: 214.45 | AP61: 156.09 | AQ61: 215.79 | AR61: 156.09 | AS61: 215.79 | AT61: 157.07 | AU61: 217.14 | AV61: 157.07 | AW61: 217.14 | AX61: 158.05 | AY61: 218.5 | AZ61: 158.05 | BA61: 218.5 | BB61: 159.06 | BC61: 219.89 | BD61: 159.06 | BE61: 219.89 | BF61: 161.09 | BG61: 222.71 | BH61: 161.09 | BI61: 222.71 | BJ61: 162.14 | BK61: 224.15 | BL61: 162.14 | BM61: 224.15 | BN61: 163.19 | BO61: 225.6 | BP61: 163.19 | BQ61: 225.6 | BR61: Não | BS61: Não | BT61: Não | BU61: Não | BV61: 0 | BW61: Positiva | BX61: Sim | BY61: Tarja Vermelha sob restrição
A62: 11.643.096/0004-75 | B62: Viatris Farmacêutica do Brasil Ltda. | C62: 11.643.096/0001-22 | D62: VIATRIS FARMACEUTICA DO BRASIL LTDA | E62: 541522010023417 | F62: 1883000810044 | G62: 7908236800636 | H62: =VLOOKUP(E62,'[2]VIATRIS '!$D$1:$F$65536,3,0) -> 7908236800636 | I62: NÃO COMERCILIZA NO MOMENTO | J62: =I62 -> NÃO COMERCILIZA NO MOMENTO | K62: CLORIDRATO DE VENLAFAXINA | L62: EFEXOR | M62: 75 MG CAP DURA LIB PROL CT BL AL PLAS TRANS X 7 | N62: EFEXOR75 MG CAP DURA LIB PROL CT BL AL PLAS TRANS X 7 | O62: N6A5 - ANTIDEPRESSIVOS SNRI | P62: Novo | Q62: Regulado | R62: 73.79 | S62: 94.87 | T62: 68.62 | U62: 94.87 | V62: 77.98 | W62: 107.81 | X62: 77.98 | Y62: 107.81 | Z62: 82.68 | AA62: 114.3 | AB62: 82.68 | AC62: 114.3 | AD62: 83.18 | AE62: 114.99 | AF62: 83.18 | AG62: 114.99 | AH62: 83.69 | AI62: 115.7 | AJ62: 83.69 | AK62: 115.7 | AL62: 84.72 | AM62: 117.12 | AN62: 84.72 | AO62: 117.12 | AP62: 85.25 | AQ62: 117.86 | AR62: 85.25 | AS62: 117.86 | AT62: 85.78 | AU62: 118.59 | AV62: 85.78 | AW62: 118.59 | AX62: 86.32 | AY62: 119.34 | AZ62: 86.32 | BA62: 119.34 | BB62: 86.87 | BC62: 120.09 | BD62: 86.87 | BE62: 120.09 | BF62: 87.98 | BG62: 121.63 | BH62: 87.98 | BI62: 121.63 | BJ62: 88.55 | BK62: 122.41 | BL62: 88.55 | BM62: 122.41 | BN62: 89.12 | BO62: 123.21 | BP62: 89.12 | BQ62: 123.21 | BR62: Não | BS62: Não | BT62: Não | BU62: Não | BV62: 0 | BW62: Positiva | BX62: Não | BY62: Tarja Vermelha sob restrição
A63: 11.643.096/0004-75 | B63: Viatris Farmacêutica do Brasil Ltda. | C63: 11.643.096/0001-22 | D63: VIATRIS FARMACEUTICA DO BRASIL LTDA | E63: 541522010023317 | F63: 1883000810060 | G63: 7908236800629 | H63: =VLOOKUP(E63,'[2]VIATRIS '!$D$1:$F$65536,3,0) -> 7908236800629 | I63: 400569614 | J63: #N/A | K63: CLORIDRATO DE VENLAFAXINA | L63: EFEXOR | M63: 75 MG CAP DURA LIB PROL CT BL AL PLAS TRANS X30 | N63: EFEXOR75 MG CAP DURA LIB PROL CT BL AL PLAS TRANS X30 | O63: N6A5 - ANTIDEPRESSIVOS SNRI | P63: Novo | Q63: Regulado | R63: 316.18 | S63: 406.5 | T63: 294.05 | U63: 406.5 | V63: 334.15 | W63: 461.94 | X63: 334.15 | Y63: 461.94 | Z63: 354.27 | AA63: 489.77 | AB63: 354.27 | AC63: 489.77 | AD63: 356.42 | AE63: 492.73 | AF63: 356.42 | AG63: 492.73 | AH63: 358.6 | AI63: 495.75 | AJ63: 358.6 | AK63: 495.75 | AL63: 363.03 | AM63: 501.87 | AN63: 363.03 | AO63: 501.87 | AP63: 365.28 | AQ63: 504.97 | AR63: 365.28 | AS63: 504.97 | AT63: 367.56 | AU63: 508.13 | AV63: 367.56 | AW63: 508.13 | AX63: 369.87 | AY63: 511.32 | AZ63: 369.87 | BA63: 511.32 | BB63: 372.21 | BC63: 514.56 | BD63: 372.21 | BE63: 514.56 | BF63: 376.98 | BG63: 521.16 | BH63: 376.98 | BI63: 521.16 | BJ63: 379.41 | BK63: 524.52 | BL63: 379.41 | BM63: 524.52 | BN63: 381.88 | BO63: 527.92 | BP63: 381.88 | BQ63: 527.92 | BR63: Não | BS63: Não | BT63: Não | BU63: Não | BV63: 0 | BW63: Positiva | BX63: Sim | BY63: Tarja Vermelha sob restrição
A64: 11.643.096/0004-75 | B64: Viatris Farmacêutica do Brasil Ltda. | C64: 11.643.096/0001-22 | D64: VIATRIS FARMACEUTICA DO BRASIL LTDA | E64: 541522010023617 | F64: 1883000810079 | G64: 7908236800575 | H64: =VLOOKUP(E64,'[2]VIATRIS '!$D$1:$F$65536,3,0) -> 7908236800575 | I64: NÃO COMERCILIZA NO MOMENTO | J64: =I64 -> NÃO COMERCILIZA NO MOMENTO | K64: CLORIDRATO DE VENLAFAXINA | L64: EFEXOR | M64: 150 MG CAP DURA LIB PROL CT BL AL PLAS TRANS X 7 | N64: EFEXOR150 MG CAP DURA LIB PROL CT BL AL PLAS TRANS X 7 | O64: N6A5 - ANTIDEPRESSIVOS SNRI | P64: Novo | Q64: Regulado | R64: 104.68 | S64: 134.58 | T64: 97.35 | U64: 134.58 | V64: 110.63 | W64: 152.95 | X64: 110.63 | Y64: 152.95 | Z64: 117.29 | AA64: 162.15 | AB64: 117.29 | AC64: 162.15 | AD64: 118.01 | AE64: 163.14 | AF64: 118.01 | AG64: 163.14 | AH64: 118.72 | AI64: 164.13 | AJ64: 118.72 | AK64: 164.13 | AL64: 120.19 | AM64: 166.16 | AN64: 120.19 | AO64: 166.16 | AP64: 120.94 | AQ64: 167.19 | AR64: 120.94 | AS64: 167.19 | AT64: 121.69 | AU64: 168.23 | AV64: 121.69 | AW64: 168.23 | AX64: 122.45 | AY64: 169.29 | AZ64: 122.45 | BA64: 169.29 | BB64: 123.23 | BC64: 170.37 | BD64: 123.23 | BE64: 170.37 | BF64: 124.82 | BG64: 172.55 | BH64: 124.82 | BI64: 172.55 | BJ64: 125.62 | BK64: 173.66 | BL64: 125.62 | BM64: 173.66 | BN64: 126.43 | BO64: 174.78 | BP64: 126.43 | BQ64: 174.78 | BR64: Não | BS64: Não | BT64: Não | BU64: Não | BV64: 0 | BW64: Positiva | BX64: Não | BY64: Tarja Vermelha sob restrição
A65: 11.643.096/0004-75 | B65: Viatris Farmacêutica do Brasil Ltda. | C65: 11.643.096/0001-22 | D65: VIATRIS FARMACEUTICA DO BRASIL LTDA | E65: 541522010023517 | F65: 1883000810095 | G65: 7908236800568 | H65: =VLOOKUP(E65,'[2]VIATRIS '!$D$1:$F$65536,3,0) -> 7908236800568 | I65: 400569612 | J65: #N/A | K65: CLORIDRATO DE VENLAFAXINA | L65: EFEXOR | M65: 150 MG CAP DURA LIB PROL CT BL AL PLAS TRANS X 30 | N65: EFEXOR150 MG CAP DURA LIB PROL CT BL AL PLAS TRANS X 30 | O65: N6A5 - ANTIDEPRESSIVOS SNRI | P65: Novo | Q65: Regulado | R65: 448.5 | S65: 576.63 | T65: 448.5 | U65: 576.63 | V65: 473.98 | W65: 655.26 | X65: 473.98 | Y65: 655.26 | Z65: 502.53 | AA65: 694.73 | AB65: 502.53 | AC65: 694.73 | AD65: 505.59 | AE65: 698.94 | AF65: 505.59 | AG65: 698.94 | AH65: 508.66 | AI65: 703.2 | AJ65: 508.66 | AK65: 703.2 | AL65: 514.94 | AM65: 711.88 | AN65: 514.94 | AO65: 711.88 | AP65: 518.14 | AQ65: 716.3 | AR65: 518.14 | AS65: 716.3 | AT65: 521.39 | AU65: 720.79 | AV65: 521.39 | AW65: 720.79 | AX65: 524.66 | AY65: 725.31 | AZ65: 524.66 | BA65: 725.31 | BB65: 527.98 | BC65: 729.9 | BD65: 527.98 | BE65: 729.9 | BF65: 534.75 | BG65: 739.26 | BH65: 534.75 | BI65: 739.26 | BJ65: 538.2 | BK65: 744.03 | BL65: 538.2 | BM65: 744.03 | BN65: 541.7 | BO65: 748.86 | BP65: 541.7 | BQ65: 748.86 | BR65: Não | BS65: Não | BT65: Não | BU65: Não | BV65: 0 | BW65: Positiva | BX65: Sim | BY65: Tarja Vermelha sob restrição
A66: 11.643.096/0004-75 | B66: Viatris Farmacêutica do Brasil Ltda. | C66: 11.643.096/0001-22 | D66: VIATRIS FARMACEUTICA DO BRASIL LTDA | E66: 541525040031917 | F66: 1153500050034 | G66: 7908236800759 | H66: =VLOOKUP(E66,'[2]VIATRIS '!$D$1:$F$65536,3,0) -> 7898560666926 | I66: 400569703 | J66: #N/A | K66: CLORIDRATO DE ZIPRASIDONA MONOIDRATADO | L66: GEODON | M66: 40 MG CAP DURA CT BL AL AL X 30 | N66: GEODON40 MG CAP DURA CT BL AL AL X 30 | O66: N5A1 - ANTIPSICÓTICOS ATÍPICOS | P66: Novo | Q66: Regulado | R66: 408.56 | S66: 564.81 | T66: 408.56 | U66: 564.81 | V66: 464.27 | W66: 641.83 | X66: 464.27 | Y66: 641.83 | Z66: 492.24 | AA66: 680.49 | AB66: 492.24 | AC66: 680.49 | AD66: 495.22 | AE66: 684.61 | AF66: 495.22 | AG66: 684.61 | AH66: 498.24 | AI66: 688.79 | AJ66: 498.24 | AK66: 688.79 | AL66: 504.4 | AM66: 697.3 | AN66: 504.4 | AO66: 697.3 | AP66: 507.53 | AQ66: 701.63 | AR66: 507.53 | AS66: 701.63 | AT66: 510.7 | AU66: 706.01 | AV66: 510.7 | AW66: 706.01 | AX66: 513.91 | AY66: 710.45 | AZ66: 513.91 | BA66: 710.45 | BB66: 517.16 | BC66: 714.94 | BD66: 517.16 | BE66: 714.94 | BF66: 523.79 | BG66: 724.11 | BH66: 523.79 | BI66: 724.11 | BJ66: 527.17 | BK66: 728.78 | BL66: 527.17 | BM66: 728.78 | BN66: 530.6 | BO66: 733.52 | BP66: 530.6 | BQ66: 733.52 | BR66: Não | BS66: Sim | BT66: Sim | BU66: Não | BV66: 0 | BW66: Positiva | BX66: Não | BY66: Tarja Vermelha sob restrição
A67: 11.643.096/0004-75 | B67: Viatris Farmacêutica do Brasil Ltda. | C67: 11.643.096/0001-22 | D67: VIATRIS FARMACEUTICA DO BRASIL LTDA | E67: 541525040032117 | F67: 1153500050077 | G67: 7908236800766 | H67: =VLOOKUP(E67,'[2]VIATRIS '!$D$1:$F$65536,3,0) -> 7898560666933 | I67: 400563411 | J67: #N/A | K67: CLORIDRATO DE ZIPRASIDONA MONOIDRATADO | L67: GEODON | M67: 80 MG CAP DURA CT BL AL AL X 30 | N67: GEODON80 MG CAP DURA CT BL AL AL X 30 | O67: N5A1 - ANTIPSICÓTICOS ATÍPICOS | P67: Novo | Q67: Regulado | R67: 680.03 | S67: 940.1 | T67: 680.03 | U67: 940.1 | V67: 772.76 | W67: 1068.3 | X67: 772.76 | Y67: 1068.3 | Z67: 819.31 | AA67: 1132.65 | AB67: 819.31 | AC67: 1132.65 | AD67: 824.28 | AE67: 1139.52 | AF67: 824.28 | AG67: 1139.52 | AH67: 829.3 | AI67: 1146.46 | AJ67: 829.3 | AK67: 1146.46 | AL67: 839.54 | AM67: 1160.61 | AN67: 839.54 | AO67: 1160.61 | AP67: 844.76 | AQ67: 1167.83 | AR67: 844.76 | AS67: 1167.83 | AT67: 850.04 | AU67: 1175.13 | AV67: 850.04 | AW67: 1175.13 | AX67: 855.38 | AY67: 1182.51 | AZ67: 855.38 | BA67: 1182.51 | BB67: 860.8 | BC67: 1190.01 | BD67: 860.8 | BE67: 1190.01 | BF67: 871.83 | BG67: 1205.25 | BH67: 871.83 | BI67: 1205.25 | BJ67: 877.46 | BK67: 1213.04 | BL67: 877.46 | BM67: 1213.04 | BN67: 883.16 | BO67: 1220.92 | BP67: 883.16 | BQ67: 1220.92 | BR67: Não | BS67: Sim | BT67: Sim | BU67: Não | BV67: 0 | BW67: Positiva | BX67: Não | BY67: Tarja Vermelha sob restrição
A68: 11.643.096/0004-75 | B68: Viatris Farmacêutica do Brasil Ltda. | C68: 11.643.096/0001-22 | D68: VIATRIS FARMACEUTICA DO BRASIL LTDA | E68: 541522030024903 | F68: 1883000340072 | G68: 7898560665424 | H68: =VLOOKUP(E68,'[2]VIATRIS '!$D$1:$F$65536,3,0) -> 7898560665424 | I68: 400544258 | J68: #N/A | K68: CLOZAPINA | L68: LEPONEX | M68: 25 MG COM CT BL AL PLAS PVC/PE/PVDC TRANS X 20 | N68: LEPONEX25 MG COM CT BL AL PLAS PVC/PE/PVDC TRANS X 20 | O68: N5A1 - ANTIPSICÓTICOS ATÍPICOS | P68: Novo | Q68: Regulado | R68: 44.84 | S68: 61.99 | T68: 44.84 | U68: 61.99 | V68: 50.95 | W68: 70.44 | X68: 50.95 | Y68: 70.44 | Z68: 54.02 | AA68: 74.68 | AB68: 54.02 | AC68: 74.68 | AD68: 54.35 | AE68: 75.14 | AF68: 54.35 | AG68: 75.14 | AH68: 54.68 | AI68: 75.59 | AJ68: 54.68 | AK68: 75.59 | AL68: 55.36 | AM68: 76.53 | AN68: 55.36 | AO68: 76.53 | AP68: 55.7 | AQ68: 77 | AR68: 55.7 | AS68: 77 | AT68: 56.05 | AU68: 77.49 | AV68: 56.05 | AW68: 77.49 | AX68: 56.4 | AY68: 77.97 | AZ68: 56.4 | BA68: 77.97 | BB68: 56.76 | BC68: 78.47 | BD68: 56.76 | BE68: 78.47 | BF68: 57.49 | BG68: 79.48 | BH68: 57.49 | BI68: 79.48 | BJ68: 57.86 | BK68: 79.99 | BL68: 57.86 | BM68: 79.99 | BN68: 58.23 | BO68: 80.5 | BP68: 58.23 | BQ68: 80.5 | BR68: Não | BS68: Sim | BT68: Sim | BU68: Não | BV68: 0 | BW68: Positiva | BX68: Sim | BY68: Tarja Vermelha sob restrição
A69: 11.643.096/0004-75 | B69: Viatris Farmacêutica do Brasil Ltda. | C69: 11.643.096/0001-22 | D69: VIATRIS FARMACEUTICA DO BRASIL LTDA | E69: 541522030024803 | F69: 1883000340102 | G69: 7898560665431 | H69: =VLOOKUP(E69,'[2]VIATRIS '!$D$1:$F$65536,3,0) -> 7898560665431 | I69: 400544256 | J69: #N/A | K69: CLOZAPINA | L69: LEPONEX | M69: 100 MG COM CT BL AL PLAS PVC/PE/PVDC TRANS X 30 | N69: LEPONEX100 MG COM CT BL AL PLAS PVC/PE/PVDC TRANS X 30 | O69: N5A1 - ANTIPSICÓTICOS ATÍPICOS | P69: Novo | Q69: Regulado | R69: 270.58 | S69: 374.06 | T69: 270.58 | U69: 374.06 | V69: 307.48 | W69: 425.07 | X69: 307.48 | Y69: 425.07 | Z69: 326 | AA69: 450.68 | AB69: 326 | AC69: 450.68 | AD69: 327.98 | AE69: 453.41 | AF69: 327.98 | AG69: 453.41 | AH69: 329.98 | AI69: 456.18 | AJ69: 329.98 | AK69: 456.18 | AL69: 334.05 | AM69: 461.8 | AN69: 334.05 | AO69: 461.8 | AP69: 336.12 | AQ69: 464.67 | AR69: 336.12 | AS69: 464.67 | AT69: 338.23 | AU69: 467.58 | AV69: 338.23 | AW69: 467.58 | AX69: 340.35 | AY69: 470.51 | AZ69: 340.35 | BA69: 470.51 | BB69: 342.51 | BC69: 473.5 | BD69: 342.51 | BE69: 473.5 | BF69: 346.9 | BG69: 479.57 | BH69: 346.9 | BI69: 479.57 | BJ69: 349.14 | BK69: 482.67 | BL69: 349.14 | BM69: 482.67 | BN69: 351.4 | BO69: 485.79 | BP69: 351.4 | BQ69: 485.79 | BR69: Não | BS69: Sim | BT69: Sim | BU69: Não | BV69: 0 | BW69: Positiva | BX69: Sim | BY69: Tarja Vermelha sob restrição
A70: 05.656.727/0001-45 | B70: Viatris Brasil Imp. e Distrib. Medicamentos Ltda. | C70: 11.643.096/0001-22 | D70: VIATRIS FARMACEUTICA DO BRASIL LTDA | E70: 541521060019107 | F70: 1883000760063 | G70: 7898560664878 | H70: =VLOOKUP(E70,'[2]VIATRIS '!$D$1:$F$65536,3,0) -> 7898560664878 | I70: 400570737 | J70: #N/A | K70: ENOXAPARINA SÓDICA | L70: HEPTRIS | M70: 20 MG SOL INJ CT 10 SER VD TRANS PREENCH X 0,2 ML + SIST SEGURANÇA | N70: HEPTRIS20 MG SOL INJ CT 10 SER VD TRANS PREENCH X 0,2 ML + SIST SEGURANÇA | O70: B1B2 - HEPARINAS FRACIONADAS | P70: Biológico | Q70: Regulado | R70: 206.5 | S70: 285.47 | T70: 206.5 | U70: 285.47 | V70: 234.66 | W70: 324.4 | X70: 234.66 | Y70: 324.4 | Z70: 248.8 | AA70: 343.95 | AB70: 248.8 | AC70: 343.95 | AD70: 250.3 | AE70: 346.03 | AF70: 250.3 | AG70: 346.03 | AH70: 251.83 | AI70: 348.14 | AJ70: 251.83 | AK70: 348.14 | AL70: 254.94 | AM70: 352.44 | AN70: 254.94 | AO70: 352.44 | AP70: 256.52 | AQ70: 354.62 | AR70: 256.52 | AS70: 354.62 | AT70: 258.13 | AU70: 356.85 | AV70: 258.13 | AW70: 356.85 | AX70: 259.75 | AY70: 359.09 | AZ70: 259.75 | BA70: 359.09 | BB70: 261.39 | BC70: 361.36 | BD70: 261.39 | BE70: 361.36 | BF70: 264.74 | BG70: 365.99 | BH70: 264.74 | BI70: 365.99 | BJ70: 266.45 | BK70: 368.35 | BL70: 266.45 | BM70: 368.35 | BN70: 268.18 | BO70: 370.74 | BP70: 268.18 | BQ70: 370.74 | BR70: Não | BS70: Não | BT70: Não | BU70: Não | BV70: 0 | BW70: Positiva | BX70: Sim | BY70: Tarja Vermelha
A71: 05.656.727/0001-45 | B71: Viatris Brasil Imp. e Distrib. Medicamentos Ltda. | C71: 11.643.096/0001-22 | D71: VIATRIS FARMACEUTICA DO BRASIL LTDA | E71: 541521060019707 | F71: 1883000760128 | G71: 7898560664939 | H71: =VLOOKUP(E71,'[2]VIATRIS '!$D$1:$F$65536,3,0) -> 7898560664939 | I71: 400561525 | J71: #N/A | K71: ENOXAPARINA SÓDICA | L71: HEPTRIS | M71: 40 MG SOL INJ CT 10 SER VD TRANS PREENCH X 0,4 ML +SIST SEGURANÇA | N71: HEPTRIS40 MG SOL INJ CT 10 SER VD TRANS PREENCH X 0,4 ML +SIST SEGURANÇA | O71: B1B2 - HEPARINAS FRACIONADAS | P71: Biológico | Q71: Regulado | R71: 496.98 | S71: 687.05 | T71: 496.98 | U71: 687.05 | V71: 564.75 | W71: 780.73 | X71: 564.75 | Y71: 780.73 | Z71: 598.77 | AA71: 827.76 | AB71: 598.77 | AC71: 827.76 | AD71: 602.4 | AE71: 832.78 | AF71: 602.4 | AG71: 832.78 | AH71: 606.07 | AI71: 837.86 | AJ71: 606.07 | AK71: 837.86 | AL71: 613.56 | AM71: 848.21 | AN71: 613.56 | AO71: 848.21 | AP71: 617.37 | AQ71: 853.48 | AR71: 617.37 | AS71: 853.48 | AT71: 621.23 | AU71: 858.81 | AV71: 621.23 | AW71: 858.81 | AX71: 625.13 | AY71: 864.21 | AZ71: 625.13 | BA71: 864.21 | BB71: 629.09 | BC71: 869.68 | BD71: 629.09 | BE71: 869.68 | BF71: 637.15 | BG71: 880.82 | BH71: 637.15 | BI71: 880.82 | BJ71: 641.26 | BK71: 886.5 | BL71: 641.26 | BM71: 886.5 | BN71: 645.43 | BO71: 892.27 | BP71: 645.43 | BQ71: 892.27 | BR71: Não | BS71: Sim | BT71: Não | BU71: Não | BV71: 0 | BW71: Positiva | BX71: Sim | BY71: Tarja Vermelha
A72: 05.656.727/0001-45 | B72: Viatris Brasil Imp. e Distrib. Medicamentos Ltda. | C72: 11.643.096/0001-22 | D72: VIATRIS FARMACEUTICA DO BRASIL LTDA | E72: 541521060019907 | F72: 1883000760144 | G72: 7898560664977 | H72: =VLOOKUP(E72,'[2]VIATRIS '!$D$1:$F$65536,3,0) -> 7898560664977 | I72: 400561528 | J72: #N/A | K72: ENOXAPARINA SÓDICA | L72: HEPTRIS | M72: 60 MG SOL INJ CT 2 SER VD TRANS PREENCH X 0,6 ML + SIST SEGURANÇA | N72: HEPTRIS60 MG SOL INJ CT 2 SER VD TRANS PREENCH X 0,6 ML + SIST SEGURANÇA | O72: B1B2 - HEPARINAS FRACIONADAS | P72: Biológico | Q72: Regulado | R72: 152.38 | S72: 210.66 | T72: 152.38 | U72: 210.66 | V72: 173.16 | W72: 239.38 | X72: 173.16 | Y72: 239.38 | Z72: 183.59 | AA72: 253.8 | AB72: 183.59 | AC72: 253.8 | AD72: 184.7 | AE72: 255.34 | AF72: 184.7 | AG72: 255.34 | AH72: 185.83 | AI72: 256.9 | AJ72: 185.83 | AK72: 256.9 | AL72: 188.12 | AM72: 260.06 | AN72: 188.12 | AO72: 260.06 | AP72: 189.29 | AQ72: 261.68 | AR72: 189.29 | AS72: 261.68 | AT72: 190.48 | AU72: 263.33 | AV72: 190.48 | AW72: 263.33 | AX72: 191.67 | AY72: 264.97 | AZ72: 191.67 | BA72: 264.97 | BB72: 192.89 | BC72: 266.66 | BD72: 192.89 | BE72: 266.66 | BF72: 195.36 | BG72: 270.07 | BH72: 195.36 | BI72: 270.07 | BJ72: 196.62 | BK72: 271.82 | BL72: 196.62 | BM72: 271.82 | BN72: 197.9 | BO72: 273.59 | BP72: 197.9 | BQ72: 273.59 | BR72: Não | BS72: Não | BT72: Não | BU72: Não | BV72: 0 | BW72: Positiva | BX72: Sim | BY72: Tarja Vermelha
A73: 05.656.727/0001-45 | B73: Viatris Brasil Imp. e Distrib. Medicamentos Ltda. | C73: 11.643.096/0001-22 | D73: VIATRIS FARMACEUTICA DO BRASIL LTDA | E73: 541521060020507 | F73: 1883000760209 | G73: 7898560665035 | H73: =VLOOKUP(E73,'[2]VIATRIS '!$D$1:$F$65536,3,0) -> 7898560665035 | I73: 400570738 | J73: #N/A | K73: ENOXAPARINA SÓDICA | L73: HEPTRIS | M73: 80 MG SOL INJ CT 2 SER VD TRANS PREENCH X 0,8 ML + SIST SEGURANÇA | N73: HEPTRIS80 MG SOL INJ CT 2 SER VD TRANS PREENCH X 0,8 ML + SIST SEGURANÇA | O73: B1B2 - HEPARINAS FRACIONADAS | P73: Biológico | Q73: Regulado | R73: 202.9 | S73: 280.5 | T73: 202.9 | U73: 280.5 | V73: 230.57 | W73: 318.75 | X73: 230.57 | Y73: 318.75 | Z73: 244.46 | AA73: 337.95 | AB73: 244.46 | AC73: 337.95 | AD73: 245.94 | AE73: 340 | AF73: 245.94 | AG73: 340 | AH73: 247.44 | AI73: 342.07 | AJ73: 247.44 | AK73: 342.07 | AL73: 250.49 | AM73: 346.29 | AN73: 250.49 | AO73: 346.29 | AP73: 252.05 | AQ73: 348.44 | AR73: 252.05 | AS73: 348.44 | AT73: 253.63 | AU73: 350.63 | AV73: 253.63 | AW73: 350.63 | AX73: 255.22 | AY73: 352.83 | AZ73: 255.22 | BA73: 352.83 | BB73: 256.84 | BC73: 355.07 | BD73: 256.84 | BE73: 355.07 | BF73: 260.13 | BG73: 359.61 | BH73: 260.13 | BI73: 359.61 | BJ73: 261.81 | BK73: 361.94 | BL73: 261.81 | BM73: 361.94 | BN73: 263.51 | BO73: 364.29 | BP73: 263.51 | BQ73: 364.29 | BR73: Não | BS73: Não | BT73: Não | BU73: Não | BV73: 0 | BW73: Positiva | BX73: Sim | BY73: Tarja Vermelha
A74: 05.656.727/0001-45 | B74: Viatris Brasil Imp. e Distrib. Medicamentos Ltda. | C74: 11.643.096/0001-22 | D74: VIATRIS FARMACEUTICA DO BRASIL LTDA | E74: 541521060021107 | F74: 1883000760268 | G74: 7898560665073 | H74: =VLOOKUP(E74,'[2]VIATRIS '!$D$1:$F$65536,3,0) -> 7898560665073 | I74: 400575864 | J74: #N/A | K74: ENOXAPARINA SÓDICA | L74: HEPTRIS | M74: 100 MG SOL INJ CT 2 SER VD TRANS PREENCH X 1,0 ML + SIST SEGURANÇA | N74: HEPTRIS100 MG SOL INJ CT 2 SER VD TRANS PREENCH X 1,0 ML + SIST SEGURANÇA | O74: B1B2 - HEPARINAS FRACIONADAS | P74: Biológico | Q74: Regulado | R74: 255.71 | S74: 353.5 | T74: 255.71 | U74: 353.5 | V74: 290.58 | W74: 401.71 | X74: 290.58 | Y74: 401.71 | Z74: 308.08 | AA74: 425.9 | AB74: 308.08 | AC74: 425.9 | AD74: 309.95 | AE74: 428.49 | AF74: 309.95 | AG74: 428.49 | AH74: 311.84 | AI74: 431.1 | AJ74: 311.84 | AK74: 431.1 | AL74: 315.69 | AM74: 436.42 | AN74: 315.69 | AO74: 436.42 | AP74: 317.65 | AQ74: 439.13 | AR74: 317.65 | AS74: 439.13 | AT74: 319.64 | AU74: 441.88 | AV74: 319.64 | AW74: 441.88 | AX74: 321.65 | AY74: 444.66 | AZ74: 321.65 | BA74: 444.66 | BB74: 323.68 | BC74: 447.47 | BD74: 323.68 | BE74: 447.47 | BF74: 327.83 | BG74: 453.21 | BH74: 327.83 | BI74: 453.21 | BJ74: 329.95 | BK74: 456.14 | BL74: 329.95 | BM74: 456.14 | BN74: 332.09 | BO74: 459.09 | BP74: 332.09 | BQ74: 459.09 | BR74: Não | BS74: Não | BT74: Não | BU74: Não | BV74: 0 | BW74: Positiva | BX74: Não | BY74: Tarja Vermelha
A75: 11.643.096/0004-75 | B75: Viatris Farmacêutica do Brasil Ltda. | C75: 36.674.526/0001-02 | D75: UPJOHN BRASIL IMPORTADORA E DISTRIBUIDORA DE MEDICAMENTOS LTDA. | E75: 596322110002302 | F75: 1153500100015 | G75: 7908236801237 | H75: =VLOOKUP(E75,[2]UPJOHN!$D$1:$F$65536,3,0) -> 7908236801237 | I75: S/CODIGO | J75: S/CODIGO | K75: EPLERENONA | L75: INSPRA | M75: 25 MG COM REV CT BL AL PLAS PVC OPC X 10 | N75: INSPRA25 MG COM REV CT BL AL PLAS PVC OPC X 10 | O75: C3A1 - AGENTES DIURÉTICOS POUPADORES POTÁSSIO PUROS | P75: Novo | Q75: Regulado | R75: 13.96 | S75: 19.3 | T75: 13.96 | U75: 19.3 | V75: 15.86 | W75: 21.93 | X75: 15.86 | Y75: 21.93 | Z75: 16.82 | AA75: 23.25 | AB75: 16.82 | AC75: 23.25 | AD75: 16.92 | AE75: 23.39 | AF75: 16.92 | AG75: 23.39 | AH75: 17.02 | AI75: 23.53 | AJ75: 17.02 | AK75: 23.53 | AL75: 17.23 | AM75: 23.82 | AN75: 17.23 | AO75: 23.82 | AP75: 17.34 | AQ75: 23.97 | AR75: 17.34 | AS75: 23.97 | AT75: 17.45 | AU75: 24.12 | AV75: 17.45 | AW75: 24.12 | AX75: 17.56 | AY75: 24.28 | AZ75: 17.56 | BA75: 24.28 | BB75: 17.67 | BC75: 24.43 | BD75: 17.67 | BE75: 24.43 | BF75: 17.9 | BG75: 24.75 | BH75: 17.9 | BI75: 24.75 | BJ75: 18.01 | BK75: 24.9 | BL75: 18.01 | BM75: 24.9 | BN75: 18.13 | BO75: 25.06 | BP75: 18.13 | BQ75: 25.06 | BR75: Não | BS75: Não | BT75: Não | BU75: Não | BV75: 0 | BW75: Positiva | BX75: Não | BY75: Tarja Vermelha
A76: 11.643.096/0004-75 | B76: Viatris Farmacêutica do Brasil Ltda. | C76: 36.674.526/0001-02 | D76: UPJOHN BRASIL IMPORTADORA E DISTRIBUIDORA DE MEDICAMENTOS LTDA. | E76: 596322110002402 | F76: 1153500100023 | G76: 7908236801244 | H76: =VLOOKUP(E76,[2]UPJOHN!$D$1:$F$65536,3,0) -> 7908236801244 | I76: S/CODIGO | J76: S/CODIGO | K76: EPLERENONA | L76: INSPRA | M76: 25 MG COM REV CT BL AL PLAS PVC OPC X 20 | N76: INSPRA25 MG COM REV CT BL AL PLAS PVC OPC X 20 | O76: C3A1 - AGENTES DIURÉTICOS POUPADORES POTÁSSIO PUROS | P76: Novo | Q76: Regulado | R76: 27.92 | S76: 38.6 | T76: 27.92 | U76: 38.6 | V76: 31.73 | W76: 43.86 | X76: 31.73 | Y76: 43.86 | Z76: 33.64 | AA76: 46.51 | AB76: 33.64 | AC76: 46.51 | AD76: 33.84 | AE76: 46.78 | AF76: 33.84 | AG76: 46.78 | AH76: 34.05 | AI76: 47.07 | AJ76: 34.05 | AK76: 47.07 | AL76: 34.47 | AM76: 47.65 | AN76: 34.47 | AO76: 47.65 | AP76: 34.68 | AQ76: 47.94 | AR76: 34.68 | AS76: 47.94 | AT76: 34.9 | AU76: 48.25 | AV76: 34.9 | AW76: 48.25 | AX76: 35.12 | AY76: 48.55 | AZ76: 35.12 | BA76: 48.55 | BB76: 35.34 | BC76: 48.86 | BD76: 35.34 | BE76: 48.86 | BF76: 35.79 | BG76: 49.48 | BH76: 35.79 | BI76: 49.48 | BJ76: 36.03 | BK76: 49.81 | BL76: 36.03 | BM76: 49.81 | BN76: 36.26 | BO76: 50.13 | BP76: 36.26 | BQ76: 50.13 | BR76: Não | BS76: Não | BT76: Não | BU76: Não | BV76: 0 | BW76: Positiva | BX76: Não | BY76: Tarja Vermelha
A77: 11.643.096/0004-75 | B77: Viatris Farmacêutica do Brasil Ltda. | C77: 36.674.526/0001-02 | D77: UPJOHN BRASIL IMPORTADORA E DISTRIBUIDORA DE MEDICAMENTOS LTDA. | E77: 596322110002602 | F77: 1153500100041 | G77: 7908236801251 | H77: =VLOOKUP(E77,[2]UPJOHN!$D$1:$F$65536,3,0) -> 7908236801251 | I77: S/CODIGO | J77: S/CODIGO | K77: EPLERENONA | L77: INSPRA | M77: 25 MG COM REV CT BL AL PLAS PVC OPC X 50 | N77: INSPRA25 MG COM REV CT BL AL PLAS PVC OPC X 50 | O77: C3A1 - AGENTES DIURÉTICOS POUPADORES POTÁSSIO PUROS | P77: Novo | Q77: Regulado | R77: 69.79 | S77: 96.48 | T77: 69.79 | U77: 96.48 | V77: 79.31 | W77: 109.64 | X77: 79.31 | Y77: 109.64 | Z77: 84.08 | AA77: 116.24 | AB77: 84.08 | AC77: 116.24 | AD77: 84.59 | AE77: 116.94 | AF77: 84.59 | AG77: 116.94 | AH77: 85.11 | AI77: 117.66 | AJ77: 85.11 | AK77: 117.66 | AL77: 86.16 | AM77: 119.11 | AN77: 86.16 | AO77: 119.11 | AP77: 86.7 | AQ77: 119.86 | AR77: 86.7 | AS77: 119.86 | AT77: 87.24 | AU77: 120.6 | AV77: 87.24 | AW77: 120.6 | AX77: 87.79 | AY77: 121.36 | AZ77: 87.79 | BA77: 121.36 | BB77: 88.34 | BC77: 122.12 | BD77: 88.34 | BE77: 122.12 | BF77: 89.47 | BG77: 123.69 | BH77: 89.47 | BI77: 123.69 | BJ77: 90.05 | BK77: 124.49 | BL77: 90.05 | BM77: 124.49 | BN77: 90.64 | BO77: 125.3 | BP77: 90.64 | BQ77: 125.3 | BR77: Não | BS77: Não | BT77: Não | BU77: Não | BV77: 0 | BW77: Positiva | BX77: Não | BY77: Tarja Vermelha
A78: 11.643.096/0004-75 | B78: Viatris Farmacêutica do Brasil Ltda. | C78: 36.674.526/0001-02 | D78: UPJOHN BRASIL IMPORTADORA E DISTRIBUIDORA DE MEDICAMENTOS LTDA. | E78: 596322110002702 | F78: 1153500100058 | G78: 7908236801268 | H78: =VLOOKUP(E78,[2]UPJOHN!$D$1:$F$65536,3,0) -> 7908236801268 | I78: S/CODIGO | J78: S/CODIGO | K78: EPLERENONA | L78: INSPRA | M78: 50 MG COM REV CT BL AL PLAS PVC OPC X 10 | N78: INSPRA50 MG COM REV CT BL AL PLAS PVC OPC X 10 | O78: C3A1 - AGENTES DIURÉTICOS POUPADORES POTÁSSIO PUROS | P78: Novo | Q78: Regulado | R78: 20 | S78: 27.65 | T78: 20 | U78: 27.65 | V78: 22.73 | W78: 31.42 | X78: 22.73 | Y78: 31.42 | Z78: 24.1 | AA78: 33.32 | AB78: 24.1 | AC78: 33.32 | AD78: 24.24 | AE78: 33.51 | AF78: 24.24 | AG78: 33.51 | AH78: 24.39 | AI78: 33.72 | AJ78: 24.39 | AK78: 33.72 | AL78: 24.69 | AM78: 34.13 | AN78: 24.69 | AO78: 34.13 | AP78: 24.84 | AQ78: 34.34 | AR78: 24.84 | AS78: 34.34 | AT78: 25 | AU78: 34.56 | AV78: 25 | AW78: 34.56 | AX78: 25.16 | AY78: 34.78 | AZ78: 25.16 | BA78: 34.78 | BB78: 25.32 | BC78: 35 | BD78: 25.32 | BE78: 35 | BF78: 25.64 | BG78: 35.45 | BH78: 25.64 | BI78: 35.45 | BJ78: 25.81 | BK78: 35.68 | BL78: 25.81 | BM78: 35.68 | BN78: 25.97 | BO78: 35.9 | BP78: 25.97 | BQ78: 35.9 | BR78: Não | BS78: Não | BT78: Não | BU78: Não | BV78: 0 | BW78: Positiva | BX78: Não | BY78: Tarja Vermelha
A79: 11.643.096/0004-75 | B79: Viatris Farmacêutica do Brasil Ltda. | C79: 36.674.526/0001-02 | D79: UPJOHN BRASIL IMPORTADORA E DISTRIBUIDORA DE MEDICAMENTOS LTDA. | E79: 596322110002802 | F79: 1153500100066 | G79: 7908236801275 | H79: =VLOOKUP(E79,[2]UPJOHN!$D$1:$F$65536,3,0) -> 7908236801275 | I79: S/CODIGO | J79: S/CODIGO | K79: EPLERENONA | L79: INSPRA | M79: 50 MG COM REV CT BL AL PLAS PVC OPC X 20 | N79: INSPRA50 MG COM REV CT BL AL PLAS PVC OPC X 20 | O79: C3A1 - AGENTES DIURÉTICOS POUPADORES POTÁSSIO PUROS | P79: Novo | Q79: Regulado | R79: 39.98 | S79: 55.27 | T79: 39.98 | U79: 55.27 | V79: 45.43 | W79: 62.8 | X79: 45.43 | Y79: 62.8 | Z79: 48.17 | AA79: 66.59 | AB79: 48.17 | AC79: 66.59 | AD79: 48.46 | AE79: 66.99 | AF79: 48.46 | AG79: 66.99 | AH79: 48.76 | AI79: 67.41 | AJ79: 48.76 | AK79: 67.41 | AL79: 49.36 | AM79: 68.24 | AN79: 49.36 | AO79: 68.24 | AP79: 49.66 | AQ79: 68.65 | AR79: 49.66 | AS79: 68.65 | AT79: 49.98 | AU79: 69.09 | AV79: 49.98 | AW79: 69.09 | AX79: 50.29 | AY79: 69.52 | AZ79: 50.29 | BA79: 69.52 | BB79: 50.61 | BC79: 69.97 | BD79: 50.61 | BE79: 69.97 | BF79: 51.26 | BG79: 70.86 | BH79: 51.26 | BI79: 70.86 | BJ79: 51.59 | BK79: 71.32 | BL79: 51.59 | BM79: 71.32 | BN79: 51.92 | BO79: 71.78 | BP79: 51.92 | BQ79: 71.78 | BR79: Não | BS79: Não | BT79: Não | BU79: Não | BV79: 0 | BW79: Positiva | BX79: Não | BY79: Tarja Vermelha
A80: 11.643.096/0004-75 | B80: Viatris Farmacêutica do Brasil Ltda. | C80: 36.674.526/0001-02 | D80: UPJOHN BRASIL IMPORTADORA E DISTRIBUIDORA DE MEDICAMENTOS LTDA. | E80: 596322110003002 | F80: 1153500100082 | G80: 7908236801282 | H80: =VLOOKUP(E80,[2]UPJOHN!$D$1:$F$65536,3,0) -> 7908236801282 | I80: S/CODIGO | J80: S/CODIGO | K80: EPLERENONA | L80: INSPRA | M80: 50 MG COM REV CT BL AL PLAS PVC OPC X 50 | N80: INSPRA50 MG COM REV CT BL AL PLAS PVC OPC X 50 | O80: C3A1 - AGENTES DIURÉTICOS POUPADORES POTÁSSIO PUROS | P80: Novo | Q80: Regulado | R80: 99.94 | S80: 138.16 | T80: 99.94 | U80: 138.16 | V80: 113.57 | W80: 157 | X80: 113.57 | Y80: 157 | Z80: 120.41 | AA80: 166.46 | AB80: 120.41 | AC80: 166.46 | AD80: 121.14 | AE80: 167.47 | AF80: 121.14 | AG80: 167.47 | AH80: 121.88 | AI80: 168.49 | AJ80: 121.88 | AK80: 168.49 | AL80: 123.38 | AM80: 170.57 | AN80: 123.38 | AO80: 170.57 | AP80: 124.15 | AQ80: 171.63 | AR80: 124.15 | AS80: 171.63 | AT80: 124.93 | AU80: 172.71 | AV80: 124.93 | AW80: 172.71 | AX80: 125.71 | AY80: 173.79 | AZ80: 125.71 | BA80: 173.79 | BB80: 126.51 | BC80: 174.89 | BD80: 126.51 | BE80: 174.89 | BF80: 128.13 | BG80: 177.13 | BH80: 128.13 | BI80: 177.13 | BJ80: 128.95 | BK80: 178.27 | BL80: 128.95 | BM80: 178.27 | BN80: 129.79 | BO80: 179.43 | BP80: 129.79 | BQ80: 179.43 | BR80: Não | BS80: Não | BT80: Não | BU80: Não | BV80: 0 | BW80: Positiva | BX80: Não | BY80: Tarja Vermelha
A81: 11.643.096/0004-75 | B81: Viatris Farmacêutica do Brasil Ltda. | C81: 11.643.096/0001-22 | D81: VIATRIS FARMACEUTICA DO BRASIL LTDA | E81: 541520030018017 | F81: 1883000680027 | G81: 7898560661563 | H81: =VLOOKUP(E81,'[2]VIATRIS '!$D$1:$F$65536,3,0) -> 7898560661563 | I81: 400553741 | J81: #N/A | K81: ESCINA;SALICILATO DE DIETILAMÔNIO | L81: REPARIL | M81: 10 MG/G + 50 MG/G GEL CT BG AL X 30 G | N81: REPARIL10 MG/G + 50 MG/G GEL CT BG AL X 30 G | O81: C5B - TERAPIA ANTIVARICOSA TÓPICA | P81: Específico | Q81: Liberado | R81: 22.25 | S81: 29.85 | T81: 22.25 | U81: 29.85 | V81: 27.57 | W81: 36.82 | X81: 24.84 | Y81: 33.18 | Z81: 29.48 | AA81: 39.29 | AB81: 25.66 | AC81: 35.48 | AD81: 29.69 | AE81: 39.57 | AF81: 25.82 | AG81: 35.7 | AH81: 29.9 | AI81: 39.83 | AJ81: 25.98 | AK81: 35.92 | AL81: 30.3 | AM81: 40.38 | AN81: 26.3 | AO81: 36.36 | AP81: 30.48 | AQ81: 40.67 | AR81: 26.47 | AS81: 36.59 | AT81: 30.68 | AU81: 40.95 | AV81: 26.63 | AW81: 36.82 | AX81: 30.87 | AY81: 41.24 | AZ81: 27.49 | BA81: 38.01 | BB81: 31.22 | BC81: 41.54 | BD81: 27.67 | BE81: 38.25 | BF81: 31.46 | BG81: 42.13 | BH81: 28.02 | BI81: 38.73 | BJ81: 31.58 | BK81: 42.36 | BL81: 28.19 | BM81: 38.97 | BN81: 31.87 | BO81: 42.75 | BP81: 32.16 | BQ81: 42.75 | BR81: Não | BS81: Não | BT81: Não | BU81: Não | BV81: 0 | BW81: Negativa | BX81: Sim | BY81: - (*)
A82: 11.643.096/0004-75 | B82: Viatris Farmacêutica do Brasil Ltda. | C82: 11.643.096/0001-22 | D82: VIATRIS FARMACEUTICA DO BRASIL LTDA | E82: 541520030018117 | F82: 1883000680035 | G82: 7898560661570 | H82: =VLOOKUP(E82,'[2]VIATRIS '!$D$1:$F$65536,3,0) -> 7898560661570 | I82: 400553740 | J82: #N/A | K82: ESCINA;SALICILATO DE DIETILAMÔNIO | L82: REPARIL | M82: 10 MG/G + 50 MG/G GEL CT BG AL X 100 G | N82: REPARIL10 MG/G + 50 MG/G GEL CT BG AL X 100 G | O82: C5B - TERAPIA ANTIVARICOSA TÓPICA | P82: Específico | Q82: Liberado | R82: 52.85 | S82: 70.9 | T82: 52.85 | U82: 70.9 | V82: 68.75 | W82: 91.84 | X82: 68.123 | Y82: 82.73 | Z82: 73.51 | AA82: 97.99 | AB82: 70.4 | AC82: 88.47 | AD82: 73.9 | AE82: 98.659 | AF82: 70.829 | AG82: 89.01 | AH82: 74.56 | AI82: 99.33 | AJ82: 71.258 | AK82: 89.56 | AL82: 75.504 | AM82: 100.694 | AN82: 72.138 | AO82: 90.673 | AP82: 75.98 | AQ82: 101.398 | AR82: 72.589 | AS82: 91.223 | AT82: 76.45 | AU82: 102.113 | AV82: 73.04 | AW82: 91.795 | AX82: 76.6 | AY82: 102.795 | AZ82: 75.416 | BA82: 94.776 | BB82: 77.836 | BC82: 103.54 | BD82: 75.889 | BE82: 95.37 | BF82: 78.408 | BG82: 105.05 | BH82: 76.868 | BI82: 96.602 | BJ82: 78.76 | BK82: 105.64 | BL82: 77.352 | BM82: 97.229 | BN82: 79.431 | BO82: 106.55 | BP82: 88.209 | BQ82: 99.568 | BR82: Não | BS82: Não | BT82: Não | BU82: Não | BV82: 0 | BW82: Negativa | BX82: Sim | BY82: - (*)
A83: 05.656.727/0001-45 | B83: Viatris Brasil Imp. e Distrib. Medicamentos Ltda. | C83: 11.643.096/0001-22 | D83: VIATRIS FARMACEUTICA DO BRASIL LTDA | E83: 541519120017007 | F83: 1883000700011 | G83: 7898560661594 | H83: =VLOOKUP(E83,'[2]VIATRIS '!$D$1:$F$65536,3,0) -> 7898560661594 | I83: 400572530 | J83: #N/A | K83: FULVESTRANTO | L83: MYLVESTON | M83: 50 MG/ML SOL INJ IM CT 2 SER PREENC VD TRANS X 5 ML + 2 AGU COM SIST SEGURANÇA | N83: MYLVESTON50 MG/ML SOL INJ IM CT 2 SER PREENC VD TRANS X 5 ML + 2 AGU COM SIST SEGURANÇA | O83: L1X9 - TODOS OS OUTROS ANTINEOPLÁSICOS | P83: Similar | Q83: Regulado | R83: 6981.45 | T83: 6981.45 | V83: 7933.47 | X83: 7933.47 | Z83: 8411.38 | AB83: 8411.38 | AD83: 8462.36 | AF83: 8462.36 | AH83: 8513.96 | AJ83: 8513.96 | AL83: 8619.07 | AN83: 8619.07 | AP83: 8672.61 | AR83: 8672.61 | AT83: 8726.81 | AV83: 8726.81 | AX83: 8781.7 | AZ83: 8781.7 | BB83: 8837.28 | BD83: 8837.28 | BF83: 8950.57 | BH83: 8950.57 | BJ83: 9008.33 | BL83: 9008.33 | BN83: 9066.82 | BP83: 9066.82 | BR83: Sim | BS83: Não | BT83: Não | BU83: Não | BV83: 0 | BW83: Positiva | BX83: Não | BY83: Tarja Vermelha
A84: 11.643.096/0004-75 | B84: Viatris Farmacêutica do Brasil Ltda. | C84: 36.674.526/0001-02 | D84: UPJOHN BRASIL IMPORTADORA E DISTRIBUIDORA DE MEDICAMENTOS LTDA. | E84: 596322020000117 | F84: 1153500060021 | G84: 7891268109146 | H84: =VLOOKUP(E84,[2]UPJOHN!$D$1:$F$65536,3,0) -> 7891268109146 | I84: NÃO COMERCILIZA NO MOMENTO | J84: =I84 -> NÃO COMERCILIZA NO MOMENTO | K84: MESILATO DE DOXAZOSINA | L84: CARDURAN | M84: 4 MG COM REV LIB PROL CT BL AL/AL X 10 | N84: CARDURAN4 MG COM REV LIB PROL CT BL AL/AL X 10 | O84: C2A2 - ANTI-HIPERTENSIVOS PURO-AÇÃO PERIFÉRICA | P84: Novo | Q84: Regulado | R84: 93.9 | S84: 129.81 | T84: 93.9 | U84: 129.81 | V84: 106.7 | W84: 147.51 | X84: 106.7 | Y84: 147.51 | Z84: 113.13 | AA84: 156.4 | AB84: 113.13 | AC84: 156.4 | AD84: 113.82 | AE84: 157.35 | AF84: 113.82 | AG84: 157.35 | AH84: 114.51 | AI84: 158.3 | AJ84: 114.51 | AK84: 158.3 | AL84: 115.93 | AM84: 160.27 | AN84: 115.93 | AO84: 160.27 | AP84: 116.65 | AQ84: 161.26 | AR84: 116.65 | AS84: 161.26 | AT84: 117.38 | AU84: 162.27 | AV84: 117.38 | AW84: 162.27 | AX84: 118.11 | AY84: 163.28 | AZ84: 118.11 | BA84: 163.28 | BB84: 118.86 | BC84: 164.32 | BD84: 118.86 | BE84: 164.32 | BF84: 120.38 | BG84: 166.42 | BH84: 120.38 | BI84: 166.42 | BJ84: 121.16 | BK84: 167.5 | BL84: 121.16 | BM84: 167.5 | BN84: 121.95 | BO84: 168.59 | BP84: 121.95 | BQ84: 168.59 | BR84: Não | BS84: Não | BT84: Não | BU84: Não | BV84: 0 | BW84: Positiva | BX84: Não | BY84: Tarja Vermelha
A85: 11.643.096/0004-75 | B85: Viatris Farmacêutica do Brasil Ltda. | C85: 36.674.526/0001-02 | D85: UPJOHN BRASIL IMPORTADORA E DISTRIBUIDORA DE MEDICAMENTOS LTDA. | E85: 596322020000217 | F85: 1153500060048 | G85: 7908236800988 | H85: =VLOOKUP(E85,[2]UPJOHN!$D$1:$F$65536,3,0) -> 7908236800988 | I85: 400569704 | J85: #N/A | K85: MESILATO DE DOXAZOSINA | L85: CARDURAN | M85: 4 MG COM REV LIB PROL CT BL AL/AL X 30 | N85: CARDURAN4 MG COM REV LIB PROL CT BL AL/AL X 30 | O85: C2A2 - ANTI-HIPERTENSIVOS PURO-AÇÃO PERIFÉRICA | P85: Novo | Q85: Regulado | R85: 281.79 | S85: 389.56 | T85: 281.79 | U85: 389.56 | V85: 320.22 | W85: 442.69 | X85: 320.22 | Y85: 442.69 | Z85: 339.51 | AA85: 469.35 | AB85: 339.51 | AC85: 469.35 | AD85: 341.56 | AE85: 472.19 | AF85: 341.56 | AG85: 472.19 | AH85: 343.65 | AI85: 475.08 | AJ85: 343.65 | AK85: 475.08 | AL85: 347.89 | AM85: 480.94 | AN85: 347.89 | AO85: 480.94 | AP85: 350.05 | AQ85: 483.92 | AR85: 350.05 | AS85: 483.92 | AT85: 352.24 | AU85: 486.95 | AV85: 352.24 | AW85: 486.95 | AX85: 354.45 | AY85: 490.01 | AZ85: 354.45 | BA85: 490.01 | BB85: 356.7 | BC85: 493.12 | BD85: 356.7 | BE85: 493.12 | BF85: 361.27 | BG85: 499.43 | BH85: 361.27 | BI85: 499.43 | BJ85: 363.6 | BK85: 502.66 | BL85: 363.6 | BM85: 502.66 | BN85: 365.96 | BO85: 505.92 | BP85: 365.96 | BQ85: 505.92 | BR85: Não | BS85: Não | BT85: Não | BU85: Não | BV85: 0 | BW85: Positiva | BX85: Sim | BY85: Tarja Vermelha
A86: 11.643.096/0004-75 | B86: Viatris Farmacêutica do Brasil Ltda. | C86: 36.674.526/0001-02 | D86: UPJOHN BRASIL IMPORTADORA E DISTRIBUIDORA DE MEDICAMENTOS LTDA. | E86: 596322020000517 | F86: 1153500030017 | G86: 7908236800834 | H86: =VLOOKUP(E86,[2]UPJOHN!$D$1:$F$65536,3,0) -> 7908236800834 | I86: 400563421 | J86: #N/A | K86: NICERGOLINA | L86: SERMION | M86: 30 MG COM REV CT BL AL PLAS TRANS X 20 | N86: SERMION30 MG COM REV CT BL AL PLAS TRANS X 20 | O86: C4A1 - VASOTERAPÊUTICOS CEREBRAIS E PERIFÉRICOS, EXCLUINDO ANTOAGONISTAS DE CÁLCIO COM AÇÃO CEREBRAL | P86: Novo | Q86: Regulado | R86: 113.71 | S86: 157.2 | T86: 113.71 | U86: 157.2 | V86: 129.22 | W86: 178.64 | X86: 129.22 | Y86: 178.64 | Z86: 137 | AA86: 189.39 | AB86: 137 | AC86: 189.39 | AD86: 137.83 | AE86: 190.54 | AF86: 137.83 | AG86: 190.54 | AH86: 138.67 | AI86: 191.7 | AJ86: 138.67 | AK86: 191.7 | AL86: 140.38 | AM86: 194.07 | AN86: 140.38 | AO86: 194.07 | AP86: 141.25 | AQ86: 195.27 | AR86: 141.25 | AS86: 195.27 | AT86: 142.14 | AU86: 196.5 | AV86: 142.14 | AW86: 196.5 | AX86: 143.03 | AY86: 197.73 | AZ86: 143.03 | BA86: 197.73 | BB86: 143.94 | BC86: 198.99 | BD86: 143.94 | BE86: 198.99 | BF86: 145.78 | BG86: 201.53 | BH86: 145.78 | BI86: 201.53 | BJ86: 146.72 | BK86: 202.83 | BL86: 146.72 | BM86: 202.83 | BN86: 147.68 | BO86: 204.16 | BP86: 147.68 | BQ86: 204.16 | BR86: Não | BS86: Não | BT86: Não | BU86: Não | BV86: 0 | BW86: Positiva | BX86: Não | BY86: Tarja Vermelha
A87: 05.656.727/0001-45 | B87: Viatris Brasil Imp. e Distrib. Medicamentos Ltda. | C87: 11.643.096/0001-22 | D87: VIATRIS FARMACEUTICA DO BRASIL LTDA | E87: 541518110012717 | F87: 1883000430020 | G87: 7898560664021 | H87: =VLOOKUP(E87,'[2]VIATRIS '!$D$1:$F$65536,3,0) -> 7898560664021 | I87: 400546775 | J87: #N/A | K87: OCITOCINA | L87: SYNTOCINON | M87: 40 UI/ML SOL NAS CT FR VD AMB SPR X 5 ML | N87: SYNTOCINON40 UI/ML SOL NAS CT FR VD AMB SPR X 5 ML | O87: G2A - INDUTORES DO PARTO INCLUINDO OXITOCINAS | P87: Novo | Q87: Regulado | R87: 32.33 | S87: 44.69 | T87: 32.33 | U87: 44.69 | V87: 36.74 | W87: 50.79 | X87: 36.74 | Y87: 50.79 | Z87: 38.95 | AA87: 53.85 | AB87: 38.95 | AC87: 53.85 | AD87: 39.19 | AE87: 54.18 | AF87: 39.19 | AG87: 54.18 | AH87: 39.43 | AI87: 54.51 | AJ87: 39.43 | AK87: 54.51 | AL87: 39.91 | AM87: 55.17 | AN87: 39.91 | AO87: 55.17 | AP87: 40.16 | AQ87: 55.52 | AR87: 40.16 | AS87: 55.52 | AT87: 40.41 | AU87: 55.86 | AV87: 40.41 | AW87: 55.86 | AX87: 40.67 | AY87: 56.22 | AZ87: 40.67 | BA87: 56.22 | BB87: 40.92 | BC87: 56.57 | BD87: 40.92 | BE87: 56.57 | BF87: 41.45 | BG87: 57.3 | BH87: 41.45 | BI87: 57.3 | BJ87: 41.72 | BK87: 57.68 | BL87: 41.72 | BM87: 57.68 | BN87: 41.99 | BO87: 58.05 | BP87: 41.99 | BQ87: 58.05 | BR87: Não | BS87: Não | BT87: Não | BU87: Não | BV87: 0 | BW87: Positiva | BX87: Sim | BY87: Tarja Vermelha
A88: 11.643.096/0004-75 | B88: Transfer Price | C88: 11.643.096/0001-22 | D88: VIATRIS FARMACEUTICA DO BRASIL LTDA | E88: 541518090008017 | F88: 1883000300011 | G88: 7898560663482 | H88: =VLOOKUP(E88,'[2]VIATRIS '!$D$1:$F$65536,3,0) -> 7898560663482 | I88: 400553593 | J88: #N/A | K88: PIMECROLIMO | L88: ELIDEL | M88: 10 MG / G CREME DERM CT BG AL X 15 G | N88: ELIDEL10 MG / G CREME DERM CT BG AL X 15 G | O88: D5X - OUTROS PRODUTOS ANTI-INFLAMATÓRIOS NÃO ESTEROIDAIS DERMATOLÓGICOS | P88: Novo | Q88: Regulado | R88: 152.28 | S88: 210.52 | T88: 152.28 | U88: 210.52 | V88: 173.05 | W88: 239.23 | X88: 173.05 | Y88: 239.23 | Z88: 183.47 | AA88: 253.64 | AB88: 183.47 | AC88: 253.64 | AD88: 184.58 | AE88: 255.17 | AF88: 184.58 | AG88: 255.17 | AH88: 185.71 | AI88: 256.73 | AJ88: 185.71 | AK88: 256.73 | AL88: 188 | AM88: 259.9 | AN88: 188 | AO88: 259.9 | AP88: 189.17 | AQ88: 261.52 | AR88: 189.17 | AS88: 261.52 | AT88: 190.35 | AU88: 263.15 | AV88: 190.35 | AW88: 263.15 | AX88: 191.55 | AY88: 264.81 | AZ88: 191.55 | BA88: 264.81 | BB88: 192.76 | BC88: 266.48 | BD88: 192.76 | BE88: 266.48 | BF88: 195.23 | BG88: 269.89 | BH88: 195.23 | BI88: 269.89 | BJ88: 196.49 | BK88: 271.64 | BL88: 196.49 | BM88: 271.64 | BN88: 197.77 | BO88: 273.41 | BP88: 197.77 | BQ88: 273.41 | BR88: Não | BS88: Não | BT88: Não | BU88: Não | BV88: 0 | BW88: Positiva | BX88: Sim | BY88: - (*)
A89: 11.643.096/0004-75 | B89: Transfer Price | C89: 11.643.096/0001-22 | D89: VIATRIS FARMACEUTICA DO BRASIL LTDA | E89: 541518090008117 | F89: 1883000300021 | G89: 7898560663499 | H89: =VLOOKUP(E89,'[2]VIATRIS '!$D$1:$F$65536,3,0) -> 7898560663499 | I89: NÃO COMERCILIZA NO MOMENTO | J89: =I89 -> NÃO COMERCILIZA NO MOMENTO | K89: PIMECROLIMO | L89: ELIDEL | M89: 10 MG / G CREME DERM CT BG AL X 30 G | N89: ELIDEL10 MG / G CREME DERM CT BG AL X 30 G | O89: D5X - OUTROS PRODUTOS ANTI-INFLAMATÓRIOS NÃO ESTEROIDAIS DERMATOLÓGICOS | P89: Novo | Q89: Regulado | R89: 274.13 | S89: 378.97 | T89: 274.13 | U89: 378.97 | V89: 311.51 | W89: 430.64 | X89: 311.51 | Y89: 430.64 | Z89: 330.28 | AA89: 456.59 | AB89: 330.28 | AC89: 456.59 | AD89: 332.28 | AE89: 459.36 | AF89: 332.28 | AG89: 459.36 | AH89: 334.3 | AI89: 462.15 | AJ89: 334.3 | AK89: 462.15 | AL89: 338.43 | AM89: 467.86 | AN89: 338.43 | AO89: 467.86 | AP89: 340.53 | AQ89: 470.76 | AR89: 340.53 | AS89: 470.76 | AT89: 342.66 | AU89: 473.71 | AV89: 342.66 | AW89: 473.71 | AX89: 344.82 | AY89: 476.69 | AZ89: 344.82 | BA89: 476.69 | BB89: 347 | BC89: 479.71 | BD89: 347 | BE89: 479.71 | BF89: 351.45 | BG89: 485.86 | BH89: 351.45 | BI89: 485.86 | BJ89: 353.72 | BK89: 489 | BL89: 353.72 | BM89: 489 | BN89: 356.01 | BO89: 492.16 | BP89: 356.01 | BQ89: 492.16 | BR89: Não | BS89: Não | BT89: Não | BU89: Não | BV89: 0 | BW89: Positiva | BX89: Não | BY89: - (*)
A90: 11.643.096/0004-75 | B90: Transfer Price | C90: 11.643.096/0001-22 | D90: VIATRIS FARMACEUTICA DO BRASIL LTDA | E90: 541518090008207 | F90: 1883000300038 | G90: 7898560664014 | H90: =VLOOKUP(E90,[2]UPJOHN!$D$1:$F$65536,3,0) -> #N/A | I90: NÃO COMERCILIZA NO MOMENTO | J90: =I90 -> NÃO COMERCILIZA NO MOMENTO | K90: PIMECROLIMO | L90: ELIDEL | M90: 10 MG / G CREME DERM CT BG AL X 100 G | N90: ELIDEL10 MG / G CREME DERM CT BG AL X 100 G | O90: D5X - OUTROS PRODUTOS ANTI-INFLAMATÓRIOS NÃO ESTEROIDAIS DERMATOLÓGICOS | P90: Novo | Q90: Regulado | R90: 913.69 | S90: 1263.12 | T90: 913.69 | U90: 1263.12 | V90: 1038.28 | W90: 1435.36 | X90: 1038.28 | Y90: 1435.36 | Z90: 1100.83 | AA90: 1521.83 | AB90: 1100.83 | AC90: 1521.83 | AD90: 1107.5 | AE90: 1531.05 | AF90: 1107.5 | AG90: 1531.05 | AH90: 1114.26 | AI90: 1540.4 | AJ90: 1114.26 | AK90: 1540.4 | AL90: 1128.01 | AM90: 1559.41 | AN90: 1128.01 | AO90: 1559.41 | AP90: 1135.02 | AQ90: 1569.1 | AR90: 1135.02 | AS90: 1569.1 | AT90: 1142.11 | AU90: 1578.9 | AV90: 1142.11 | AW90: 1578.9 | AX90: 1149.3 | AY90: 1588.84 | AZ90: 1149.3 | BA90: 1588.84 | BB90: 1156.57 | BC90: 1598.89 | BD90: 1156.57 | BE90: 1598.89 | BF90: 1171.4 | BG90: 1619.39 | BH90: 1171.4 | BI90: 1619.39 | BJ90: 1178.96 | BK90: 1629.84 | BL90: 1178.96 | BM90: 1629.84 | BN90: 1186.61 | BO90: 1640.42 | BP90: 1186.61 | BQ90: 1640.42 | BR90: Não | BS90: Não | BT90: Não | BU90: Não | BV90: 0 | BW90: Positiva | BX90: Não | BY90: - (*)
A91: 11.643.096/0004-75 | B91: Viatris Farmacêutica do Brasil Ltda. | C91: 11.643.096/0001-22 | D91: VIATRIS FARMACEUTICA DO BRASIL LTDA | E91: 541519120016817 | F91: 1883000510016 | G91: 7898560664250 | H91: =VLOOKUP(E91,'[2]VIATRIS '!$D$1:$F$65536,3,0) -> 7898560664250 | I91: 400553738 | J91: #N/A | K91: PLANTAGO OVATA FORSSK. | L91: PLANTABEN | M91: 3,5 G PO EFEV CT 10 ENV AL/PLAS PE X 5 G (SABOR LARANJA) | N91: PLANTABEN3,5 G PO EFEV CT 10 ENV AL/PLAS PE X 5 G (SABOR LARANJA) | O91: A6A3 - LAXANTES INCREMENTADORES DO BOLO FECAL | P91: Fitoterápico | Q91: Liberado | R91: 42.64 | S91: 57.2 | T91: 42.64 | U91: 57.2 | V91: 51.39 | W91: 68.65 | X91: 46.29 | Y91: 61.84 | Z91: 54.96 | AA91: 73.25 | AB91: 47.84 | AC91: 66.14 | AD91: 55.34 | AE91: 73.74 | AF91: 48.13 | AG91: 66.53 | AH91: 55.73 | AI91: 74.25 | AJ91: 48.42 | AK91: 66.94 | AL91: 56.52 | AM91: 75.26 | AN91: 49.02 | AO91: 67.76 | AP91: 56.92 | AQ91: 75.79 | AR91: 49.33 | AS91: 68.19 | AT91: 57.34 | AU91: 76.32 | AV91: 49.63 | AW91: 68.61 | AX91: 57.76 | AY91: 76.86 | AZ91: 51.24 | BA91: 70.84 | BB91: 58.18 | BC91: 77.39 | BD91: 51.56 | BE91: 71.28 | BF91: 59.04 | BG91: 78.51 | BH91: 52.23 | BI91: 72.2 | BJ91: 58.87 | BK91: 78.98 | BL91: 52.56 | BM91: 72.66 | BN91: 59.94 | BO91: 79.66 | BP91: 59.94 | BQ91: 79.66 | BR91: Não | BS91: Não | BT91: Não | BU91: Não | BV91: 0 | BW91: Negativa | BX91: Sim | BY91: Tarja Sem Tarja
A92: 11.643.096/0004-75 | B92: Viatris Farmacêutica do Brasil Ltda. | C92: 11.643.096/0001-22 | D92: VIATRIS FARMACEUTICA DO BRASIL LTDA | E92: 541519120016917 | F92: 1883000510032 | G92: 7898560664267 | H92: =VLOOKUP(E92,'[2]VIATRIS '!$D$1:$F$65536,3,0) -> 7898560664267 | I92: 400553739 | J92: #N/A | K92: PLANTAGO OVATA FORSSK. | L92: PLANTABEN | M92: 3,5 G PO EFEV CT 30 ENV AL/PLAS PE X 5 G (SABOR LARANJA) | N92: PLANTABEN3,5 G PO EFEV CT 30 ENV AL/PLAS PE X 5 G (SABOR LARANJA) | O92: A6A3 - LAXANTES INCREMENTADORES DO BOLO FECAL | P92: Fitoterápico | Q92: Liberado | R92: 112.6 | S92: 151.05 | T92: 112.6 | U92: 151.05 | V92: 136.34 | W92: 182.13 | X92: 122.82 | Y92: 164.06 | Z92: 145.79 | AA92: 194.33 | AB92: 126.91 | AC92: 175.45 | AD92: 146.81 | AE92: 195.65 | AF92: 127.69 | AG92: 176.53 | AH92: 147.84 | AI92: 196.97 | AJ92: 128.46 | AK92: 177.59 | AL92: 149.95 | AM92: 199.69 | AN92: 130.05 | AO92: 179.79 | AP92: 151.03 | AQ92: 201.07 | AR92: 130.86 | AS92: 180.9 | AT92: 152.12 | AU92: 202.48 | AV92: 131.68 | AW92: 182.04 | AX92: 153.23 | AY92: 203.91 | AZ92: 135.94 | BA92: 187.93 | BB92: 154.36 | BC92: 205.36 | BD92: 136.8 | BE92: 189.12 | BF92: 156.66 | BG92: 208.31 | BH92: 138.56 | BI92: 191.54 | BJ92: 156.19 | BK92: 209.52 | BL92: 139.45 | BM92: 192.78 | BN92: 159.04 | BO92: 211.36 | BP92: 159.04 | BQ92: 211.36 | BR92: Não | BS92: Não | BT92: Não | BU92: Não | BV92: 0 | BW92: Negativa | BX92: Sim | BY92: Tarja Sem Tarja
A93: 11.643.096/0004-75 | B93: Viatris Farmacêutica do Brasil Ltda. | C93: 11.643.096/0001-22 | D93: VIATRIS FARMACEUTICA DO BRASIL LTDA | E93: 541519120017117 | F93: 1883000490015 | G93: 7898560664311 | H93: =VLOOKUP(E93,'[2]VIATRIS '!$D$1:$F$65536,3,0) -> 7898560664311 | I93: 400553701 | J93: #N/A | K93: PLANTAGO OVATA FORSSK.;SENNA ALEXANDRINA MILL. | L93: AGIOLAX | M93: (520 MG/G + 22 MG/G) + 99,45 MG/G GRAN FR PLAS OPC X 100 G | N93: AGIOLAX(520 MG/G + 22 MG/G) + 99,45 MG/G GRAN FR PLAS OPC X 100 G | O93: A6A3 - LAXANTES INCREMENTADORES DO BOLO FECAL | P93: Fitoterápico | Q93: Liberado | R93: 73.29 | S93: 101.33 | T93: 82.09 | U93: 101.33 | V93: 93.28 | W93: 125.13 | X93: 83.29 | Y93: 115.14 | Z93: 98.9 | AA93: 132.67 | AB93: 88.31 | AC93: 122.08 | AD93: 99.5 | AE93: 133.48 | AF93: 88.84 | AG93: 122.82 | AH93: 100.11 | AI93: 134.29 | AJ93: 89.38 | AK93: 123.56 | AL93: 101.35 | AM93: 135.96 | AN93: 90.49 | AO93: 125.1 | AP93: 101.98 | AQ93: 136.8 | AR93: 91.05 | AS93: 125.87 | AT93: 102.61 | AU93: 137.65 | AV93: 91.62 | AW93: 126.66 | AX93: 103.26 | AY93: 138.52 | AZ93: 92.19 | BA93: 127.45 | BB93: 103.91 | BC93: 139.39 | BD93: 92.78 | BE93: 128.26 | BF93: 105.24 | BG93: 141.18 | BH93: 93.97 | BI93: 129.91 | BJ93: 105.92 | BK93: 142.09 | BL93: 94.57 | BM93: 130.74 | BN93: 106.61 | BO93: 143.01 | BP93: 95.19 | BQ93: 131.59 | BR93: Não | BS93: Não | BT93: Não | BU93: Não | BV93: 0 | BW93: Negativa | BX93: Sim | BY93: - (*)
A94: 11.643.096/0004-75 | B94: Viatris Farmacêutica do Brasil Ltda. | C94: 11.643.096/0001-22 | D94: VIATRIS FARMACEUTICA DO BRASIL LTDA | E94: 541519120017217 | F94: 1883000490023 | G94: 7898560664328 | H94: =VLOOKUP(E94,'[2]VIATRIS '!$D$1:$F$65536,3,0) -> 7898560664328 | I94: 400553702 | J94: #N/A | K94: PLANTAGO OVATA FORSSK.;SENNA ALEXANDRINA MILL. | L94: AGIOLAX | M94: (520 MG/G + 22 MG/G) + 99,45 MG/G GRAN FR PLAS OPC X 250 G | N94: AGIOLAX(520 MG/G + 22 MG/G) + 99,45 MG/G GRAN FR PLAS OPC X 250 G | O94: A6A3 - LAXANTES INCREMENTADORES DO BOLO FECAL | P94: Fitoterápico | Q94: Liberado | R94: 156.09 | S94: 215.78 | T94: 174.82 | U94: 215.78 | V94: 198.66 | W94: 266.5 | X94: 177.37 | Y94: 245.2 | Z94: 210.63 | AA94: 282.55 | AB94: 188.06 | AC94: 259.98 | AD94: 211.9 | AE94: 284.26 | AF94: 189.2 | AG94: 261.56 | AH94: 213.2 | AI94: 286 | AJ94: 190.35 | AK94: 263.15 | AL94: 215.83 | AM94: 289.53 | AN94: 192.7 | AO94: 266.4 | AP94: 217.17 | AQ94: 291.33 | AR94: 193.9 | AS94: 268.06 | AT94: 218.53 | AU94: 293.15 | AV94: 195.11 | AW94: 269.73 | AX94: 219.9 | AY94: 294.99 | AZ94: 196.34 | BA94: 271.43 | BB94: 221.29 | BC94: 296.85 | BD94: 197.58 | BE94: 273.14 | BF94: 224.13 | BG94: 300.66 | BH94: 200.11 | BI94: 276.64 | BJ94: 225.57 | BK94: 302.59 | BL94: 201.41 | BM94: 278.44 | BN94: 227.04 | BO94: 304.57 | BP94: 202.71 | BQ94: 280.23 | BR94: Não | BS94: Não | BT94: Não | BU94: Não | BV94: 0 | BW94: Negativa | BX94: Sim | BY94: - (*)
A95: 11.643.096/0004-75 | B95: Transfer Price | C95: 11.643.096/0001-22 | D95: VIATRIS FARMACEUTICA DO BRASIL LTDA | E95: 541519030014517 | F95: 1883000580014 | G95: 7898560664120 | H95: =VLOOKUP(E95,'[2]VIATRIS '!$D$1:$F$65536,3,0) -> 7898560664120 | I95: NÃO COMERCILIZA NO MOMENTO | J95: =I95 -> NÃO COMERCILIZA NO MOMENTO | K95: PROPIONATO DE FLUTICASONA;CLORIDRATO DE AZELASTINA | L95: DYMISTA | M95: 137 MCG + 50 MCG/DOSE SUS INAL NAS CT FR SPR VD AMB X 6,4 G | N95: DYMISTA137 MCG + 50 MCG/DOSE SUS INAL NAS CT FR SPR VD AMB X 6,4 G | O95: R1A9 - OUTRAS PREPARAÇÕES TÓPICAS NASAIS | P95: Novo | Q95: Regulado | R95: 23.73 | S95: 32.81 | T95: 26.58 | U95: 32.81 | V95: 30.2 | W95: 40.51 | X95: 26.97 | Y95: 37.28 | Z95: 32.02 | AA95: 42.95 | AB95: 28.59 | AC95: 39.52 | AD95: 32.22 | AE95: 43.22 | AF95: 28.77 | AG95: 39.77 | AH95: 32.41 | AI95: 43.48 | AJ95: 28.94 | AK95: 40.01 | AL95: 32.81 | AM95: 44.01 | AN95: 29.3 | AO95: 40.51 | AP95: 33.02 | AQ95: 44.3 | AR95: 29.48 | AS95: 40.75 | AT95: 33.23 | AU95: 44.58 | AV95: 29.67 | AW95: 41.02 | AX95: 33.43 | AY95: 44.85 | AZ95: 29.85 | BA95: 41.27 | BB95: 33.65 | BC95: 45.14 | BD95: 30.04 | BE95: 41.53 | BF95: 34.08 | BG95: 45.72 | BH95: 30.43 | BI95: 42.07 | BJ95: 34.3 | BK95: 46.01 | BL95: 30.62 | BM95: 42.33 | BN95: 34.52 | BO95: 46.31 | BP95: 30.82 | BQ95: 42.61 | BR95: Não | BS95: Não | BT95: Não | BU95: Não | BV95: 0 | BW95: Negativa | BX95: Não | BY95: Tarja Vermelha
A96: 11.643.096/0004-75 | B96: Transfer Price | C96: 11.643.096/0001-22 | D96: VIATRIS FARMACEUTICA DO BRASIL LTDA | E96: 541519030014617 | F96: 1883000580022 | G96: 7898560664137 | H96: =VLOOKUP(E96,'[2]VIATRIS '!$D$1:$F$65536,3,0) -> 7898560664137 | I96: 400543629 | J96: #N/A | K96: PROPIONATO DE FLUTICASONA;CLORIDRATO DE AZELASTINA | L96: DYMISTA | M96: 137 MCG + 50 MCG/DOSE SUS INAL NAS CT FR SPR VD AMB X 23 G | N96: DYMISTA137 MCG + 50 MCG/DOSE SUS INAL NAS CT FR SPR VD AMB X 23 G | O96: R1A9 - OUTRAS PREPARAÇÕES TÓPICAS NASAIS | P96: Novo | Q96: Regulado | R96: 85.33 | S96: 117.96 | T96: 95.57 | U96: 117.96 | V96: 108.6 | W96: 145.68 | X96: 96.97 | Y96: 134.06 | Z96: 115.14 | AA96: 154.46 | AB96: 102.81 | AC96: 142.13 | AD96: 115.84 | AE96: 155.4 | AF96: 103.43 | AG96: 142.99 | AH96: 116.55 | AI96: 156.35 | AJ96: 104.06 | AK96: 143.86 | AL96: 117.99 | AM96: 158.28 | AN96: 105.35 | AO96: 145.64 | AP96: 118.72 | AQ96: 159.26 | AR96: 106 | AS96: 146.54 | AT96: 119.46 | AU96: 160.25 | AV96: 106.66 | AW96: 147.45 | AX96: 120.21 | AY96: 161.26 | AZ96: 107.33 | BA96: 148.38 | BB96: 120.97 | BC96: 162.28 | BD96: 108.01 | BE96: 149.32 | BF96: 122.53 | BG96: 164.37 | BH96: 109.4 | BI96: 151.24 | BJ96: 123.32 | BK96: 165.43 | BL96: 110.1 | BM96: 152.21 | BN96: 124.12 | BO96: 166.5 | BP96: 110.82 | BQ96: 153.2 | BR96: Não | BS96: Não | BT96: Não | BU96: Não | BV96: 0 | BW96: Negativa | BX96: Sim | BY96: Tarja Vermelha
A97: 05.656.727/0001-45 | B97: Viatris Brasil Imp. e Distrib. Medicamentos Ltda. | C97: 11.643.096/0001-22 | D97: VIATRIS FARMACEUTICA DO BRASIL LTDA | E97: 541523070029904 | F97: 1883000970033 | G97: 7898560666261 | H97: =VLOOKUP(E97,'[2]VIATRIS '!$D$1:$F$65536,3,0) -> 7898560666261 | I97: 400575509 | J97: #N/A | K97: RIVAROXABANA | L97: XANEV | M97: 10 MG COM REV CT BL AL PLAS PVC/PVDC TRANS X 30 | N97: XANEV10 MG COM REV CT BL AL PLAS PVC/PVDC TRANS X 30 | O97: B1F - INIBIDORES DIRETOS DO FATOR XA | P97: Similar | Q97: Regulado | R97: 210.31 | S97: 290.74 | T97: 210.31 | U97: 290.74 | V97: 238.99 | W97: 330.39 | X97: 238.99 | Y97: 330.39 | Z97: 253.39 | AA97: 350.3 | AB97: 253.39 | AC97: 350.3 | AD97: 254.92 | AE97: 352.41 | AF97: 254.92 | AG97: 352.41 | AH97: 256.48 | AI97: 354.57 | AJ97: 256.48 | AK97: 354.57 | AL97: 259.64 | AM97: 358.94 | AN97: 259.64 | AO97: 358.94 | AP97: 261.25 | AQ97: 361.16 | AR97: 261.25 | AS97: 361.16 | AT97: 262.89 | AU97: 363.43 | AV97: 262.89 | AW97: 363.43 | AX97: 264.54 | AY97: 365.71 | AZ97: 264.54 | BA97: 365.71 | BB97: 266.22 | BC97: 368.03 | BD97: 266.22 | BE97: 368.03 | BF97: 269.63 | BG97: 372.75 | BH97: 269.63 | BI97: 372.75 | BJ97: 271.37 | BK97: 375.15 | BL97: 271.37 | BM97: 375.15 | BN97: 273.13 | BO97: 377.59 | BP97: 273.13 | BQ97: 377.59 | BR97: Não | BS97: Não | BT97: Não | BU97: Não | BV97: 0 | BW97: Positiva | BX97: Não | BY97: Tarja Vermelha
A98: 05.656.727/0001-45 | B98: Viatris Brasil Imp. e Distrib. Medicamentos Ltda. | C98: 11.643.096/0001-22 | D98: VIATRIS FARMACEUTICA DO BRASIL LTDA | E98: 541523070030304 | F98: 1883000970076 | G98: 7898560666322 | H98: =VLOOKUP(E98,'[2]VIATRIS '!$D$1:$F$65536,3,0) -> 7898560666322 | I98: 400575510 | J98: #N/A | K98: RIVAROXABANA | L98: XANEV | M98: 15 MG COM REV CT BL AL PLAS PVC/PVDC TRANS X 28 | N98: XANEV15 MG COM REV CT BL AL PLAS PVC/PVDC TRANS X 28 | O98: B1F - INIBIDORES DIRETOS DO FATOR XA | P98: Similar | Q98: Regulado | R98: 198.59 | S98: 274.54 | T98: 198.59 | U98: 274.54 | V98: 225.67 | W98: 311.98 | X98: 225.67 | Y98: 311.98 | Z98: 239.27 | AA98: 330.78 | AB98: 239.27 | AC98: 330.78 | AD98: 240.72 | AE98: 332.78 | AF98: 240.72 | AG98: 332.78 | AH98: 242.18 | AI98: 334.8 | AJ98: 242.18 | AK98: 334.8 | AL98: 245.17 | AM98: 338.93 | AN98: 245.17 | AO98: 338.93 | AP98: 246.7 | AQ98: 341.05 | AR98: 246.7 | AS98: 341.05 | AT98: 248.24 | AU98: 343.18 | AV98: 248.24 | AW98: 343.18 | AX98: 249.8 | AY98: 345.33 | AZ98: 249.8 | BA98: 345.33 | BB98: 251.38 | BC98: 347.52 | BD98: 251.38 | BE98: 347.52 | BF98: 254.6 | BG98: 351.97 | BH98: 254.6 | BI98: 351.97 | BJ98: 256.25 | BK98: 354.25 | BL98: 256.25 | BM98: 354.25 | BN98: 257.91 | BO98: 356.55 | BP98: 257.91 | BQ98: 356.55 | BR98: Não | BS98: Não | BT98: Não | BU98: Não | BV98: 0 | BW98: Positiva | BX98: Não | BY98: Tarja Vermelha
A99: 05.656.727/0001-45 | B99: Viatris Brasil Imp. e Distrib. Medicamentos Ltda. | C99: 11.643.096/0001-22 | D99: VIATRIS FARMACEUTICA DO BRASIL LTDA | E99: 541523070030804 | F99: 1883000970122 | G99: 7898560666407 | H99: =VLOOKUP(E99,'[2]VIATRIS '!$D$1:$F$65536,3,0) -> 7898560666407 | I99: 400575511 | J99: #N/A | K99: RIVAROXABANA | L99: XANEV | M99: 20 MG COM REV CT BL AL PLAS PVC/PVDC TRANS X 28 | N99: XANEV20 MG COM REV CT BL AL PLAS PVC/PVDC TRANS X 28 | O99: B1F - INIBIDORES DIRETOS DO FATOR XA | P99: Similar | Q99: Regulado | R99: 197.38 | S99: 272.87 | T99: 197.38 | U99: 272.87 | V99: 224.3 | W99: 310.08 | X99: 224.3 | Y99: 310.08 | Z99: 237.81 | AA99: 328.76 | AB99: 237.81 | AC99: 328.76 | AD99: 239.25 | AE99: 330.75 | AF99: 239.25 | AG99: 330.75 | AH99: 240.71 | AI99: 332.77 | AJ99: 240.71 | AK99: 332.77 | AL99: 243.68 | AM99: 336.87 | AN99: 243.68 | AO99: 336.87 | AP99: 245.19 | AQ99: 338.96 | AR99: 245.19 | AS99: 338.96 | AT99: 246.73 | AU99: 341.09 | AV99: 246.73 | AW99: 341.09 | AX99: 248.28 | AY99: 343.23 | AZ99: 248.28 | BA99: 343.23 | BB99: 249.85 | BC99: 345.4 | BD99: 249.85 | BE99: 345.4 | BF99: 253.05 | BG99: 349.83 | BH99: 253.05 | BI99: 349.83 | BJ99: 254.68 | BK99: 352.08 | BL99: 254.68 | BM99: 352.08 | BN99: 256.34 | BO99: 354.38 | BP99: 256.34 | BQ99: 354.38 | BR99: Não | BS99: Não | BT99: Não | BU99: Não | BV99: 0 | BW99: Positiva | BX99: Não | BY99: Tarja Vermelha
A100: 11.643.096/0004-75 | B100: Viatris Farmacêutica do Brasil Ltda. | C100: 11.643.096/0001-22 | D100: VIATRIS FARMACEUTICA DO BRASIL LTDA | E100: 541519120016517 | F100: 1883000500010 | G100: 7898560664335 | H100: =VLOOKUP(E100,'[2]VIATRIS '!$D$1:$F$65536,3,0) -> 7898560664335 | I100: 400553703 | J100: #N/A | K100: SILYBUM MARIANUM (L.) GAERTN | L100: LEGALON | M100: 90 MG DRG CT BL AL PLAS INC X 30 | N100: LEGALON90 MG DRG CT BL AL PLAS INC X 30 | O100: A5B - HEPATOPROTETORES E LIPOTRÓPICOS | P100: Fitoterápico | Q100: Liberado | R100: 91.03 | S100: 122.11 | T100: 91.03 | U100: 122.11 | V100: 109.7 | W100: 146.53 | X100: 98.83 | Y100: 132.01 | Z100: 117.3 | AA100: 156.36 | AB100: 102.12 | AC100: 141.18 | AD100: 118.13 | AE100: 157.42 | AF100: 102.74 | AG100: 142.03 | AH100: 118.96 | AI100: 158.5 | AJ100: 103.36 | AK100: 142.89 | AL100: 120.65 | AM100: 160.67 | AN100: 104.65 | AO100: 144.66 | AP100: 121.52 | AQ100: 161.78 | AR100: 105.29 | AS100: 145.55 | AT100: 122.4 | AU100: 162.92 | AV100: 105.95 | AW100: 146.47 | AX100: 123.3 | AY100: 164.07 | AZ100: 109.4 | BA100: 151.23 | BB100: 124.21 | BC100: 165.24 | BD100: 110.08 | BE100: 152.19 | BF100: 126.06 | BG100: 167.62 | BH100: 111.49 | BI100: 154.13 | BJ100: 125.68 | BK100: 168.6 | BL100: 112.21 | BM100: 155.13 | BN100: 127.96 | BO100: 170.06 | BP100: 127.96 | BQ100: 170.06 | BR100: Não | BS100: Não | BT100: Não | BU100: Não | BV100: 0 | BW100: Negativa | BX100: Sim | BY100: - (*)
A101: 11.643.096/0004-75 | B101: Viatris Farmacêutica do Brasil Ltda. | C101: 11.643.096/0001-22 | D101: VIATRIS FARMACEUTICA DO BRASIL LTDA | E101: 541519120016717 | F101: 1883000500037 | G101: 7898560664373 | H101: =VLOOKUP(E101,'[2]VIATRIS '!$D$1:$F$65536,3,0) -> 7898560664373 | I101: 400553737 | J101: #N/A | K101: SILYBUM MARIANUM (L.) GAERTN | L101: LEGALON | M101: 64 MG/5 ML SUS OR CT FR PLAS AMB X 100 ML | N101: LEGALON64 MG/5 ML SUS OR CT FR PLAS AMB X 100 ML | O101: A5B - HEPATOPROTETORES E LIPOTRÓPICOS | P101: Fitoterápico | Q101: Liberado | R101: 63.7 | S101: 85.45 | T101: 63.7 | U101: 85.45 | V101: 75.34 | W101: 100.63 | X101: 67.86 | Y101: 90.65 | Z101: 80.57 | AA101: 107.39 | AB101: 70.13 | AC101: 96.95 | AD101: 81.12 | AE101: 108.11 | AF101: 70.56 | AG101: 97.55 | AH101: 81.7 | AI101: 108.85 | AJ101: 70.99 | AK101: 98.14 | AL101: 82.87 | AM101: 110.36 | AN101: 71.86 | AO101: 99.34 | AP101: 83.45 | AQ101: 111.11 | AR101: 72.31 | AS101: 99.97 | AT101: 84.06 | AU101: 111.89 | AV101: 72.77 | AW101: 100.59 | AX101: 84.67 | AY101: 112.68 | AZ101: 75.12 | BA101: 103.85 | BB101: 85.29 | BC101: 113.47 | BD101: 75.59 | BE101: 104.5 | BF101: 86.57 | BG101: 115.11 | BH101: 76.57 | BI101: 105.85 | BJ101: 86.3 | BK101: 115.77 | BL101: 77.06 | BM101: 106.53 | BN101: 87.87 | BO101: 116.78 | BP101: 87.87 | BQ101: 116.78 | BR101: Não | BS101: Não | BT101: Não | BU101: Não | BV101: 0 | BW101: Negativa | BX101: Sim | BY101: - (*)
...

Sheet PREÇO VIATRIS_Reajuste Abr26
V1: 10 | W1: 35 | X1: 11 | Y1: 36 | Z1: 12 | AA1: 37 | AB1: 13 | AC1: 38 | AD1: 14 | AE1: 39 | AF1: 15 | AG1: 40 | AH1: 16 | AI1: 41 | AJ1: 17 | AK1: 42 | AL1: 18 | AM1: 43 | AN1: 19 | AO1: 44 | AP1: 20 | AQ1: 45 | AR1: 21 | AS1: 46 | AT1: 22 | AU1: 47 | AV1: 23 | AW1: 48 | AX1: 24 | AY1: 49 | AZ1: 25 | BA1: 50 | BB1: 26 | BC1: 51 | BD1: 27 | BE1: 52 | BF1: 28 | BG1: 53 | BH1: 29 | BI1: 54 | BJ1: 30 | BK1: 55 | BL1: 31 | BM1: 56 | BN1: 32 | BO1: 57 | BP1: 33 | BQ1: 58 | BR1: 34 | BS1: 59
T2: PF Sem Impostos (controle interno) | V2: ICMS 0% | X2: ICMS 12% (Apenas genéricos SP-MG) | Z2: ICMS 12% (ALC) | AB2: ICMS 17% (DF-ES-MS-MT-RS-SC) | AD2: ICMS 17% (ALC) | AF2: ICMS 17,5% | AH2: ICMS 17,5% (ALC) | AJ2: ICMS 18% (AP-MG-SP) | AL2: ICMS 18% ALC (AP-MG-SP) | AN2: ICMS 19% (AC-GO-PA-SE) | AP2: ICMS 19% (ALC) | AR2: ICMS 19,5% (PR-RO) | AT2: ICMS 19,5% (ALC) | AV2: ICMS 20% (AM-CE-PB-RR-TO-RN) | AX2: ICMS 20% ALC | AZ2: ICMS 20,5% (AL-BA-PE) | BB2: ICMS 20,5% ALC | BD2: ICMS 21% | BF2: ICMS 21% ALC | BH2: ICMS 22% (RJ) | BJ2: ICMS 22% ALC | BL2: ICMS 22,5% (PI) | BN2: ICMS 22,5% (ALC) | BP2: ICMS 23% (MA) | BR2: ICMS 23% (ALC)
A3: Nível de Reajuste CMED | B3: CÓDIGO GGREM | C3: CNPJ (Faturamento) | D3: Empresa (Faturamento) | E3: DETENTORA ( CNPJ) | F3: DETENTORA EMPRESA | G3: CÓDIGO GGREM | H3: REGISTRO | I3: EAN | J3: EAN 2 | K3: COD SAP | L3: CODIGO NOVO | M3: SUBSTÂNCIA | N3: PRODUTO | O3: APRESENTAÇÃO | P3: PRODUTO E APRESENTAÇÃO | Q3: CLASSE TERAPÊUTICA | R3: TIPO DE PRODUTO (STATUS DO PRODUTO) | S3: REGIME DE PREÇO | T3: PF Sem Impostos | U3: PMC Sem Impostos | V3: PF 0% | W3: PMC 0 % | X3: PF 12 % | Y3: PMC 12 % | Z3: PF 12 % ALC | AA3: PMC 12 % ALC | AB3: PF 17 % | AC3: PMC 17 % | AD3: PF 17 % ALC | AE3: PMC 17 % ALC | AF3: PF 17,5 % | AG3: PMC 17,5 % | AH3: PF 17,5 % ALC | AI3: PMC 17,5 % ALC | AJ3: PF 18 % | AK3: PMC 18 % | AL3: PF 18 % ALC | AM3: PMC 18 % ALC | AN3: PF 19 % | AO3: PMC 19 % | AP3: PF 19 % ALC | AQ3: PMC 19 % ALC | AR3: PF 19,5 % | AS3: PMC 19,5 % | AT3: PF 19,5 % ALC | AU3: PMC 19,5 % ALC | AV3: PF 20 % | AW3: PMC 20 % | AX3: PF 20 % ALC | AY3: PMC 20 % ALC | AZ3: PF 20,5 % | BA3: PMC 20,5 % | BB3: PF 20,5 % ALC | BC3: PMC 20,5 % ALC | BD3: PF 21 % | BE3: PMC 21 % | BF3: PF 21 % ALC | BG3: PMC 21 % ALC | BH3: PF 22 % | BI3: PMC 22 % | BJ3: PF 22 % ALC | BK3: PMC 22 % ALC | BL3: PF 22,5 % | BM3: PMC 22,5 % | BN3: PF 22,5 % ALC | BO3: PMC 22,5 % ALC | BP3: PF 23 % | BQ3: PMC 23 % | BR3: PF 23 % ALC | BS3: PMC 23 % ALC | BT3: RESTRIÇÃO HOSPITALAR | BU3: CAP | BV3: CONFAZ 87 | BW3: ICMS 0% | BX3: ANÁLISE RECURSAL | BY3: LISTA DE CONCESSÃO DE CRÉDITO TRIBUTÁRIO (PIS/COFINS) | BZ3: COMERCIALIZAÇÃO 2024 | CA3: TARJA
A4: =VLOOKUP($B4,[1]Planilha2!$A:$B,2,FALSE) -> 3 | B4: 541525040033317 | C4: 11.643.096/0004-75 | D4: Viatris Farmacêutica do Brasil Ltda. | E4: 11.643.096/0001-22 | F4: VIATRIS FARMACEUTICA DO BRASIL LTDA | G4: 541525040033317 | H4: 1883001060022 | I4: 7908236801169 | J4: 7898560666940 | K4: 400570990 | L4: 400579069 | M4: BROMIDRATO DE ELETRIPTANA | N4: ZEFORUS | O4: 20 MG COM REV CT BL AL PLAS PVC/PCTFE OPC X 4 | P4: ZEFORUS20 MG COM REV CT BL AL PLAS PVC/PCTFE OPC X 4 | Q4: N2C1 - ANTIENXAQUECOSOS TRIPTÂNICOS | R4: Novo | S4: Regulado | T4: 23.496 | U4: 31.5216 | V4: 26.7 | W4: 35.82 | X4: 30.34 | Y4: 40.7 | Z4: 26.7 | AA4: 35.82 | AB4: 32.17 | AC4: 43.15 | AD4: 28.31 | AE4: 37.98 | AF4: 32.36 | AG4: 43.41 | AH4: 28.48 | AI4: 38.2 | AJ4: 32.56 | AK4: 43.68 | AL4: 28.65 | AM4: 38.43 | AN4: 32.96 | AO4: 44.21 | AP4: 29.01 | AQ4: 38.92 | AR4: 33.17 | AS4: 44.5 | AT4: 29.19 | AU4: 39.16 | AV4: 33.37 | AW4: 44.76 | AX4: 29.37 | AY4: 39.4 | AZ4: 33.58 | BA4: 45.05 | BB4: 29.55 | BC4: 39.64 | BD4: 33.8 | BE4: 45.34 | BF4: 29.74 | BG4: 39.9 | BH4: 34.23 | BI4: 45.92 | BJ4: 30.12 | BK4: 40.4 | BL4: 34.45 | BM4: 46.21 | BN4: 30.32 | BO4: 40.67 | BP4: 34.67 | BQ4: 46.51 | BR4: 30.51 | BS4: 40.93 | BT4: Não | BU4: Não | BV4: Não | BW4: Não | BX4: 0 | BY4: Negativa | BZ4: Não | CA4: Tarja Vermelha
A5: =VLOOKUP($B5,[1]Planilha2!$A:$B,2,FALSE) -> 3 | B5: 541525040033617 | C5: 11.643.096/0004-75 | D5: Viatris Farmacêutica do Brasil Ltda. | E5: 11.643.096/0001-22 | F5: VIATRIS FARMACEUTICA DO BRASIL LTDA | G5: 541525040033617 | H5: 1883001060057 | I5: 7898560666957 | J5: 7908236801190 | K5: 400570993 | L5: 400579070 | M5: BROMIDRATO DE ELETRIPTANA | N5: ZEFORUS | O5: 80 MG COM REV CT BL AL PLAS PVC/PCTFE OPC X 2 | P5: ZEFORUS80 MG COM REV CT BL AL PLAS PVC/PCTFE OPC X 2 | Q5: N2C1 - ANTIENXAQUECOSOS TRIPTÂNICOS | R5: Novo | S5: Regulado | T5: 25.5024 | U5: 34.2144 | V5: 28.98 | W5: 38.88 | X5: 32.94 | Y5: 44.19 | Z5: 28.98 | AA5: 38.88 | AB5: 34.92 | AC5: 46.84 | AD5: 30.73 | AE5: 41.22 | AF5: 35.13 | AG5: 47.13 | AH5: 30.92 | AI5: 41.48 | AJ5: 35.35 | AK5: 47.42 | AL5: 31.1 | AM5: 41.72 | AN5: 35.78 | AO5: 48 | AP5: 31.49 | AQ5: 42.24 | AR5: 36 | AS5: 48.29 | AT5: 31.68 | AU5: 42.5 | AV5: 36.23 | AW5: 48.6 | AX5: 31.88 | AY5: 42.77 | AZ5: 36.46 | BA5: 48.91 | BB5: 32.08 | BC5: 43.03 | BD5: 36.69 | BE5: 49.22 | BF5: 32.29 | BG5: 43.32 | BH5: 37.16 | BI5: 49.85 | BJ5: 32.7 | BK5: 43.87 | BL5: 37.4 | BM5: 50.17 | BN5: 32.91 | BO5: 44.15 | BP5: 37.64 | BQ5: 50.49 | BR5: 33.12 | BS5: 44.43 | BT5: Não | BU5: Não | BV5: Não | BW5: Não | BX5: 0 | BY5: Negativa | BZ5: Não | CA5: Tarja Vermelha
A6: =VLOOKUP($B6,[1]Planilha2!$A:$B,2,FALSE) -> 3 | B6: 541525070033817 | C6: 11.643.096/0004-75 | D6: Viatris Farmacêutica do Brasil Ltda. | E6: 11.643.096/0001-22 | F6: VIATRIS FARMACEUTICA DO BRASIL LTDA | G6: 541525070033817 | H6: 1883001100032 | I6: 7898560666865 | J6: 7908236801213 | K6: 400570999 | L6: 400579040 | M6: EPLERENONA | N6: INSPRA | O6: 25 MG COM REV CT BL AL PLAS PVC OPC X 30 | P6: INSPRA25 MG COM REV CT BL AL PLAS PVC OPC X 30 | Q6: C3A1 - AGENTES DIURÉTICOS POUPADORES POTÁSSIO PUROS | R6: Novo | S6: Regulado | T6: 42.34568 | U6: 58.37104 | V6: 42.86 | W6: 59.08 | X6: 48.7 | Y6: 67.13 | Z6: 48.12 | AA6: 66.33 | AB6: 51.64 | AC6: 71.18 | AD6: 51.02 | AE6: 70.33 | AF6: 51.95 | AG6: 71.61 | AH6: 51.32 | AI6: 70.74 | AJ6: 52.27 | AK6: 72.05 | AL6: 51.64 | AM6: 71.18 | AN6: 52.91 | AO6: 72.93 | AP6: 52.28 | AQ6: 72.06 | AR6: 53.24 | AS6: 73.39 | AT6: 52.6 | AU6: 72.5 | AV6: 53.57 | AW6: 73.84 | AX6: 52.93 | AY6: 72.96 | AZ6: 53.91 | BA6: 74.31 | BB6: 53.26 | BC6: 73.41 | BD6: 54.25 | BE6: 74.78 | BF6: 53.6 | BG6: 73.88 | BH6: 54.95 | BI6: 75.74 | BJ6: 54.29 | BK6: 74.83 | BL6: 55.3 | BM6: 76.23 | BN6: 54.64 | BO6: 75.32 | BP6: 55.66 | BQ6: 76.72 | BR6: 54.99 | BS6: 75.8 | BT6: Não | BU6: Não | BV6: Não | BW6: Não | BX6: 0 | BY6: Positiva | BZ6: Não | CA6: Tarja Vermelha
A7: =VLOOKUP($B7,[1]Planilha2!$A:$B,2,FALSE) -> 3 | B7: 541525070033917 | C7: 11.643.096/0004-75 | D7: Viatris Farmacêutica do Brasil Ltda. | E7: 11.643.096/0001-22 | F7: VIATRIS FARMACEUTICA DO BRASIL LTDA | G7: 541525070033917 | H7: 1883001100075 | I7: 7898560666872 | J7: 7908236801220 | K7: 400571000 | L7: 400579041 | M7: EPLERENONA | N7: INSPRA | O7: 50 MG COM REV CT BL AL PLAS PVC OPC X 30 | P7: INSPRA50 MG COM REV CT BL AL PLAS PVC OPC X 30 | Q7: C3A1 - AGENTES DIURÉTICOS POUPADORES POTÁSSIO PUROS | R7: Novo | S7: Regulado | T7: 60.65332 | U7: 83.60456 | V7: 61.39 | W7: 84.62 | X7: 69.77 | Y7: 96.17 | Z7: 68.93 | AA7: 95.01 | AB7: 73.97 | AC7: 101.96 | AD7: 73.08 | AE7: 100.73 | AF7: 74.42 | AG7: 102.58 | AH7: 73.52 | AI7: 101.34 | AJ7: 74.87 | AK7: 103.2 | AL7: 73.97 | AM7: 101.96 | AN7: 75.8 | AO7: 104.48 | AP7: 74.89 | AQ7: 103.23 | AR7: 76.27 | AS7: 105.13 | AT7: 75.35 | AU7: 103.86 | AV7: 76.74 | AW7: 105.78 | AX7: 75.82 | AY7: 104.51 | AZ7: 77.23 | BA7: 106.45 | BB7: 76.3 | BC7: 105.17 | BD7: 77.71 | BE7: 107.12 | BF7: 76.78 | BG7: 105.83 | BH7: 78.71 | BI7: 108.49 | BJ7: 77.77 | BK7: 107.2 | BL7: 79.22 | BM7: 109.2 | BN7: 78.27 | BO7: 107.89 | BP7: 79.73 | BQ7: 109.9 | BR7: 78.78 | BS7: 108.59 | BT7: Não | BU7: Não | BV7: Não | BW7: Não | BX7: 0 | BY7: Positiva | BZ7: Não | CA7: Tarja Vermelha
A8: =VLOOKUP($B8,[1]Planilha2!$A:$B,2,FALSE) -> 2 | B8: 541525040033117 | C8: 11.643.096/0004-75 | D8: Viatris Farmacêutica do Brasil Ltda. | E8: 11.643.096/0001-22 | F8: VIATRIS FARMACEUTICA DO BRASIL LTDA | G8: 541525040033117 | H8: 1883001050019 | I8: 7898560666971 | J8: 7908236800858 | K8: 400569708 | L8: 400579067 | M8: LATANOPROSTA | N8: XALATAN | O8: 50 MCG/ML SOL OFT CT FR PLAS TRANS GOT X 2,5 ML | P8: XALATAN50 MCG/ML SOL OFT CT FR PLAS TRANS GOT X 2,5 ML | Q8: Prostaglandinas | R8: Referência | S8: MONITORADO | T8: 153.77232 | U8: 211.95564 | V8: 155.64 | W8: 214.53 | X8: 176.87 | Y8: 243.8 | Z8: 174.75 | AA8: 240.87 | AB8: 187.52 | AC8: 258.48 | AD8: 185.27 | AE8: 255.38 | AF8: 188.66 | AG8: 260.05 | AH8: 186.4 | AI8: 256.93 | AJ8: 189.81 | AK8: 261.63 | AL8: 187.53 | AM8: 258.49 | AN8: 192.15 | AO8: 264.86 | AP8: 189.85 | AQ8: 261.69 | AR8: 193.35 | AS8: 266.51 | AT8: 191.03 | AU8: 263.31 | AV8: 194.56 | AW8: 268.18 | AX8: 192.22 | AY8: 264.96 | AZ8: 195.78 | BA8: 269.86 | BB8: 193.43 | BC8: 266.62 | BD8: 197.02 | BE8: 271.57 | BF8: 194.65 | BG8: 268.3 | BH8: 199.54 | BI8: 275.05 | BJ8: 197.15 | BK8: 271.75 | BL8: 200.83 | BM8: 276.82 | BN8: 198.42 | BO8: 273.5 | BP8: 202.14 | BQ8: 278.63 | BR8: 199.71 | BS8: 275.28 | BT8: Não | BU8: Sim | BV8: Sim | BW8: Não | BX8: 0 | BY8: Positiva | BZ8: Não | CA8: TVTarja Vermelha
A9: =VLOOKUP($B9,[1]Planilha2!$A:$B,2,FALSE) -> 2 | B9: 541525040033017 | C9: 11.643.096/0004-75 | D9: Viatris Farmacêutica do Brasil Ltda. | E9: 11.643.096/0001-22 | F9: VIATRIS FARMACEUTICA DO BRASIL LTDA | G9: 541525040033017 | H9: 1883001030018 | I9: 7898560666964 | J9: 7908236800841 | K9: 400569707 | L9: 400579061 | M9: MALEATO DE TIMOLOL;LATANOPROSTA | N9: XALACOM | O9: 50 MCG/ML + 5 MG/ML SOL OFT CT FR GOT PLAS TRANS X 2,5 ML | P9: XALACOM50 MCG/ML + 5 MG/ML SOL OFT CT FR GOT PLAS TRANS X 2,5 ML | Q9: Antiglaucomatosos | R9: Referência | S9: MONITORADO | T9: 172.77156 | U9: 238.14752 | V9: 174.87 | W9: 241.04 | X9: 198.72 | Y9: 273.91 | Z9: 196.33 | AA9: 270.62 | AB9: 210.69 | AC9: 290.41 | AD9: 208.16 | AE9: 286.93 | AF9: 211.97 | AG9: 292.18 | AH9: 209.42 | AI9: 288.66 | AJ9: 213.26 | AK9: 293.96 | AL9: 210.7 | AM9: 290.43 | AN9: 215.89 | AO9: 297.58 | AP9: 213.3 | AQ9: 294.01 | AR9: 217.23 | AS9: 299.43 | AT9: 214.63 | AU9: 295.85 | AV9: 218.59 | AW9: 301.3 | AX9: 215.97 | AY9: 297.69 | AZ9: 219.97 | BA9: 303.21 | BB9: 217.33 | BC9: 299.57 | BD9: 221.36 | BE9: 305.12 | BF9: 218.7 | BG9: 301.46 | BH9: 224.2 | BI9: 309.04 | BJ9: 221.51 | BK9: 305.33 | BL9: 225.64 | BM9: 311.02 | BN9: 222.94 | BO9: 307.3 | BP9: 227.11 | BQ9: 313.05 | BR9: 224.38 | BS9: 309.28 | BT9: Não | BU9: Não | BV9: Não | BW9: Não | BX9: 0 | BY9: Positiva | BZ9: Não | CA9: TVTarja Vermelha
A10: =VLOOKUP($B10,[1]Planilha2!$A:$B,2,FALSE) -> 3 | B10: 541525040032317 | C10: 11.643.096/0004-75 | D10: Viatris Farmacêutica do Brasil Ltda. | E10: 11.643.096/0001-22 | F10: VIATRIS FARMACEUTICA DO BRASIL LTDA | G10: 541525040032317 | H10: 1883001010025 | I10: 7898560666896 | J10: 7908236800919 | K10: 400570996 | L10: 400579039 | M10: PREGABALINA | N10: LYRICA | O10: 25 MG CAP DURA CT BL AL PLAS PVC TRANS X 14 | P10: LYRICA25 MG CAP DURA CT BL AL PLAS PVC TRANS X 14 | Q10: N3A - ANTIEPILÉPTICOS | R10: Novo | S10: Regulado | T10: 16.549 | U10: 22.81292 | V10: 16.75 | W10: 23.09 | X10: 19.03 | Y10: 26.23 | Z10: 18.8 | AA10: 25.91 | AB10: 20.18 | AC10: 27.82 | AD10: 19.94 | AE10: 27.49 | AF10: 20.3 | AG10: 27.98 | AH10: 20.06 | AI10: 27.65 | AJ10: 20.42 | AK10: 28.15 | AL10: 20.18 | AM10: 27.82 | AN10: 20.68 | AO10: 28.51 | AP10: 20.43 | AQ10: 28.16 | AR10: 20.81 | AS10: 28.68 | AT10: 20.56 | AU10: 28.34 | AV10: 20.94 | AW10: 28.86 | AX10: 20.68 | AY10: 28.51 | AZ10: 21.07 | BA10: 29.04 | BB10: 20.81 | BC10: 28.68 | BD10: 21.2 | BE10: 29.22 | BF10: 20.95 | BG10: 28.88 | BH10: 21.47 | BI10: 29.59 | BJ10: 21.21 | BK10: 29.24 | BL10: 21.61 | BM10: 29.79 | BN10: 21.35 | BO10: 29.43 | BP10: 21.75 | BQ10: 29.98 | BR10: 21.49 | BS10: 29.62 | BT10: Não | BU10: Não | BV10: Não | BW10: Não | BX10: 0 | BY10: Positiva | BZ10: Não | CA10: Tarja Vermelha sob restrição
A11: =VLOOKUP($B11,[1]Planilha2!$A:$B,2,FALSE) -> 1 | B11: 541525040032417 | C11: 11.643.096/0004-75 | D11: Viatris Farmacêutica do Brasil Ltda. | E11: 11.643.096/0001-22 | F11: VIATRIS FARMACEUTICA DO BRASIL LTDA | G11: 541525040032417 | H11: 1883001010076 | I11: 7898560666902 | J11: 7908236800926 | K11: 400570997 | L11: 400579038 | M11: PREGABALINA | N11: LYRICA | O11: 75 MG CAP DURA CT BL AL PLAS PVC TRANS X 14 | P11: LYRICA75 MG CAP DURA CT BL AL PLAS PVC TRANS X 14 | Q11: N3A - ANTIEPILÉPTICOS | R11: Novo | S11: Regulado | T11: 68.06332 | U11: 93.82048 | V11: 68.89 | W11: 94.96 | X11: 78.29 | Y11: 107.91 | Z11: 77.35 | AA11: 106.62 | AB11: 83.01 | AC11: 114.42 | AD11: 82.01 | AE11: 113.04 | AF11: 83.51 | AG11: 115.11 | AH11: 82.51 | AI11: 113.73 | AJ11: 84.02 | AK11: 115.81 | AL11: 83.01 | AM11: 114.42 | AN11: 85.06 | AO11: 117.25 | AP11: 84.03 | AQ11: 115.83 | AR11: 85.58 | AS11: 117.96 | AT11: 84.56 | AU11: 116.56 | AV11: 86.12 | AW11: 118.71 | AX11: 85.09 | AY11: 117.29 | AZ11: 86.66 | BA11: 119.45 | BB11: 85.62 | BC11: 118.02 | BD11: 87.21 | BE11: 120.21 | BF11: 86.16 | BG11: 118.76 | BH11: 88.33 | BI11: 121.75 | BJ11: 87.27 | BK11: 120.29 | BL11: 88.9 | BM11: 122.54 | BN11: 87.83 | BO11: 121.06 | BP11: 89.47 | BQ11: 123.33 | BR11: 88.4 | BS11: 121.85 | BT11: Não | BU11: Não | BV11: Não | BW11: Não | BX11: 0 | BY11: Positiva | BZ11: Não | CA11: Tarja Vermelha sob restrição
A12: =VLOOKUP($B12,[1]Planilha2!$A:$B,2,FALSE) -> 3 | B12: 541525040032517 | C12: 11.643.096/0004-75 | D12: Viatris Farmacêutica do Brasil Ltda. | E12: 11.643.096/0001-22 | F12: VIATRIS FARMACEUTICA DO BRASIL LTDA | G12: 541525040032517 | H12: 1883001010092 | I12: 7898560666919 | J12: 7908236800933 | K12: 400570998 | L12: 400579037 | M12: PREGABALINA | N12: LYRICA | O12: 75 MG CAP DURA CT BL AL PLAS PVC TRANS X 28 | P12: LYRICA75 MG CAP DURA CT BL AL PLAS PVC TRANS X 28 | Q12: N3A - ANTIEPILÉPTICOS | R12: Novo | S12: Regulado | T12: 136.12664 | U12: 187.64096 | V12: 137.78 | W12: 189.92 | X12: 156.57 | Y12: 215.82 | Z12: 154.69 | AA12: 213.22 | AB12: 166 | AC12: 228.81 | AD12: 164.01 | AE12: 226.07 | AF12: 167.01 | AG12: 230.21 | AH12: 165 | AI12: 227.44 | AJ12: 168.02 | AK12: 231.6 | AL12: 166.01 | AM12: 228.83 | AN12: 170.1 | AO12: 234.47 | AP12: 168.06 | AQ12: 231.65 | AR12: 171.15 | AS12: 235.91 | AT12: 169.1 | AU12: 233.09 | AV12: 172.22 | AW12: 237.39 | AX12: 170.16 | AY12: 234.55 | AZ12: 173.31 | BA12: 238.89 | BB12: 171.23 | BC12: 236.02 | BD12: 174.4 | BE12: 240.39 | BF12: 172.31 | BG12: 237.51 | BH12: 176.64 | BI12: 243.48 | BJ12: 174.52 | BK12: 240.56 | BL12: 177.78 | BM12: 245.05 | BN12: 175.65 | BO12: 242.12 | BP12: 178.93 | BQ12: 246.64 | BR12: 176.79 | BS12: 243.69 | BT12: Não | BU12: Não | BV12: Não | BW12: Não | BX12: 0 | BY12: Positiva | BZ12: Não | CA12: Tarja Vermelha sob restrição
A13: =VLOOKUP($B13,[1]Planilha2!$A:$B,2,FALSE) -> 3 | B13: 541525040032817 | C13: 11.643.096/0004-75 | D13: Viatris Farmacêutica do Brasil Ltda. | E13: 11.643.096/0001-22 | F13: VIATRIS FARMACEUTICA DO BRASIL LTDA | G13: 541525040032817 | H13: 1883001010149 | I13: 7898560666889 | J13: 7908236800902 | K13: 400570995 | L13: 400579036 | M13: PREGABALINA | N13: LYRICA | O13: 150 MG CAP DURA CT BL AL PLAS PVC TRANS X 28 | P13: LYRICA150 MG CAP DURA CT BL AL PLAS PVC TRANS X 28 | Q13: N3A - ANTIEPILÉPTICOS | R13: Novo | S13: Regulado | T13: 208.74464 | U13: 287.73524 | V13: 211.28 | W13: 291.23 | X13: 240.09 | Y13: 330.94 | Z13: 237.21 | AA13: 326.97 | AB13: 254.55 | AC13: 350.87 | AD13: 251.5 | AE13: 346.67 | AF13: 256.09 | AG13: 352.99 | AH13: 253.02 | AI13: 348.76 | AJ13: 257.65 | AK13: 355.14 | AL13: 254.56 | AM13: 350.88 | AN13: 260.84 | AO13: 359.54 | AP13: 257.71 | AQ13: 355.23 | AR13: 262.46 | AS13: 361.77 | AT13: 259.31 | AU13: 357.43 | AV13: 264.1 | AW13: 364.03 | AX13: 260.93 | AY13: 359.66 | AZ13: 265.76 | BA13: 366.32 | BB13: 262.57 | BC13: 361.93 | BD13: 267.44 | BE13: 368.64 | BF13: 264.23 | BG13: 364.21 | BH13: 270.87 | BI13: 373.37 | BJ13: 267.62 | BK13: 368.89 | BL13: 272.61 | BM13: 375.76 | BN13: 269.34 | BO13: 371.26 | BP13: 274.39 | BQ13: 378.22 | BR13: 271.09 | BS13: 373.67 | BT13: Não | BU13: Não | BV13: Não | BW13: Não | BX13: 0 | BY13: Positiva | BZ13: Não | CA13: Tarja Vermelha sob restrição
A14: =VLOOKUP($B14,[1]Planilha2!$A:$B,2,FALSE) -> 3 | B14: 541523050027717 | C14: 11.643.096/0004-75 | D14: Viatris Farmacêutica do Brasil Ltda. | E14: 11.643.096/0001-22 | F14: VIATRIS FARMACEUTICA DO BRASIL LTDA | G14: 541523050027717 | H14: 1883000910022 | I14: 7908236800643 | J14: 7908236800643 | K14: 400569615 | L14: #N/A | M14: ALPRAZOLAM | N14: FRONTAL | O14: 0,25 MG COM CT BL AL PLAS TRANS X 30 | P14: FRONTAL0,25 MG COM CT BL AL PLAS TRANS X 30 | Q14: N5C - TRANQUILIZANTES | R14: Novo | S14: Regulado | T14: 22.2794 | U14: 30.70704 | V14: 22.55 | W14: 31.08 | X14: 25.62 | Y14: 35.31 | Z14: 25.32 | AA14: 34.9 | AB14: 27.17 | AC14: 37.45 | AD14: 26.84 | AE14: 37 | AF14: 27.33 | AG14: 37.67 | AH14: 27 | AI14: 37.22 | AJ14: 27.5 | AK14: 37.91 | AL14: 27.17 | AM14: 37.45 | AN14: 27.84 | AO14: 38.37 | AP14: 27.5 | AQ14: 37.91 | AR14: 28.01 | AS14: 38.61 | AT14: 27.68 | AU14: 38.15 | AV14: 28.19 | AW14: 38.86 | AX14: 27.85 | AY14: 38.39 | AZ14: 28.36 | BA14: 39.09 | BB14: 28.02 | BC14: 38.62 | BD14: 28.54 | BE14: 39.34 | BF14: 28.2 | BG14: 38.87 | BH14: 28.91 | BI14: 39.85 | BJ14: 28.56 | BK14: 39.37 | BL14: 29.1 | BM14: 40.11 | BN14: 28.75 | BO14: 39.63 | BP14: 29.29 | BQ14: 40.37 | BR14: 28.93 | BS14: 39.88 | BT14: Não | BU14: Não | BV14: Não | BW14: Não | BX14: 0 | BY14: Positiva | BZ14: Não | CA14: Tarja Preta
A15: =VLOOKUP($B15,[1]Planilha2!$A:$B,2,FALSE) -> 3 | B15: 541523050027817 | C15: 11.643.096/0004-75 | D15: Viatris Farmacêutica do Brasil Ltda. | E15: 11.643.096/0001-22 | F15: VIATRIS FARMACEUTICA DO BRASIL LTDA | G15: 541523050027817 | H15: 1883000910049 | I15: 7908236800650 | J15: 7908236800650 | K15: 400569616 | L15: #N/A | M15: ALPRAZOLAM | N15: FRONTAL | O15: 0,5 MG COM CT BL AL PLAS TRANS X 30 | P15: FRONTAL0,5 MG COM CT BL AL PLAS TRANS X 30 | Q15: N5C - TRANQUILIZANTES | R15: Novo | S15: Regulado | T15: 43.45224 | U15: 59.89256 | V15: 43.98 | W15: 60.62 | X15: 49.98 | Y15: 68.89 | Z15: 49.38 | AA15: 68.07 | AB15: 52.99 | AC15: 73.04 | AD15: 52.36 | AE15: 72.17 | AF15: 53.31 | AG15: 73.48 | AH15: 52.67 | AI15: 72.6 | AJ15: 53.64 | AK15: 73.94 | AL15: 52.99 | AM15: 73.04 | AN15: 54.3 | AO15: 74.85 | AP15: 53.65 | AQ15: 73.95 | AR15: 54.64 | AS15: 75.32 | AT15: 53.98 | AU15: 74.41 | AV15: 54.98 | AW15: 75.78 | AX15: 54.32 | AY15: 74.87 | AZ15: 55.32 | BA15: 76.25 | BB15: 54.66 | BC15: 75.34 | BD15: 55.68 | BE15: 76.75 | BF15: 55.01 | BG15: 75.83 | BH15: 56.39 | BI15: 77.73 | BJ15: 55.71 | BK15: 76.79 | BL15: 56.75 | BM15: 78.22 | BN15: 56.07 | BO15: 77.29 | BP15: 57.12 | BQ15: 78.73 | BR15: 56.44 | BS15: 77.8 | BT15: Não | BU15: Não | BV15: Não | BW15: Não | BX15: 0 | BY15: Positiva | BZ15: Não | CA15: Tarja Preta
A16: =VLOOKUP($B16,[1]Planilha2!$A:$B,2,FALSE) -> 3 | B16: 541523050027917 | C16: 11.643.096/0004-75 | D16: Viatris Farmacêutica do Brasil Ltda. | E16: 11.643.096/0001-22 | F16: VIATRIS FARMACEUTICA DO BRASIL LTDA | G16: 541523050027917 | H16: 1883000910065 | I16: 7908236800667 | J16: 7908236800667 | K16: 400569617 | L16: #N/A | M16: ALPRAZOLAM | N16: FRONTAL | O16: 1 MG COM CT BL AL PLAS TRANS X 30 | P16: FRONTAL1 MG COM CT BL AL PLAS TRANS X 30 | Q16: N5C - TRANQUILIZANTES | R16: Novo | S16: Regulado | T16: 77.24184 | U16: 106.46688 | V16: 78.18 | W16: 107.76 | X16: 88.84 | Y16: 122.46 | Z16: 87.78 | AA16: 121 | AB16: 94.19 | AC16: 129.83 | AD16: 93.06 | AE16: 128.27 | AF16: 94.77 | AG16: 130.63 | AH16: 93.63 | AI16: 129.06 | AJ16: 95.34 | AK16: 131.42 | AL16: 94.2 | AM16: 129.84 | AN16: 96.52 | AO16: 133.04 | AP16: 95.36 | AQ16: 131.44 | AR16: 97.12 | AS16: 133.87 | AT16: 95.95 | AU16: 132.26 | AV16: 97.73 | AW16: 134.71 | AX16: 96.55 | AY16: 133.08 | AZ16: 98.34 | BA16: 135.55 | BB16: 97.16 | BC16: 133.92 | BD16: 98.96 | BE16: 136.41 | BF16: 97.78 | BG16: 134.78 | BH16: 100.23 | BI16: 138.16 | BJ16: 99.03 | BK16: 136.5 | BL16: 100.88 | BM16: 139.05 | BN16: 99.67 | BO16: 137.38 | BP16: 101.53 | BQ16: 139.95 | BR16: 100.32 | BS16: 138.28 | BT16: Não | BU16: Não | BV16: Não | BW16: Não | BX16: 0 | BY16: Positiva | BZ16: Não | CA16: Tarja Preta
A17: =VLOOKUP($B17,[1]Planilha2!$A:$B,2,FALSE) -> 3 | B17: 541523050028017 | C17: 11.643.096/0004-75 | D17: Viatris Farmacêutica do Brasil Ltda. | E17: 11.643.096/0001-22 | F17: VIATRIS FARMACEUTICA DO BRASIL LTDA | G17: 541523050028017 | H17: 1883000910073 | I17: 7908236800674 | J17: 7908236800674 | K17: 400569618 | L17: #N/A | M17: ALPRAZOLAM | N17: FRONTAL | O17: 2 MG COM CT FR VD AMB X 30 | P17: FRONTAL2 MG COM CT FR VD AMB X 30 | Q17: N5C - TRANQUILIZANTES | R17: Novo | S17: Regulado | T17: 122.17608 | U17: 168.4046 | V17: 123.66 | W17: 170.45 | X17: 140.52 | Y17: 193.69 | Z17: 138.84 | AA17: 191.38 | AB17: 148.99 | AC17: 205.37 | AD17: 147.2 | AE17: 202.9 | AF17: 149.89 | AG17: 206.61 | AH17: 148.09 | AI17: 204.13 | AJ17: 150.8 | AK17: 207.86 | AL17: 148.99 | AM17: 205.37 | AN17: 152.67 | AO17: 210.44 | AP17: 150.83 | AQ17: 207.9 | AR17: 153.61 | AS17: 211.74 | AT17: 151.77 | AU17: 209.2 | AV17: 154.57 | AW17: 213.06 | AX17: 152.72 | AY17: 210.51 | AZ17: 155.55 | BA17: 214.41 | BB17: 153.68 | BC17: 211.83 | BD17: 156.53 | BE17: 215.76 | BF17: 154.65 | BG17: 213.17 | BH17: 158.54 | BI17: 218.53 | BJ17: 156.63 | BK17: 215.9 | BL17: 159.56 | BM17: 219.94 | BN17: 157.65 | BO17: 217.3 | BP17: 160.6 | BQ17: 221.37 | BR17: 158.67 | BS17: 218.71 | BT17: Não | BU17: Não | BV17: Não | BW17: Não | BX17: 0 | BY17: Positiva | BZ17: Não | CA17: Tarja Preta
A18: =VLOOKUP($B18,[1]Planilha2!$A:$B,2,FALSE) -> 3 | B18: 541523050028117 | C18: 11.643.096/0004-75 | D18: Viatris Farmacêutica do Brasil Ltda. | E18: 11.643.096/0001-22 | F18: VIATRIS FARMACEUTICA DO BRASIL LTDA | G18: 541523050028117 | H18: 1883000910081 | I18: 7908236800728 | J18: 7908236800728 | K18: 400569709 | L18: #N/A | M18: ALPRAZOLAM | N18: FRONTAL | O18: 0,5 MG COM LIB PROL CT BL AL/AL X 30 | P18: FRONTAL0,5 MG COM LIB PROL CT BL AL/AL X 30 | Q18: N5C - TRANQUILIZANTES | R18: Novo | S18: Regulado | T18: 43.45224 | U18: 59.89256 | V18: 43.98 | W18: 60.62 | X18: 49.98 | Y18: 68.89 | Z18: 49.38 | AA18: 68.07 | AB18: 52.99 | AC18: 73.04 | AD18: 52.36 | AE18: 72.17 | AF18: 53.31 | AG18: 73.48 | AH18: 52.67 | AI18: 72.6 | AJ18: 53.64 | AK18: 73.94 | AL18: 52.99 | AM18: 73.04 | AN18: 54.3 | AO18: 74.85 | AP18: 53.65 | AQ18: 73.95 | AR18: 54.64 | AS18: 75.32 | AT18: 53.98 | AU18: 74.41 | AV18: 54.98 | AW18: 75.78 | AX18: 54.32 | AY18: 74.87 | AZ18: 55.32 | BA18: 76.25 | BB18: 54.66 | BC18: 75.34 | BD18: 55.68 | BE18: 76.75 | BF18: 55.01 | BG18: 75.83 | BH18: 56.39 | BI18: 77.73 | BJ18: 55.71 | BK18: 76.79 | BL18: 56.75 | BM18: 78.22 | BN18: 56.07 | BO18: 77.29 | BP18: 57.12 | BQ18: 78.73 | BR18: 56.44 | BS18: 77.8 | BT18: Não | BU18: Não | BV18: Não | BW18: Não | BX18: 0 | BY18: Positiva | BZ18: Não | CA18: Tarja Preta
A19: =VLOOKUP($B19,[1]Planilha2!$A:$B,2,FALSE) -> 3 | B19: 541523050028217 | C19: 11.643.096/0004-75 | D19: Viatris Farmacêutica do Brasil Ltda. | E19: 11.643.096/0001-22 | F19: VIATRIS FARMACEUTICA DO BRASIL LTDA | G19: 541523050028217 | H19: 1883000910091 | I19: 7908236800735 | J19: 7908236800735 | K19: 400569710 | L19: #N/A | M19: ALPRAZOLAM | N19: FRONTAL | O19: 1 MG COM LIB PROL CT BL AL/AL X 30 | P19: FRONTAL1 MG COM LIB PROL CT BL AL/AL X 30 | Q19: N5C - TRANQUILIZANTES | R19: Novo | S19: Regulado | T19: 77.24184 | U19: 106.46688 | V19: 78.18 | W19: 107.76 | X19: 88.84 | Y19: 122.46 | Z19: 87.78 | AA19: 121 | AB19: 94.19 | AC19: 129.83 | AD19: 93.06 | AE19: 128.27 | AF19: 94.77 | AG19: 130.63 | AH19: 93.63 | AI19: 129.06 | AJ19: 95.34 | AK19: 131.42 | AL19: 94.2 | AM19: 129.84 | AN19: 96.52 | AO19: 133.04 | AP19: 95.36 | AQ19: 131.44 | AR19: 97.12 | AS19: 133.87 | AT19: 95.95 | AU19: 132.26 | AV19: 97.73 | AW19: 134.71 | AX19: 96.55 | AY19: 133.08 | AZ19: 98.34 | BA19: 135.55 | BB19: 97.16 | BC19: 133.92 | BD19: 98.96 | BE19: 136.41 | BF19: 97.78 | BG19: 134.78 | BH19: 100.23 | BI19: 138.16 | BJ19: 99.03 | BK19: 136.5 | BL19: 100.88 | BM19: 139.05 | BN19: 99.67 | BO19: 137.38 | BP19: 101.53 | BQ19: 139.95 | BR19: 100.32 | BS19: 138.28 | BT19: Não | BU19: Não | BV19: Não | BW19: Não | BX19: 0 | BY19: Positiva | BZ19: Não | CA19: Tarja Preta
A20: =VLOOKUP($B20,[1]Planilha2!$A:$B,2,FALSE) -> 3 | B20: 541523050028317 | C20: 11.643.096/0004-75 | D20: Viatris Farmacêutica do Brasil Ltda. | E20: 11.643.096/0001-22 | F20: VIATRIS FARMACEUTICA DO BRASIL LTDA | G20: 541523050028317 | H20: 1883000910103 | I20: 7908236800742 | J20: 7908236800742 | K20: 400569711 | L20: #N/A | M20: ALPRAZOLAM | N20: FRONTAL | O20: 2 MG COM LIB PROL CT BL AL/AL X 30 | P20: FRONTAL2 MG COM LIB PROL CT BL AL/AL X 30 | Q20: N5C - TRANQUILIZANTES | R20: Novo | S20: Regulado | T20: 122.17608 | U20: 168.4046 | V20: 123.66 | W20: 170.45 | X20: 140.52 | Y20: 193.69 | Z20: 138.84 | AA20: 191.38 | AB20: 148.99 | AC20: 205.37 | AD20: 147.2 | AE20: 202.9 | AF20: 149.89 | AG20: 206.61 | AH20: 148.09 | AI20: 204.13 | AJ20: 150.8 | AK20: 207.86 | AL20: 148.99 | AM20: 205.37 | AN20: 152.67 | AO20: 210.44 | AP20: 150.83 | AQ20: 207.9 | AR20: 153.61 | AS20: 211.74 | AT20: 151.77 | AU20: 209.2 | AV20: 154.57 | AW20: 213.06 | AX20: 152.72 | AY20: 210.51 | AZ20: 155.55 | BA20: 214.41 | BB20: 153.68 | BC20: 211.83 | BD20: 156.53 | BE20: 215.76 | BF20: 154.65 | BG20: 213.17 | BH20: 158.54 | BI20: 218.53 | BJ20: 156.63 | BK20: 215.9 | BL20: 159.56 | BM20: 219.94 | BN20: 157.65 | BO20: 217.3 | BP20: 160.6 | BQ20: 221.37 | BR20: 158.67 | BS20: 218.71 | BT20: Não | BU20: Não | BV20: Não | BW20: Não | BX20: 0 | BY20: Positiva | BZ20: Não | CA20: Tarja Preta
A21: =VLOOKUP($B21,[1]Planilha2!$A:$B,2,FALSE) -> 2 | B21: 541523110031004 | C21: 05.656.727/0001-45 | D21: Viatris Brasil Imp. e Distrib. Medicamentos Ltda. | E21: 11.643.096/0001-22 | F21: VIATRIS FARMACEUTICA DO BRASIL LTDA | G21: 541523110031004 | H21: 1883000990018 | I21: 7898560665349 | J21: 7898560665349 | K21: NÃO COMERCILIZA NO MOMENTO | L21: NÃO COMERCILIZA NO MOMENTO | M21: APIXABANA | N21: EKNUS | O21: 2,5 MG COM REV CT BL AL PLAS PVC/PVDC TRANS X 10 | P21: EKNUS2,5 MG COM REV CT BL AL PLAS PVC/PVDC TRANS X 10 | Q21: B1F - INIBIDORES DIRETOS DO FATOR XA | R21: Similar | S21: Regulado | T21: 40.755 | U21: 56.17768 | V21: 41.25 | W21: 56.86 | X21: 46.87 | Y21: 64.61 | Z21: 46.31 | AA21: 63.83 | AB21: 49.7 | AC21: 68.51 | AD21: 49.1 | AE21: 67.68 | AF21: 50 | AG21: 68.92 | AH21: 49.4 | AI21: 68.09 | AJ21: 50.3 | AK21: 69.33 | AL21: 49.7 | AM21: 68.51 | AN21: 50.92 | AO21: 70.19 | AP21: 50.31 | AQ21: 69.35 | AR21: 51.24 | AS21: 70.63 | AT21: 50.62 | AU21: 69.77 | AV21: 51.56 | AW21: 71.07 | AX21: 50.94 | AY21: 70.22 | AZ21: 51.88 | BA21: 71.51 | BB21: 51.26 | BC21: 70.66 | BD21: 52.21 | BE21: 71.97 | BF21: 51.59 | BG21: 71.11 | BH21: 52.88 | BI21: 72.89 | BJ21: 52.25 | BK21: 72.02 | BL21: 53.22 | BM21: 73.36 | BN21: 52.58 | BO21: 72.48 | BP21: 53.57 | BQ21: 73.84 | BR21: 52.93 | BS21: 72.96 | BT21: Não | BU21: Não | BV21: Não | BW21: Não | BX21: 0 | BY21: Positiva | BZ21: Não | CA21: Tarja Vermelha
A22: =VLOOKUP($B22,[1]Planilha2!$A:$B,2,FALSE) -> 2 | B22: 541523110031104 | C22: 05.656.727/0001-45 | D22: Viatris Brasil Imp. e Distrib. Medicamentos Ltda. | E22: 11.643.096/0001-22 | F22: VIATRIS FARMACEUTICA DO BRASIL LTDA | G22: 541523110031104 | H22: 1883000990026 | I22: 7898560665363 | J22: 7898560665363 | K22: 400575153 | L22: #N/A | M22: APIXABANA | N22: EKNUS | O22: 2,5 MG COM REV CT BL AL PLAS PVC/PVDC TRANS X 20 | P22: EKNUS2,5 MG COM REV CT BL AL PLAS PVC/PVDC TRANS X 20 | Q22: B1F - INIBIDORES DIRETOS DO FATOR XA | R22: Similar | S22: Regulado | T22: 81.50012 | U22: 112.3356 | V22: 82.49 | W22: 113.7 | X22: 93.74 | Y22: 129.21 | Z22: 92.62 | AA22: 127.67 | AB22: 99.39 | AC22: 137 | AD22: 98.2 | AE22: 135.36 | AF22: 99.99 | AG22: 137.83 | AH22: 98.79 | AI22: 136.17 | AJ22: 100.6 | AK22: 138.67 | AL22: 99.4 | AM22: 137.01 | AN22: 101.85 | AO22: 140.39 | AP22: 100.62 | AQ22: 138.69 | AR22: 102.48 | AS22: 141.26 | AT22: 101.25 | AU22: 139.56 | AV22: 103.12 | AW22: 142.14 | AX22: 101.88 | AY22: 140.43 | AZ22: 103.77 | BA22: 143.04 | BB22: 102.52 | BC22: 141.31 | BD22: 104.42 | BE22: 143.93 | BF22: 103.17 | BG22: 142.21 | BH22: 105.76 | BI22: 145.78 | BJ22: 104.49 | BK22: 144.03 | BL22: 106.44 | BM22: 146.72 | BN22: 105.17 | BO22: 144.97 | BP22: 107.14 | BQ22: 147.68 | BR22: 105.85 | BS22: 145.9 | BT22: Não | BU22: Não | BV22: Não | BW22: Não | BX22: 0 | BY22: Positiva | BZ22: Não | CA22: Tarja Vermelha
A23: =VLOOKUP($B23,[1]Planilha2!$A:$B,2,FALSE) -> 2 | B23: 541523110031204 | C23: 05.656.727/0001-45 | D23: Viatris Brasil Imp. e Distrib. Medicamentos Ltda. | E23: 11.643.096/0001-22 | F23: VIATRIS FARMACEUTICA DO BRASIL LTDA | G23: 541523110031204 | H23: 1883000990034 | I23: 7898560665387 | J23: 7898560665387 | K23: 400575154 | L23: #N/A | M23: APIXABANA | N23: EKNUS | O23: 2,5 MG COM REV CT BL AL PLAS PVC/PVDC TRANS X 60 | P23: EKNUS2,5 MG COM REV CT BL AL PLAS PVC/PVDC TRANS X 60 | Q23: B1F - INIBIDORES DIRETOS DO FATOR XA | R23: Similar | S23: Regulado | T23: 244.51024 | U23: 337.03644 | V23: 247.48 | W23: 341.13 | X23: 281.23 | Y23: 387.65 | Z23: 277.86 | AA23: 383 | AB23: 298.17 | AC23: 411 | AD23: 294.6 | AE23: 406.08 | AF23: 299.98 | AG23: 413.49 | AH23: 296.38 | AI23: 408.53 | AJ23: 301.81 | AK23: 416.01 | AL23: 298.19 | AM23: 411.02 | AN23: 305.54 | AO23: 421.16 | AP23: 301.87 | AQ23: 416.1 | AR23: 307.43 | AS23: 423.76 | AT23: 303.74 | AU23: 418.67 | AV23: 309.35 | AW23: 426.41 | AX23: 305.64 | AY23: 421.29 | AZ23: 311.3 | BA23: 429.09 | BB23: 307.56 | BC23: 423.94 | BD23: 313.27 | BE23: 431.81 | BF23: 309.51 | BG23: 426.63 | BH23: 317.29 | BI23: 437.35 | BJ23: 313.48 | BK23: 432.1 | BL23: 319.33 | BM23: 440.16 | BN23: 315.5 | BO23: 434.88 | BP23: 321.41 | BQ23: 443.03 | BR23: 317.55 | BS23: 437.71 | BT23: Não | BU23: Não | BV23: Não | BW23: Não | BX23: 0 | BY23: Positiva | BZ23: Não | CA23: Tarja Vermelha
A24: =VLOOKUP($B24,[1]Planilha2!$A:$B,2,FALSE) -> 2 | B24: 541523110031304 | C24: 05.656.727/0001-45 | D24: Viatris Brasil Imp. e Distrib. Medicamentos Ltda. | E24: 11.643.096/0001-22 | F24: VIATRIS FARMACEUTICA DO BRASIL LTDA | G24: 541523110031304 | H24: 1883000990042 | I24: 7898560665356 | J24: 7898560665356 | K24: NÃO COMERCILIZA NO MOMENTO | L24: NÃO COMERCILIZA NO MOMENTO | M24: APIXABANA | N24: EKNUS | O24: 5,0 MG COM REV CT BL AL PLAS PVC/PVDC TRANS X 10 | P24: EKNUS5,0 MG COM REV CT BL AL PLAS PVC/PVDC TRANS X 10 | Q24: B1F - INIBIDORES DIRETOS DO FATOR XA | R24: Similar | S24: Regulado | T24: 42.3358 | U24: 58.35128 | V24: 42.85 | W24: 59.06 | X24: 48.7 | Y24: 67.13 | Z24: 48.11 | AA24: 66.31 | AB24: 51.63 | AC24: 71.17 | AD24: 51.01 | AE24: 70.31 | AF24: 51.95 | AG24: 71.61 | AH24: 51.32 | AI24: 70.74 | AJ24: 52.26 | AK24: 72.03 | AL24: 51.63 | AM24: 71.17 | AN24: 52.91 | AO24: 72.93 | AP24: 52.27 | AQ24: 72.05 | AR24: 53.24 | AS24: 73.39 | AT24: 52.6 | AU24: 72.5 | AV24: 53.57 | AW24: 73.84 | AX24: 52.93 | AY24: 72.96 | AZ24: 53.91 | BA24: 74.31 | BB24: 53.26 | BC24: 73.41 | BD24: 54.25 | BE24: 74.78 | BF24: 53.6 | BG24: 73.88 | BH24: 54.94 | BI24: 75.73 | BJ24: 54.28 | BK24: 74.82 | BL24: 55.3 | BM24: 76.23 | BN24: 54.63 | BO24: 75.3 | BP24: 55.66 | BQ24: 76.72 | BR24: 54.99 | BS24: 75.8 | BT24: Não | BU24: Não | BV24: Não | BW24: Não | BX24: 0 | BY24: Positiva | BZ24: Não | CA24: Tarja Vermelha
A25: =VLOOKUP($B25,[1]Planilha2!$A:$B,2,FALSE) -> 2 | B25: 541523110031404 | C25: 05.656.727/0001-45 | D25: Viatris Brasil Imp. e Distrib. Medicamentos Ltda. | E25: 11.643.096/0001-22 | F25: VIATRIS FARMACEUTICA DO BRASIL LTDA | G25: 541523110031404 | H25: 1883000990050 | I25: 7898560665370 | J25: 7898560665370 | K25: 400575156 | L25: #N/A | M25: APIXABANA | N25: EKNUS | O25: 5,0 MG COM REV CT BL AL PLAS PVC/PVDC TRANS X 20 | P25: EKNUS5,0 MG COM REV CT BL AL PLAS PVC/PVDC TRANS X 20 | Q25: B1F - INIBIDORES DIRETOS DO FATOR XA | R25: Similar | S25: Regulado | T25: 84.69136 | U25: 116.74208 | V25: 85.72 | W25: 118.16 | X25: 97.41 | Y25: 134.27 | Z25: 96.24 | AA25: 132.66 | AB25: 103.28 | AC25: 142.36 | AD25: 102.04 | AE25: 140.65 | AF25: 103.9 | AG25: 143.22 | AH25: 102.66 | AI25: 141.51 | AJ25: 104.54 | AK25: 144.1 | AL25: 103.28 | AM25: 142.36 | AN25: 105.83 | AO25: 145.88 | AP25: 104.56 | AQ25: 144.13 | AR25: 106.48 | AS25: 146.77 | AT25: 105.21 | AU25: 145.02 | AV25: 107.15 | AW25: 147.7 | AX25: 105.86 | AY25: 145.92 | AZ25: 107.82 | BA25: 148.62 | BB25: 106.53 | BC25: 146.84 | BD25: 108.51 | BE25: 149.57 | BF25: 107.2 | BG25: 147.76 | BH25: 109.9 | BI25: 151.49 | BJ25: 108.58 | BK25: 149.67 | BL25: 110.61 | BM25: 152.46 | BN25: 109.28 | BO25: 150.63 | BP25: 111.32 | BQ25: 153.44 | BR25: 109.99 | BS25: 151.61 | BT25: Não | BU25: Não | BV25: Não | BW25: Não | BX25: 0 | BY25: Positiva | BZ25: Não | CA25: Tarja Vermelha
A26: =VLOOKUP($B26,[1]Planilha2!$A:$B,2,FALSE) -> 2 | B26: 541523110031504 | C26: 05.656.727/0001-45 | D26: Viatris Brasil Imp. e Distrib. Medicamentos Ltda. | E26: 11.643.096/0001-22 | F26: VIATRIS FARMACEUTICA DO BRASIL LTDA | G26: 541523110031504 | H26: 1883000990069 | I26: 7898560665394 | J26: 7898560665394 | K26: 400575157 | L26: #N/A | M26: APIXABANA | N26: EKNUS | O26: 5,0 MG COM REV CT BL AL PLAS PVC/PVDC TRANS X 60 | P26: EKNUS5,0 MG COM REV CT BL AL PLAS PVC/PVDC TRANS X 60 | Q26: B1F - INIBIDORES DIRETOS DO FATOR XA | R26: Similar | S26: Regulado | T26: 254.0642 | U26: 350.1966 | V26: 257.15 | W26: 354.45 | X26: 292.22 | Y26: 402.79 | Z26: 288.71 | AA26: 397.96 | AB26: 309.82 | AC26: 427.05 | AD26: 306.1 | AE26: 421.93 | AF26: 311.7 | AG26: 429.65 | AH26: 307.96 | AI26: 424.49 | AJ26: 313.6 | AK26: 432.26 | AL26: 309.83 | AM26: 427.07 | AN26: 317.47 | AO26: 437.6 | AP26: 313.66 | AQ26: 432.35 | AR26: 319.44 | AS26: 440.31 | AT26: 315.61 | AU26: 435.04 | AV26: 321.44 | AW26: 443.07 | AX26: 317.58 | AY26: 437.75 | AZ26: 323.46 | BA26: 445.86 | BB26: 319.58 | BC26: 440.51 | BD26: 325.51 | BE26: 448.68 | BF26: 321.6 | BG26: 443.29 | BH26: 329.68 | BI26: 454.43 | BJ26: 325.72 | BK26: 448.97 | BL26: 331.81 | BM26: 457.37 | BN26: 327.82 | BO26: 451.87 | BP26: 333.96 | BQ26: 460.33 | BR26: 329.95 | BS26: 454.8 | BT26: Não | BU26: Não | BV26: Não | BW26: Não | BX26: 0 | BY26: Positiva | BZ26: Não | CA26: Tarja Vermelha
A27: =VLOOKUP($B27,[1]Planilha2!$A:$B,2,FALSE) -> 1 | B27: 541522040025417 | C27: 11.643.096/0004-75 | D27: Viatris Farmacêutica do Brasil Ltda. | E27: 11.643.096/0001-22 | F27: VIATRIS FARMACEUTICA DO BRASIL LTDA | G27: 541522040025417 | H27: 1883000840032 | I27: 7908236800544 | J27: 7908236800544 | K27: 400569611 | L27: #N/A | M27: ATORVASTATINA CÁLCICA | N27: LIPITOR | O27: 10 MG COM REV CT BL AL/AL X 30 | P27: LIPITOR10 MG COM REV CT BL AL/AL X 30 | Q27: C10A1 - ESTATINAS, INIBIDORES DA REDUTASE HMG-CoA | R27: Similar | S27: Regulado | T27: 189.36 | U27: 170.16 | V27: 123.08 | W27: 170.16 | X27: 139.87 | Y27: 193.36 | Z27: 139.87 | AA27: 166.82 | AB27: 148.3 | AC27: 205.01 | AD27: 148.3 | AE27: 205.01 | AF27: 149.19 | AG27: 206.25 | AH27: 149.19 | AI27: 206.25 | AJ27: 150.1 | AK27: 207.53 | AL27: 150.1 | AM27: 207.53 | AN27: 151.96 | AO27: 210.07 | AP27: 151.96 | AQ27: 210.07 | AR27: 152.9 | AS27: 211.37 | AT27: 152.9 | AU27: 211.37 | AV27: 153.86 | AW27: 212.69 | AX27: 153.86 | AY27: 212.69 | AZ27: 154.82 | BA27: 214.03 | BB27: 154.82 | BC27: 214.03 | BD27: 155.81 | BE27: 215.39 | BF27: 155.81 | BG27: 215.39 | BH27: 157.8 | BI27: 218.15 | BJ27: 157.8 | BK27: 218.15 | BL27: 158.82 | BM27: 219.56 | BN27: 158.82 | BO27: 219.56 | BP27: 159.85 | BQ27: 220.98 | BR27: 159.85 | BS27: 220.98 | BT27: Não | BU27: Sim | BV27: Sim | BW27: Não | BX27: 0 | BY27: Positiva | BZ27: Sim | CA27: Tarja Vermelha
A28: =VLOOKUP($B28,[1]Planilha2!$A:$B,2,FALSE) -> 1 | B28: 541522040025517 | C28: 11.643.096/0004-75 | D28: Viatris Farmacêutica do Brasil Ltda. | E28: 11.643.096/0001-22 | F28: VIATRIS FARMACEUTICA DO BRASIL LTDA | G28: 541522040025517 | H28: 1883000840067 | I28: 7908236800360 | J28: 7908236800360 | K28: NÃO COMERCILIZA NO MOMENTO | L28: NÃO COMERCILIZA NO MOMENTO | M28: ATORVASTATINA CÁLCICA | N28: LIPITOR | O28: 20 MG COM REV CT BL AL/AL X 10 | P28: LIPITOR20 MG COM REV CT BL AL/AL X 10 | Q28: C10A1 - ESTATINAS, INIBIDORES DA REDUTASE HMG-CoA | R28: Similar | S28: Regulado | T28: 77.42 | U28: 69.57 | V28: 50.32 | W28: 69.57 | X28: 57.19 | Y28: 79.06 | Z28: 57.19 | AA28: 68.2 | AB28: 60.63 | AC28: 83.82 | AD28: 60.63 | AE28: 83.82 | AF28: 61 | AG28: 84.32 | AH28: 61 | AI28: 84.32 | AJ28: 61.37 | AK28: 84.86 | AL28: 61.37 | AM28: 84.86 | AN28: 62.13 | AO28: 85.88 | AP28: 62.13 | AQ28: 85.88 | AR28: 62.51 | AS28: 86.42 | AT28: 62.51 | AU28: 86.42 | AV28: 62.91 | AW28: 86.96 | AX28: 62.91 | AY28: 86.96 | AZ28: 63.3 | BA28: 87.5 | BB28: 63.3 | BC28: 87.5 | BD28: 63.7 | BE28: 88.06 | BF28: 63.7 | BG28: 88.06 | BH28: 64.52 | BI28: 89.19 | BJ28: 64.52 | BK28: 89.19 | BL28: 64.94 | BM28: 89.77 | BN28: 64.94 | BO28: 89.77 | BP28: 65.36 | BQ28: 90.35 | BR28: 65.36 | BS28: 90.35 | BT28: Não | BU28: Sim | BV28: Sim | BW28: Não | BX28: 0 | BY28: Positiva | BZ28: Não | CA28: Tarja Vermelha
A29: =VLOOKUP($B29,[1]Planilha2!$A:$B,2,FALSE) -> 1 | B29: 541522040025617 | C29: 11.643.096/0004-75 | D29: Viatris Farmacêutica do Brasil Ltda. | E29: 11.643.096/0001-22 | F29: VIATRIS FARMACEUTICA DO BRASIL LTDA | G29: 541522040025617 | H29: 1883000840083 | I29: 7908236800483 | J29: 7908236800483 | K29: 400569610 | L29: #N/A | M29: ATORVASTATINA CÁLCICA | N29: LIPITOR | O29: 20 MG COM REV CT BL AL/AL X 30 | P29: LIPITOR20 MG COM REV CT BL AL/AL X 30 | Q29: C10A1 - ESTATINAS, INIBIDORES DA REDUTASE HMG-CoA | R29: Similar | S29: Regulado | T29: 232.2 | U29: 208.65 | V29: 150.93 | W29: 208.65 | X29: 171.51 | Y29: 237.1 | Z29: 171.51 | AA29: 204.56 | AB29: 181.84 | AC29: 251.39 | AD29: 181.84 | AE29: 251.39 | AF29: 182.94 | AG29: 252.91 | AH29: 182.94 | AI29: 252.91 | AJ29: 184.06 | AK29: 254.48 | AL29: 184.06 | AM29: 254.48 | AN29: 186.34 | AO29: 257.6 | AP29: 186.34 | AQ29: 257.6 | AR29: 187.49 | AS29: 259.2 | AT29: 187.49 | AU29: 259.2 | AV29: 188.66 | AW29: 260.81 | AX29: 188.66 | AY29: 260.81 | AZ29: 189.85 | BA29: 262.46 | BB29: 189.85 | BC29: 262.46 | BD29: 191.05 | BE29: 264.11 | BF29: 191.05 | BG29: 264.11 | BH29: 193.5 | BI29: 267.5 | BJ29: 193.5 | BK29: 267.5 | BL29: 194.75 | BM29: 269.22 | BN29: 194.75 | BO29: 269.22 | BP29: 196.01 | BQ29: 270.98 | BR29: 196.01 | BS29: 270.98 | BT29: Não | BU29: Sim | BV29: Sim | BW29: Não | BX29: 0 | BY29: Positiva | BZ29: Sim | CA29: Tarja Vermelha
A30: =VLOOKUP($B30,[1]Planilha2!$A:$B,2,FALSE) -> 1 | B30: 541522040025717 | C30: 11.643.096/0004-75 | D30: Viatris Farmacêutica do Brasil Ltda. | E30: 11.643.096/0001-22 | F30: VIATRIS FARMACEUTICA DO BRASIL LTDA | G30: 541522040025717 | H30: 1883000840148 | I30: 7908236800773 | J30: 7908236800773 | K30: 400563415 | L30: #N/A | M30: ATORVASTATINA CÁLCICA | N30: LIPITOR | O30: 40 MG COM REV CT BL AL/AL X 30 | P30: LIPITOR40 MG COM REV CT BL AL/AL X 30 | Q30: C10A1 - ESTATINAS, INIBIDORES DA REDUTASE HMG-CoA | R30: Similar | S30: Regulado | T30: 341.45 | U30: 306.83 | V30: 221.94 | W30: 306.83 | X30: 252.21 | Y30: 348.66 | Z30: 252.21 | AA30: 300.8 | AB30: 267.4 | AC30: 369.67 | AD30: 267.4 | AE30: 369.67 | AF30: 269.02 | AG30: 371.91 | AH30: 269.02 | AI30: 371.91 | AJ30: 270.66 | AK30: 374.2 | AL30: 270.66 | AM30: 374.2 | AN30: 274 | AO30: 378.79 | AP30: 274 | AQ30: 378.79 | AR30: 275.7 | AS30: 381.15 | AT30: 275.7 | AU30: 381.15 | AV30: 277.43 | AW30: 383.53 | AX30: 277.43 | AY30: 383.53 | AZ30: 279.18 | BA30: 385.94 | BB30: 279.18 | BC30: 385.94 | BD30: 280.94 | BE30: 388.39 | BF30: 280.94 | BG30: 388.39 | BH30: 284.54 | BI30: 393.37 | BJ30: 284.54 | BK30: 393.37 | BL30: 286.38 | BM30: 395.9 | BN30: 286.38 | BO30: 395.9 | BP30: 288.24 | BQ30: 398.47 | BR30: 288.24 | BS30: 398.47 | BT30: Não | BU30: Sim | BV30: Sim | BW30: Não | BX30: 0 | BY30: Positiva | BZ30: Sim | CA30: Tarja Vermelha
A31: =VLOOKUP($B31,[1]Planilha2!$A:$B,2,FALSE) -> 1 | B31: 541522040025817 | C31: 11.643.096/0004-75 | D31: Viatris Farmacêutica do Brasil Ltda. | E31: 11.643.096/0001-22 | F31: VIATRIS FARMACEUTICA DO BRASIL LTDA | G31: 541522040025817 | H31: 1883000840199 | I31: 7908236800797 | J31: 7908236800797 | K31: 400563416 | L31: #N/A | M31: ATORVASTATINA CÁLCICA | N31: LIPITOR | O31: 80 MG COM REV CT BL AL/AL X 30 | P31: LIPITOR80 MG COM REV CT BL AL/AL X 30 | Q31: C10A1 - ESTATINAS, INIBIDORES DA REDUTASE HMG-CoA | R31: Similar | S31: Regulado | T31: 341.45 | U31: 306.83 | V31: 221.94 | W31: 306.83 | X31: 252.21 | Y31: 348.66 | Z31: 252.21 | AA31: 300.8 | AB31: 267.4 | AC31: 369.67 | AD31: 267.4 | AE31: 369.67 | AF31: 269.02 | AG31: 371.91 | AH31: 269.02 | AI31: 371.91 | AJ31: 270.66 | AK31: 374.2 | AL31: 270.66 | AM31: 374.2 | AN31: 274 | AO31: 378.79 | AP31: 274 | AQ31: 378.79 | AR31: 275.7 | AS31: 381.15 | AT31: 275.7 | AU31: 381.15 | AV31: 277.43 | AW31: 383.53 | AX31: 277.43 | AY31: 383.53 | AZ31: 279.18 | BA31: 385.94 | BB31: 279.18 | BC31: 385.94 | BD31: 280.94 | BE31: 388.39 | BF31: 280.94 | BG31: 388.39 | BH31: 284.54 | BI31: 393.37 | BJ31: 284.54 | BK31: 393.37 | BL31: 286.38 | BM31: 395.9 | BN31: 286.38 | BO31: 395.9 | BP31: 288.24 | BQ31: 398.47 | BR31: 288.24 | BS31: 398.47 | BT31: Não | BU31: Sim | BV31: Sim | BW31: Não | BX31: 0 | BY31: Positiva | BZ31: Sim | CA31: Tarja Vermelha
A32: =VLOOKUP($B32,[1]Planilha2!$A:$B,2,FALSE) -> 1 | B32: 541522040025017 | C32: 11.643.096/0004-75 | D32: Viatris Farmacêutica do Brasil Ltda. | E32: 11.643.096/0001-22 | F32: VIATRIS FARMACEUTICA DO BRASIL LTDA | G32: 541522040025017 | H32: 1883000880026 | I32: 7908236800087 | J32: 7908236800087 | K32: 400569594 | L32: #N/A | M32: ATORVASTATINA CÁLCICA | N32: CITALOR | O32: 10 MG COM REV CT BL AL/AL X 30 | P32: CITALOR10 MG COM REV CT BL AL/AL X 30 | Q32: C10A1 - ESTATINAS, INIBIDORES DA REDUTASE HMG-CoA | R32: Novo | S32: Regulado | T32: 98.26648 | U32: 135.4548 | V32: 99.46 | W32: 137.1 | X32: 113.02 | Y32: 155.79 | Z32: 111.67 | AA32: 153.93 | AB32: 119.83 | AC32: 165.17 | AD32: 118.39 | AE32: 163.19 | AF32: 120.56 | AG32: 166.18 | AH32: 119.11 | AI32: 164.18 | AJ32: 121.29 | AK32: 167.19 | AL32: 119.84 | AM32: 165.19 | AN32: 122.79 | AO32: 169.25 | AP32: 121.32 | AQ32: 167.23 | AR32: 123.55 | AS32: 170.3 | AT32: 122.07 | AU32: 168.26 | AV32: 124.33 | AW32: 171.38 | AX32: 122.83 | AY32: 169.31 | AZ32: 125.11 | BA32: 172.45 | BB32: 123.61 | BC32: 170.38 | BD32: 125.9 | BE32: 173.54 | BF32: 124.39 | BG32: 171.46 | BH32: 127.51 | BI32: 175.76 | BJ32: 125.98 | BK32: 173.65 | BL32: 128.34 | BM32: 176.9 | BN32: 126.8 | BO32: 174.78 | BP32: 129.17 | BQ32: 178.05 | BR32: 127.62 | BS32: 175.91 | BT32: Não | BU32: Sim | BV32: Sim | BW32: Não | BX32: 0 | BY32: Positiva | BZ32: Sim | CA32: Tarja Vermelha
A33: =VLOOKUP($B33,[1]Planilha2!$A:$B,2,FALSE) -> 1 | B33: 541522040025117 | C33: 11.643.096/0004-75 | D33: Viatris Farmacêutica do Brasil Ltda. | E33: 11.643.096/0001-22 | F33: VIATRIS FARMACEUTICA DO BRASIL LTDA | G33: 541522040025117 | H33: 1883000880042 | I33: 7908236800100 | J33: 7908236800100 | K33: 400569595 | L33: #N/A | M33: ATORVASTATINA CÁLCICA | N33: CITALOR | O33: 20 MG COM REV CT BL AL/AL X 30 | P33: CITALOR20 MG COM REV CT BL AL/AL X 30 | Q33: C10A1 - ESTATINAS, INIBIDORES DA REDUTASE HMG-CoA | R33: Novo | S33: Regulado | T33: 98.26648 | U33: 135.4548 | V33: 99.46 | W33: 137.1 | X33: 113.02 | Y33: 155.79 | Z33: 111.67 | AA33: 153.93 | AB33: 119.83 | AC33: 165.17 | AD33: 118.39 | AE33: 163.19 | AF33: 120.56 | AG33: 166.18 | AH33: 119.11 | AI33: 164.18 | AJ33: 121.29 | AK33: 167.19 | AL33: 119.84 | AM33: 165.19 | AN33: 122.79 | AO33: 169.25 | AP33: 121.32 | AQ33: 167.23 | AR33: 123.55 | AS33: 170.3 | AT33: 122.07 | AU33: 168.26 | AV33: 124.33 | AW33: 171.38 | AX33: 122.83 | AY33: 169.31 | AZ33: 125.11 | BA33: 172.45 | BB33: 123.61 | BC33: 170.38 | BD33: 125.9 | BE33: 173.54 | BF33: 124.39 | BG33: 171.46 | BH33: 127.51 | BI33: 175.76 | BJ33: 125.98 | BK33: 173.65 | BL33: 128.34 | BM33: 176.9 | BN33: 126.8 | BO33: 174.78 | BP33: 129.17 | BQ33: 178.05 | BR33: 127.62 | BS33: 175.91 | BT33: Não | BU33: Sim | BV33: Sim | BW33: Não | BX33: 0 | BY33: Positiva | BZ33: Sim | CA33: Tarja Vermelha
A34: =VLOOKUP($B34,[1]Planilha2!$A:$B,2,FALSE) -> 1 | B34: 541522040025217 | C34: 11.643.096/0004-75 | D34: Viatris Farmacêutica do Brasil Ltda. | E34: 11.643.096/0001-22 | F34: VIATRIS FARMACEUTICA DO BRASIL LTDA | G34: 541522040025217 | H34: 1883000880085 | I34: 7908236801008 | J34: 7908236801008 | K34: 400569706 | L34: #N/A | M34: ATORVASTATINA CÁLCICA | N34: CITALOR | O34: 80 MG COM REV CT BL AL/AL X 30 | P34: CITALOR80 MG COM REV CT BL AL/AL X 30 | Q34: C10A1 - ESTATINAS, INIBIDORES DA REDUTASE HMG-CoA | R34: Novo | S34: Regulado | T34: 196.57248 | U34: 270.959 | V34: 198.96 | W34: 274.25 | X34: 226.09 | Y34: 311.64 | Z34: 223.38 | AA34: 307.91 | AB34: 239.71 | AC34: 330.42 | AD34: 236.84 | AE34: 326.46 | AF34: 241.17 | AG34: 332.43 | AH34: 238.27 | AI34: 328.43 | AJ34: 242.64 | AK34: 334.45 | AL34: 239.73 | AM34: 330.44 | AN34: 245.63 | AO34: 338.58 | AP34: 242.68 | AQ34: 334.51 | AR34: 247.16 | AS34: 340.68 | AT34: 244.19 | AU34: 336.59 | AV34: 248.7 | AW34: 342.81 | AX34: 245.72 | AY34: 338.7 | AZ34: 250.27 | BA34: 344.97 | BB34: 247.26 | BC34: 340.82 | BD34: 251.85 | BE34: 347.15 | BF34: 248.83 | BG34: 342.99 | BH34: 255.08 | BI34: 351.6 | BJ34: 252.02 | BK34: 347.38 | BL34: 256.73 | BM34: 353.88 | BN34: 253.64 | BO34: 349.62 | BP34: 258.39 | BQ34: 356.16 | BR34: 255.29 | BS34: 351.89 | BT34: Não | BU34: Sim | BV34: Não | BW34: Não | BX34: 0 | BY34: Positiva | BZ34: Sim | CA34: Tarja Vermelha
A35: =VLOOKUP($B35,[1]Planilha2!$A:$B,2,FALSE) -> 1 | B35: 541522040025317 | C35: 11.643.096/0004-75 | D35: Viatris Farmacêutica do Brasil Ltda. | E35: 11.643.096/0001-22 | F35: VIATRIS FARMACEUTICA DO BRASIL LTDA | G35: 541522040025317 | H35: 1883000880093 | I35: 7908236800995 | J35: 7908236800995 | K35: 400569705 | L35: #N/A | M35: ATORVASTATINA CÁLCICA | N35: CITALOR | O35: 40 MG COM REV CT BL AL/AL X 30 | P35: CITALOR40 MG COM REV CT BL AL/AL X 30 | Q35: C10A1 - ESTATINAS, INIBIDORES DA REDUTASE HMG-CoA | R35: Novo | S35: Regulado | T35: 196.57248 | U35: 270.959 | V35: 198.96 | W35: 274.25 | X35: 226.09 | Y35: 311.64 | Z35: 223.38 | AA35: 307.91 | AB35: 239.71 | AC35: 330.42 | AD35: 236.84 | AE35: 326.46 | AF35: 241.17 | AG35: 332.43 | AH35: 238.27 | AI35: 328.43 | AJ35: 242.64 | AK35: 334.45 | AL35: 239.73 | AM35: 330.44 | AN35: 245.63 | AO35: 338.58 | AP35: 242.68 | AQ35: 334.51 | AR35: 247.16 | AS35: 340.68 | AT35: 244.19 | AU35: 336.59 | AV35: 248.7 | AW35: 342.81 | AX35: 245.72 | AY35: 338.7 | AZ35: 250.27 | BA35: 344.97 | BB35: 247.26 | BC35: 340.82 | BD35: 251.85 | BE35: 347.15 | BF35: 248.83 | BG35: 342.99 | BH35: 255.08 | BI35: 351.6 | BJ35: 252.02 | BK35: 347.38 | BL35: 256.73 | BM35: 353.88 | BN35: 253.64 | BO35: 349.62 | BP35: 258.39 | BQ35: 356.16 | BR35: 255.29 | BS35: 351.89 | BT35: Não | BU35: Sim | BV35: Não | BW35: Não | BX35: 0 | BY35: Positiva | BZ35: Sim | CA35: Tarja Vermelha
A36: =VLOOKUP($B36,[1]Planilha2!$A:$B,2,FALSE) -> 2 | B36: 541521120022417 | C36: 11.643.096/0004-75 | D36: Viatris Farmacêutica do Brasil Ltda. | E36: 11.643.096/0001-22 | F36: VIATRIS FARMACEUTICA DO BRASIL LTDA | G36: 541521120022417 | H36: 1883000800073 | I36: 7908236800322 | J36: 7908236800322 | K36: 400569604 | L36: #N/A | M36: BESILATO DE ANLODIPINO | N36: NORVASC | O36: 5 MG COM CT BL AL PLAS PVC OPC X 30 | P36: NORVASC5 MG COM CT BL AL PLAS PVC OPC X 30 | Q36: C8A - ANTAGONISTAS DO CÁLCIO PUROS | R36: Novo | S36: Regulado | T36: 54.7352 | U36: 75.44368 | V36: 55.4 | W36: 76.36 | X36: 62.96 | Y36: 86.78 | Z36: 62.2 | AA36: 85.74 | AB36: 66.75 | AC36: 92.01 | AD36: 65.95 | AE36: 90.91 | AF36: 67.16 | AG36: 92.57 | AH36: 66.35 | AI36: 91.46 | AJ36: 67.57 | AK36: 93.14 | AL36: 66.76 | AM36: 92.02 | AN36: 68.4 | AO36: 94.28 | AP36: 67.58 | AQ36: 93.15 | AR36: 68.83 | AS36: 94.87 | AT36: 68 | AU36: 93.73 | AV36: 69.26 | AW36: 95.47 | AX36: 68.42 | AY36: 94.31 | AZ36: 69.69 | BA36: 96.06 | BB36: 68.85 | BC36: 94.9 | BD36: 70.13 | BE36: 96.67 | BF36: 69.29 | BG36: 95.51 | BH36: 71.03 | BI36: 97.91 | BJ36: 70.18 | BK36: 96.74 | BL36: 71.49 | BM36: 98.54 | BN36: 70.63 | BO36: 97.36 | BP36: 71.95 | BQ36: 99.18 | BR36: 71.09 | BS36: 97.99 | BT36: Não | BU36: Não | BV36: Não | BW36: Não | BX36: 0 | BY36: Positiva | BZ36: Sim | CA36: Tarja Vermelha
A37: =VLOOKUP($B37,[1]Planilha2!$A:$B,2,FALSE) -> 2 | B37: 541521120022517 | C37: 11.643.096/0004-75 | D37: Viatris Farmacêutica do Brasil Ltda. | E37: 11.643.096/0001-22 | F37: VIATRIS FARMACEUTICA DO BRASIL LTDA | G37: 541521120022517 | H37: 1883000800081 | I37: 7908236800353 | J37: 7908236800353 | K37: 400569606 | L37: #N/A | M37: BESILATO DE ANLODIPINO | N37: NORVASC | O37: 10 MG COM CT BL AL PLAS PVC OPC X 30 | P37: NORVASC10 MG COM CT BL AL PLAS PVC OPC X 30 | Q37: C8A - ANTAGONISTAS DO CÁLCIO PUROS | R37: Novo | S37: Regulado | T37: 107.70188 | U37: 148.45688 | V37: 109.01 | W37: 150.26 | X37: 123.88 | Y37: 170.76 | Z37: 122.39 | AA37: 168.7 | AB37: 131.34 | AC37: 181.04 | AD37: 129.77 | AE37: 178.87 | AF37: 132.14 | AG37: 182.14 | AH37: 130.55 | AI37: 179.95 | AJ37: 132.94 | AK37: 183.24 | AL37: 131.35 | AM37: 181.05 | AN37: 134.59 | AO37: 185.52 | AP37: 132.97 | AQ37: 183.29 | AR37: 135.42 | AS37: 186.66 | AT37: 133.8 | AU37: 184.43 | AV37: 136.27 | AW37: 187.83 | AX37: 134.63 | AY37: 185.57 | AZ37: 137.12 | BA37: 189.01 | BB37: 135.48 | BC37: 186.75 | BD37: 137.99 | BE37: 190.2 | BF37: 136.34 | BG37: 187.93 | BH37: 139.76 | BI37: 192.64 | BJ37: 138.08 | BK37: 190.33 | BL37: 140.66 | BM37: 193.89 | BN37: 138.98 | BO37: 191.57 | BP37: 141.58 | BQ37: 195.15 | BR37: 139.88 | BS37: 192.81 | BT37: Não | BU37: Não | BV37: Não | BW37: Não | BX37: 0 | BY37: Positiva | BZ37: Sim | CA37: Tarja Vermelha
A38: =VLOOKUP($B38,[1]Planilha2!$A:$B,2,FALSE) -> 2 | B38: 541521120022617 | C38: 11.643.096/0004-75 | D38: Viatris Farmacêutica do Brasil Ltda. | E38: 11.643.096/0001-22 | F38: VIATRIS FARMACEUTICA DO BRASIL LTDA | G38: 541521120022617 | H38: 1883000800091 | I38: 7908236800315 | J38: 7908236800315 | K38: NÃO COMERCILIZA NO MOMENTO | L38: NÃO COMERCILIZA NO MOMENTO | M38: BESILATO DE ANLODIPINO | N38: NORVASC | O38: 5 MG COM CT BL AL PLAS PVC OPC X 60 | P38: NORVASC5 MG COM CT BL AL PLAS PVC OPC X 60 | Q38: C8A - ANTAGONISTAS DO CÁLCIO PUROS | R38: Novo | S38: Regulado | T38: 112.77032 | U38: 155.44204 | V38: 114.14 | W38: 157.33 | X38: 129.7 | Y38: 178.78 | Z38: 128.15 | AA38: 176.64 | AB38: 137.52 | AC38: 189.56 | AD38: 135.87 | AE38: 187.28 | AF38: 138.35 | AG38: 190.7 | AH38: 136.69 | AI38: 188.41 | AJ38: 139.19 | AK38: 191.86 | AL38: 137.52 | AM38: 189.56 | AN38: 140.91 | AO38: 194.23 | AP38: 139.22 | AQ38: 191.9 | AR38: 141.79 | AS38: 195.44 | AT38: 140.08 | AU38: 193.09 | AV38: 142.67 | AW38: 196.66 | AX38: 140.96 | AY38: 194.3 | AZ38: 143.57 | BA38: 197.9 | BB38: 141.85 | BC38: 195.53 | BD38: 144.48 | BE38: 199.15 | BF38: 142.74 | BG38: 196.75 | BH38: 146.33 | BI38: 201.7 | BJ38: 144.57 | BK38: 199.27 | BL38: 147.27 | BM38: 203 | BN38: 145.51 | BO38: 200.57 | BP38: 148.23 | BQ38: 204.32 | BR38: 146.45 | BS38: 201.87 | BT38: Não | BU38: Não | BV38: Não | BW38: Não | BX38: 0 | BY38: Positiva | BZ38: Não | CA38: Tarja Vermelha
A39: =VLOOKUP($B39,[1]Planilha2!$A:$B,2,FALSE) -> 2 | B39: 541521120022717 | C39: 11.643.096/0004-75 | D39: Viatris Farmacêutica do Brasil Ltda. | E39: 11.643.096/0001-22 | F39: VIATRIS FARMACEUTICA DO BRASIL LTDA | G39: 541521120022717 | H39: 1883000800103 | I39: 7908236800346 | J39: 7908236800346 | K39: NÃO COMERCILIZA NO MOMENTO | L39: NÃO COMERCILIZA NO MOMENTO | M39: BESILATO DE ANLODIPINO | N39: NORVASC | O39: 10 MG COM CT BL AL PLAS PVC OPC X 60 | P39: NORVASC10 MG COM CT BL AL PLAS PVC OPC X 60 | Q39: C8A - ANTAGONISTAS DO CÁLCIO PUROS | R39: Novo | S39: Regulado | T39: 222.18144 | U39: 306.25036 | V39: 224.88 | W39: 309.97 | X39: 255.55 | Y39: 352.25 | Z39: 252.48 | AA39: 348.02 | AB39: 270.95 | AC39: 373.48 | AD39: 267.69 | AE39: 368.98 | AF39: 272.59 | AG39: 375.74 | AH39: 269.32 | AI39: 371.23 | AJ39: 274.25 | AK39: 378.03 | AL39: 270.96 | AM39: 373.49 | AN39: 277.64 | AO39: 382.7 | AP39: 274.3 | AQ39: 378.09 | AR39: 279.36 | AS39: 385.07 | AT39: 276.01 | AU39: 380.45 | AV39: 281.11 | AW39: 387.48 | AX39: 277.73 | AY39: 382.82 | AZ39: 282.87 | BA39: 389.91 | BB39: 279.48 | BC39: 385.23 | BD39: 284.66 | BE39: 392.37 | BF39: 281.25 | BG39: 387.67 | BH39: 288.31 | BI39: 397.41 | BJ39: 284.85 | BK39: 392.64 | BL39: 290.17 | BM39: 399.97 | BN39: 286.69 | BO39: 395.17 | BP39: 292.06 | BQ39: 402.57 | BR39: 288.55 | BS39: 397.74 | BT39: Não | BU39: Não | BV39: Não | BW39: Não | BX39: 0 | BY39: Positiva | BZ39: Sim | CA39: Tarja Vermelha
A40: =VLOOKUP($B40,[1]Planilha2!$A:$B,2,FALSE) -> 2 | B40: 541522030024317 | C40: 11.643.096/0004-75 | D40: Viatris Farmacêutica do Brasil Ltda. | E40: 11.643.096/0001-22 | F40: VIATRIS FARMACEUTICA DO BRASIL LTDA | G40: 541522030024317 | H40: 1883000820031 | I40: 7908236800377 | J40: 7908236800377 | K40: 400571040 | L40: #N/A | M40: CELECOXIBE | N40: DICOXIBE | O40: 100 MG CAP DURA CT BL AL PLAS TRANS X 20 | P40: DICOXIBE100 MG CAP DURA CT BL AL PLAS TRANS X 20 | Q40: M1A3 - COXIBS | R40: Similar | S40: Regulado | T40: 54.51784 | U40: 75.14728 | V40: 55.18 | W40: 76.06 | X40: 62.7 | Y40: 86.43 | Z40: 61.95 | AA40: 85.39 | AB40: 66.48 | AC40: 91.64 | AD40: 65.68 | AE40: 90.53 | AF40: 66.88 | AG40: 92.19 | AH40: 66.08 | AI40: 91.08 | AJ40: 67.29 | AK40: 92.75 | AL40: 66.48 | AM40: 91.64 | AN40: 68.12 | AO40: 93.9 | AP40: 67.3 | AQ40: 92.77 | AR40: 68.54 | AS40: 94.48 | AT40: 67.72 | AU40: 93.34 | AV40: 68.97 | AW40: 95.07 | AX40: 68.14 | AY40: 93.92 | AZ40: 69.4 | BA40: 95.66 | BB40: 68.57 | BC40: 94.52 | BD40: 69.84 | BE40: 96.27 | BF40: 69.01 | BG40: 95.12 | BH40: 70.74 | BI40: 97.51 | BJ40: 69.89 | BK40: 96.34 | BL40: 71.2 | BM40: 98.14 | BN40: 70.34 | BO40: 96.96 | BP40: 71.66 | BQ40: 98.78 | BR40: 70.8 | BS40: 97.59 | BT40: Não | BU40: Não | BV40: Não | BW40: Não | BX40: 0 | BY40: Positiva | BZ40: Não | CA40: Tarja Vermelha sob restrição
A41: =VLOOKUP($B41,[1]Planilha2!$A:$B,2,FALSE) -> 2 | B41: 541522030024417 | C41: 11.643.096/0004-75 | D41: Viatris Farmacêutica do Brasil Ltda. | E41: 11.643.096/0001-22 | F41: VIATRIS FARMACEUTICA DO BRASIL LTDA | G41: 541522030024417 | H41: 1883000820066 | I41: 7908236801084 | J41: 7908236801084 | K41: NÃO COMERCILIZA NO MOMENTO | L41: NÃO COMERCILIZA NO MOMENTO | M41: CELECOXIBE | N41: DICOXIBE | O41: 200 MG CAP DURA CT BL AL PLAS TRANS X 2 | P41: DICOXIBE200 MG CAP DURA CT BL AL PLAS TRANS X 2 | Q41: M1A3 - COXIBS | R41: Similar | S41: Regulado | T41: 8.01268 | U41: 11.04584 | V41: 8.11 | W41: 11.18 | X41: 9.22 | Y41: 12.71 | Z41: 9.11 | AA41: 12.56 | AB41: 9.77 | AC41: 13.47 | AD41: 9.65 | AE41: 13.3 | AF41: 9.83 | AG41: 13.55 | AH41: 9.71 | AI41: 13.38 | AJ41: 9.89 | AK41: 13.63 | AL41: 9.77 | AM41: 13.47 | AN41: 10.01 | AO41: 13.8 | AP41: 9.89 | AQ41: 13.63 | AR41: 10.08 | AS41: 13.89 | AT41: 9.95 | AU41: 13.72 | AV41: 10.14 | AW41: 13.98 | AX41: 10.02 | AY41: 13.81 | AZ41: 10.2 | BA41: 14.06 | BB41: 10.08 | BC41: 13.89 | BD41: 10.27 | BE41: 14.16 | BF41: 10.14 | BG41: 13.98 | BH41: 10.4 | BI41: 14.34 | BJ41: 10.27 | BK41: 14.16 | BL41: 10.47 | BM41: 14.43 | BN41: 10.34 | BO41: 14.25 | BP41: 10.53 | BQ41: 14.51 | BR41: 10.41 | BS41: 14.35 | BT41: Não | BU41: Não | BV41: Não | BW41: Não | BX41: 0 | BY41: Positiva | BZ41: Sim | CA41: Tarja Vermelha sob restrição
A42: =VLOOKUP($B42,[1]Planilha2!$A:$B,2,FALSE) -> 2 | B42: 541522030024517 | C42: 11.643.096/0004-75 | D42: Viatris Farmacêutica do Brasil Ltda. | E42: 11.643.096/0001-22 | F42: VIATRIS FARMACEUTICA DO BRASIL LTDA | G42: 541522030024517 | H42: 1883000820104 | I42: 7908236800384 | J42: 7908236800384 | K42: 400569607 | L42: #N/A | M42: CELECOXIBE | N42: DICOXIBE | O42: 200 MG CAP DURA CT BL AL PLAS TRANS X 10 | P42: DICOXIBE200 MG CAP DURA CT BL AL PLAS TRANS X 10 | Q42: M1A3 - COXIBS | R42: Similar | S42: Regulado | T42: 40.1128 | U42: 55.28848 | V42: 40.6 | W42: 55.96 | X42: 46.14 | Y42: 63.6 | Z42: 45.59 | AA42: 62.84 | AB42: 48.92 | AC42: 67.43 | AD42: 48.33 | AE42: 66.62 | AF42: 49.22 | AG42: 67.84 | AH42: 48.63 | AI42: 67.03 | AJ42: 49.52 | AK42: 68.26 | AL42: 48.92 | AM42: 67.43 | AN42: 50.13 | AO42: 69.1 | AP42: 49.53 | AQ42: 68.27 | AR42: 50.44 | AS42: 69.53 | AT42: 49.83 | AU42: 68.69 | AV42: 50.76 | AW42: 69.97 | AX42: 50.15 | AY42: 69.13 | AZ42: 51.07 | BA42: 70.39 | BB42: 50.46 | BC42: 69.55 | BD42: 51.4 | BE42: 70.85 | BF42: 50.78 | BG42: 69.99 | BH42: 52.06 | BI42: 71.76 | BJ42: 51.43 | BK42: 70.89 | BL42: 52.39 | BM42: 72.21 | BN42: 51.76 | BO42: 71.35 | BP42: 52.73 | BQ42: 72.68 | BR42: 52.1 | BS42: 71.81 | BT42: Não | BU42: Não | BV42: Não | BW42: Não | BX42: 0 | BY42: Positiva | BZ42: Sim | CA42: Tarja Vermelha sob restrição
A43: =VLOOKUP($B43,[1]Planilha2!$A:$B,2,FALSE) -> 2 | B43: 541522030024617 | C43: 11.643.096/0004-75 | D43: Viatris Farmacêutica do Brasil Ltda. | E43: 11.643.096/0001-22 | F43: VIATRIS FARMACEUTICA DO BRASIL LTDA | G43: 541522030024617 | H43: 1883000820112 | I43: 7908236800391 | J43: 7908236800391 | K43: 400569608 | L43: #N/A | M43: CELECOXIBE | N43: DICOXIBE | O43: 200 MG CAP DURA CT BL AL PLAS TRANS X 15 | P43: DICOXIBE200 MG CAP DURA CT BL AL PLAS TRANS X 15 | Q43: M1A3 - COXIBS | R43: Similar | S43: Regulado | T43: 60.18896 | U43: 82.96236 | V43: 60.92 | W43: 83.97 | X43: 69.23 | Y43: 95.43 | Z43: 68.4 | AA43: 94.28 | AB43: 73.4 | AC43: 101.17 | AD43: 72.52 | AE43: 99.96 | AF43: 73.84 | AG43: 101.78 | AH43: 72.96 | AI43: 100.57 | AJ43: 74.3 | AK43: 102.41 | AL43: 73.4 | AM43: 101.17 | AN43: 75.21 | AO43: 103.67 | AP43: 74.31 | AQ43: 102.43 | AR43: 75.68 | AS43: 104.32 | AT43: 74.77 | AU43: 103.06 | AV43: 76.15 | AW43: 104.96 | AX43: 75.24 | AY43: 103.71 | AZ43: 76.63 | BA43: 105.63 | BB43: 75.71 | BC43: 104.36 | BD43: 77.12 | BE43: 106.3 | BF43: 76.19 | BG43: 105.02 | BH43: 78.11 | BI43: 107.67 | BJ43: 77.17 | BK43: 106.37 | BL43: 78.61 | BM43: 108.36 | BN43: 77.67 | BO43: 107.06 | BP43: 79.12 | BQ43: 109.06 | BR43: 78.17 | BS43: 107.75 | BT43: Não | BU43: Não | BV43: Não | BW43: Não | BX43: 0 | BY43: Positiva | BZ43: Sim | CA43: Tarja Vermelha sob restrição
A44: =VLOOKUP($B44,[1]Planilha2!$A:$B,2,FALSE) -> 2 | B44: 541522030024717 | C44: 11.643.096/0004-75 | D44: Viatris Farmacêutica do Brasil Ltda. | E44: 11.643.096/0001-22 | F44: VIATRIS FARMACEUTICA DO BRASIL LTDA | G44: 541522030024717 | H44: 1883000820139 | I44: 7908236800407 | J44: 7908236800407 | K44: 400569609 | L44: #N/A | M44: CELECOXIBE | N44: DICOXIBE | O44: 200 MG CAP DURA CT BL AL PLAS TRANS X 30 | P44: DICOXIBE200 MG CAP DURA CT BL AL PLAS TRANS X 30 | Q44: M1A3 - COXIBS | R44: Similar | S44: Regulado | T44: 120.37792 | U44: 165.92472 | V44: 121.84 | W44: 167.94 | X44: 138.46 | Y44: 190.85 | Z44: 136.8 | AA44: 188.56 | AB44: 146.8 | AC44: 202.35 | AD44: 145.04 | AE44: 199.92 | AF44: 147.69 | AG44: 203.58 | AH44: 145.92 | AI44: 201.14 | AJ44: 148.59 | AK44: 204.82 | AL44: 146.81 | AM44: 202.36 | AN44: 150.42 | AO44: 207.34 | AP44: 148.62 | AQ44: 204.86 | AR44: 151.36 | AS44: 208.63 | AT44: 149.54 | AU44: 206.13 | AV44: 152.3 | AW44: 209.93 | AX44: 150.48 | AY44: 207.42 | AZ44: 153.26 | BA44: 211.25 | BB44: 151.42 | BC44: 208.72 | BD44: 154.23 | BE44: 212.59 | BF44: 152.38 | BG44: 210.04 | BH44: 156.21 | BI44: 215.32 | BJ44: 154.34 | BK44: 212.74 | BL44: 157.22 | BM44: 216.71 | BN44: 155.33 | BO44: 214.11 | BP44: 158.24 | BQ44: 218.12 | BR44: 156.34 | BS44: 215.5 | BT44: Não | BU44: Não | BV44: Não | BW44: Não | BX44: 0 | BY44: Positiva | BZ44: Sim | CA44: Tarja Vermelha sob restrição
A45: =VLOOKUP($B45,[1]Planilha2!$A:$B,2,FALSE) -> 2 | B45: 541522020023717 | C45: 11.643.096/0004-75 | D45: Viatris Farmacêutica do Brasil Ltda. | E45: 11.643.096/0001-22 | F45: VIATRIS FARMACEUTICA DO BRASIL LTDA | G45: 541522020023717 | H45: 1883000860033 | I45: 7908236800698 | J45: 7908236800698 | K45: 400569590 | L45: #N/A | M45: CELECOXIBE | N45: CELEBRA | O45: 100 MG CAP DURA CT BL AL PLAS TRANS X 20 | P45: CELEBRA100 MG CAP DURA CT BL AL PLAS TRANS X 20 | Q45: M1A3 - COXIBS | R45: Novo | S45: Regulado | T45: 60.53476 | U45: 83.4366 | V45: 61.27 | W45: 84.45 | X45: 69.63 | Y45: 95.98 | Z45: 68.79 | AA45: 94.82 | AB45: 73.82 | AC45: 101.75 | AD45: 72.94 | AE45: 100.54 | AF45: 74.27 | AG45: 102.37 | AH45: 73.38 | AI45: 101.15 | AJ45: 74.73 | AK45: 103.01 | AL45: 73.83 | AM45: 101.77 | AN45: 75.65 | AO45: 104.28 | AP45: 74.74 | AQ45: 103.02 | AR45: 76.12 | AS45: 104.92 | AT45: 75.2 | AU45: 103.66 | AV45: 76.59 | AW45: 105.57 | AX45: 75.67 | AY45: 104.3 | AZ45: 77.07 | BA45: 106.23 | BB45: 76.15 | BC45: 104.96 | BD45: 77.56 | BE45: 106.91 | BF45: 76.63 | BG45: 105.63 | BH45: 78.56 | BI45: 108.29 | BJ45: 77.61 | BK45: 106.98 | BL45: 79.06 | BM45: 108.98 | BN45: 78.12 | BO45: 107.68 | BP45: 79.58 | BQ45: 109.69 | BR45: 78.62 | BS45: 108.37 | BT45: Não | BU45: Não | BV45: Não | BW45: Não | BX45: 0 | BY45: Positiva | BZ45: Sim | CA45: Tarja Vermelha sob restrição
