Workbook

Sheet NOVOS CODIGOS
D8: Código Antigo | E8: Código Novo | F8: Material Description | G8: DATA INÍCIO | H8: DATA FINAL
D9: 400569707 | E9: 400579061 | F9: XALACOM ED 0.05/5MG 2.5ML 1BT BR NGT | G9: 45880 | H9: 46115
D10: 400570990 | E10: 400579069 | F10: ZEFORUS TAB 20MG 4BL BR VIA NGT | G10: 45880 | H10: 46115
D11: 400570993 | E11: 400579070 | F11: ZEFORUS TAB 80MG 2BL BR VIA NGT | G11: 45880 | H11: 46115
D12: 400570995 | E12: 400579036 | F12: LYRICA CAP 150MG 28BL BR VIA NGT | G12: 45880 | H12: 46115
D13: 400570998 | E13: 400579037 | F13: LYRICA CAP 75MG 28BL BR VIA NGT | G13: 45880 | H13: 46115
D14: 400570997 | E14: 400579038 | F14: LYRICA CAP 75MG 14BL BR VIA NGT | G14: 45880 | H14: 46115
D15: 400570996 | E15: 400579039 | F15: LYRICA CAP 25MG 14BL BR VIA NGT | G15: 45880 | H15: 46115
D16: 400570999 | E16: 400579040 | F16: INSPRA TAB 25MG 30BL BR VIA NGT | G16: 45880 | H16: 46115
D17: 400571000 | E17: 400579041 | F17: INSPRA TAB 50MG 30BL BR VIA NGT | G17: 45880 | H17: 46115
D18: 400569708 | E18: 400579067 | F18: XALATAN ED 50MCG/ML 1BT BR MY NGT | G18: 45870

Sheet PREÇO VIATRIS_Mar26
R2: PF Sem Imposto (controle interno) | T2: ICMS 0% | V2: ICMS 12% (Apenas genéricos SP-MG) | X2: ICMS 12% (ALC) | Z2: ICMS 17% (DF-ES-MS-MT-RS-SC) | AB2: ICMS 17% (ALC) | AD2: ICMS 17,5% | AF2: ICMS 17,5% (ALC) | AH2: ICMS 18% (AP-MG-SP) | AJ2: ICMS 18% ALC (AP-MG-SP) | AL2: ICMS 19% (AC-AL-GO-PA-SE) | AN2: ICMS 19% (ALC) | AP2: ICMS 19,5% (PR-RO) | AR2: ICMS 19,5% (ALC) | AT2: ICMS 20% (AM-CE-PB-RR-TO-RN) | AV2: ICMS 20% ALC | AX2: ICMS 20,5% (BA-PE) | AZ2: ICMS 20,5% ALC | BB2: ICMS 21% | BD2: ICMS 21% ALC | BF2: ICMS 22% (RJ) | BH2: ICMS 22% ALC | BJ2: ICMS 22,5% (PI) | BL2: ICMS 22,5% (ALC) | BN2: ICMS 23% (MA) | BP2: ICMS 23% (ALC)
A3: CNPJ (Faturamento) | B3: Empresa (Faturamento) | C3: DETENTORA ( CNPJ) | D3: DETENTORA EMPRESA | E3: CÓDIGO GGREM | F3: REGISTRO | G3: EAN | H3: EAN 2 | I3: COD SAP | J3: CODIGO NOVO | K3: SUBSTÂNCIA | L3: PRODUTO | M3: APRESENTAÇÃO | N3: PRODUTO E APRESENTAÇÃO | O3: CLASSE TERAPÊUTICA | P3: TIPO DE PRODUTO (STATUS DO PRODUTO) | Q3: REGIME DE PREÇO | R3: PF Sem Impostos | S3: PMC Sem Impostos | T3: PF 0% | U3: PMC 0 % | V3: PF 12 % | W3: PMC 12 % | X3: PF 12 % ALC | Y3: PMC 12 % ALC | Z3: PF 17 % | AA3: PMC 17 % | AB3: PF 17 % ALC | AC3: PMC 17 % ALC | AD3: PF 17,5 % | AE3: PMC 17,5 % | AF3: PF 17,5 % ALC | AG3: PMC 17,5 % ALC | AH3: PF 18 % | AI3: PMC 18 % | AJ3: PF 18 % ALC | AK3: PMC 18 % ALC | AL3: PF 19 % | AM3: PMC 19 % | AN3: PF 19 % ALC | AO3: PMC 19 % ALC | AP3: PF 19,5 % | AQ3: PMC 19,5 % | AR3: PF 19,5 % ALC | AS3: PMC 19,5 % ALC | AT3: PF 20 % | AU3: PMC 20 % | AV3: PF 20 % ALC | AW3: PMC 20 % ALC | AX3: PF 20,5 % | AY3: PMC 20,5 % | AZ3: PF 20,5 % ALC | BA3: PMC 20,5 % ALC | BB3: PF 21 % | BC3: PMC 21 % | BD3: PF 21 % ALC | BE3: PMC 21 % ALC | BF3: PF 22 % | BG3: PMC 22 % | BH3: PF 22 % ALC | BI3: PMC 22 % ALC | BJ3: PF 22,5 % | BK3: PMC 22,5 % | BL3: PF 22,5 % ALC | BM3: PMC 22,5 % ALC | BN3: PF 23 % | BO3: PMC 23 % | BP3: PF 23 % ALC | BQ3: PMC 23 % ALC | BR3: RESTRIÇÃO HOSPITALAR | BS3: CAP | BT3: CONFAZ 87 | BU3: ICMS 0% | BV3: ANÁLISE RECURSAL | BW3: LISTA DE CONCESSÃO DE CRÉDITO TRIBUTÁRIO (PIS/COFINS) | BX3: COMERCIALIZAÇÃO 2024 | BY3: TARJA
A4: 11.643.096/0004-75 | B4: Viatris Farmacêutica do Brasil Ltda. | C4: 11.643.096/0001-22 | D4: VIATRIS FARMACEUTICA DO BRASIL LTDA | E4: 541525040033317 | F4: 1883001060022 | G4: 7908236801169 | H4: 7898560666940 | I4: 400570990 | J4: 400579069 | K4: BROMIDRATO DE ELETRIPTANA | L4: ZEFORUS | M4: 20 MG COM REV CT BL AL PLAS PVC/PCTFE OPC X 4 | N4: ZEFORUS20 MG COM REV CT BL AL PLAS PVC/PCTFE OPC X 4 | O4: N2C1 - ANTIENXAQUECOSOS TRIPTÂNICOS | P4: Novo | Q4: Regulado | R4: 23.57 | S4: 32.59 | T4: 26.4 | U4: 35.41 | V4: 30 | W4: 40.24 | X4: 26.79 | Y4: 37.04 | Z4: 31.81 | AA4: 42.67 | AB4: 28.4 | AC4: 39.26 | AD4: 32 | AE4: 42.93 | AF4: 28.57 | AG4: 39.5 | AH4: 32.2 | AI4: 43.2 | AJ4: 28.75 | AK4: 39.75 | AL4: 32.59 | AM4: 43.72 | AN4: 29.1 | AO4: 40.23 | AP4: 32.8 | AQ4: 44 | AR4: 29.28 | AS4: 40.48 | AT4: 33 | AU4: 44.27 | AV4: 29.46 | AW4: 40.73 | AX4: 33.21 | AY4: 44.55 | AZ4: 29.65 | BA4: 40.99 | BB4: 33.42 | BC4: 44.83 | BD4: 29.84 | BE4: 41.25 | BF4: 33.85 | BG4: 45.41 | BH4: 30.22 | BI4: 41.78 | BJ4: 34.06 | BK4: 45.69 | BL4: 30.41 | BM4: 42.04 | BN4: 34.29 | BO4: 46 | BP4: 30.61 | BQ4: 42.32 | BR4: Não | BS4: Não | BT4: Não | BU4: Não | BV4: 0 | BW4: Negativa | BX4: Não | BY4: Tarja Vermelha
A5: 11.643.096/0004-75 | B5: Viatris Farmacêutica do Brasil Ltda. | C5: 11.643.096/0001-22 | D5: VIATRIS FARMACEUTICA DO BRASIL LTDA | E5: 541525040033617 | F5: 1883001060057 | G5: 7898560666957 | H5: 7908236801190 | I5: 400570993 | J5: 400579070 | K5: BROMIDRATO DE ELETRIPTANA | L5: ZEFORUS | M5: 80 MG COM REV CT BL AL PLAS PVC/PCTFE OPC X 2 | N5: ZEFORUS80 MG COM REV CT BL AL PLAS PVC/PCTFE OPC X 2 | O5: N2C1 - ANTIENXAQUECOSOS TRIPTÂNICOS | P5: Novo | Q5: Regulado | R5: 25.59 | S5: 35.38 | T5: 28.66 | U5: 38.45 | V5: 32.57 | W5: 43.69 | X5: 29.08 | Y5: 40.2 | Z5: 34.53 | AA5: 46.32 | AB5: 30.83 | AC5: 42.62 | AD5: 34.74 | AE5: 46.6 | AF5: 31.02 | AG5: 42.88 | AH5: 34.95 | AI5: 46.88 | AJ5: 31.21 | AK5: 43.15 | AL5: 35.38 | AM5: 47.46 | AN5: 31.59 | AO5: 43.67 | AP5: 35.6 | AQ5: 47.76 | AR5: 31.79 | AS5: 43.95 | AT5: 35.83 | AU5: 48.06 | AV5: 31.99 | AW5: 44.22 | AX5: 36.05 | AY5: 48.36 | AZ5: 32.19 | BA5: 44.5 | BB5: 36.28 | BC5: 48.67 | BD5: 32.39 | BE5: 44.78 | BF5: 36.74 | BG5: 49.29 | BH5: 32.81 | BI5: 45.36 | BJ5: 36.98 | BK5: 49.61 | BL5: 33.02 | BM5: 45.65 | BN5: 37.22 | BO5: 49.93 | BP5: 33.23 | BQ5: 45.94 | BR5: Não | BS5: Não | BT5: Não | BU5: Não | BV5: 0 | BW5: Negativa | BX5: Não | BY5: Tarja Vermelha
A6: 11.643.096/0004-75 | B6: Viatris Farmacêutica do Brasil Ltda. | C6: 11.643.096/0001-22 | D6: VIATRIS FARMACEUTICA DO BRASIL LTDA | E6: 541525070033817 | F6: 1883001100032 | G6: 7898560666865 | H6: 7908236801213 | I6: 400570999 | J6: 400579040 | K6: EPLERENONA | L6: INSPRA | M6: 25 MG COM REV CT BL AL PLAS PVC OPC X 30 | N6: INSPRA25 MG COM REV CT BL AL PLAS PVC OPC X 30 | O6: C3A1 - AGENTES DIURÉTICOS POUPADORES POTÁSSIO PUROS | P6: Novo | Q6: Regulado | R6: 41.87 | S6: 57.88 | T6: 41.87 | U6: 57.88 | V6: 47.58 | W6: 65.78 | X6: 47.58 | Y6: 65.78 | Z6: 50.45 | AA6: 69.74 | AB6: 50.45 | AC6: 69.74 | AD6: 50.75 | AE6: 70.16 | AF6: 50.75 | AG6: 70.16 | AH6: 51.06 | AI6: 70.59 | AJ6: 51.06 | AK6: 70.59 | AL6: 51.69 | AM6: 71.46 | AN6: 51.69 | AO6: 71.46 | AP6: 52.01 | AQ6: 71.9 | AR6: 52.01 | AS6: 71.9 | AT6: 52.34 | AU6: 72.36 | AV6: 52.34 | AW6: 72.36 | AX6: 52.67 | AY6: 72.81 | AZ6: 52.67 | BA6: 72.81 | BB6: 53 | BC6: 73.27 | BD6: 53 | BE6: 73.27 | BF6: 53.68 | BG6: 74.21 | BH6: 53.68 | BI6: 74.21 | BJ6: 54.03 | BK6: 74.69 | BL6: 54.03 | BM6: 74.69 | BN6: 54.38 | BO6: 75.18 | BP6: 54.38 | BQ6: 75.18 | BR6: Não | BS6: Não | BT6: Não | BU6: Não | BV6: 0 | BW6: Positiva | BX6: Não | BY6: Tarja Vermelha
A7: 11.643.096/0004-75 | B7: Viatris Farmacêutica do Brasil Ltda. | C7: 11.643.096/0001-22 | D7: VIATRIS FARMACEUTICA DO BRASIL LTDA | E7: 541525070033917 | F7: 1883001100075 | G7: 7898560666872 | H7: 7908236801220 | I7: 400571000 | J7: 400579041 | K7: EPLERENONA | L7: INSPRA | M7: 50 MG COM REV CT BL AL PLAS PVC OPC X 30 | N7: INSPRA50 MG COM REV CT BL AL PLAS PVC OPC X 30 | O7: C3A1 - AGENTES DIURÉTICOS POUPADORES POTÁSSIO PUROS | P7: Novo | Q7: Regulado | R7: 59.98 | S7: 82.92 | T7: 59.98 | U7: 82.92 | V7: 68.16 | W7: 94.23 | X7: 68.16 | Y7: 94.23 | Z7: 72.27 | AA7: 99.91 | AB7: 72.27 | AC7: 99.91 | AD7: 72.7 | AE7: 100.5 | AF7: 72.7 | AG7: 100.5 | AH7: 73.15 | AI7: 101.13 | AJ7: 73.15 | AK7: 101.13 | AL7: 74.05 | AM7: 102.37 | AN7: 74.05 | AO7: 102.37 | AP7: 74.51 | AQ7: 103.01 | AR7: 74.51 | AS7: 103.01 | AT7: 74.98 | AU7: 103.66 | AV7: 74.98 | AW7: 103.66 | AX7: 75.45 | AY7: 104.31 | AZ7: 75.45 | BA7: 104.31 | BB7: 75.92 | BC7: 104.95 | BD7: 75.92 | BE7: 104.95 | BF7: 76.9 | BG7: 106.31 | BH7: 76.9 | BI7: 106.31 | BJ7: 77.39 | BK7: 106.99 | BL7: 77.39 | BM7: 106.99 | BN7: 77.9 | BO7: 107.69 | BP7: 77.9 | BQ7: 107.69 | BR7: Não | BS7: Não | BT7: Não | BU7: Não | BV7: 0 | BW7: Positiva | BX7: Não | BY7: Tarja Vermelha
A8: 11.643.096/0004-75 | B8: Viatris Farmacêutica do Brasil Ltda. | C8: 11.643.096/0001-22 | D8: VIATRIS FARMACEUTICA DO BRASIL LTDA | E8: 541525040033117 | F8: 1883001050019 | G8: 7898560666971 | H8: 7908236800858 | I8: 400569708 | J8: 400579067 | K8: LATANOPROSTA | L8: XALATAN | M8: 50 MCG/ML SOL OFT CT FR PLAS TRANS GOT X 2,5 ML | N8: XALATAN50 MCG/ML SOL OFT CT FR PLAS TRANS GOT X 2,5 ML | O8: Prostaglandinas | P8: Referência | Q8: MONITORADO | R8: 150.07 | S8: 207.46 | T8: 150.07 | U8: 207.46 | V8: 170.53 | W8: 235.75 | X8: 170.53 | Y8: 235.75 | Z8: 180.81 | AA8: 249.96 | AB8: 180.81 | AC8: 249.96 | AD8: 181.9 | AE8: 251.47 | AF8: 181.9 | AG8: 251.47 | AH8: 183.01 | AI8: 253 | AJ8: 183.01 | AK8: 253 | AL8: 185.27 | AM8: 256.12 | AN8: 185.27 | AO8: 256.12 | AP8: 186.42 | AQ8: 257.71 | AR8: 186.42 | AS8: 257.71 | AT8: 187.59 | AU8: 259.33 | AV8: 187.59 | AW8: 259.33 | AX8: 188.77 | AY8: 260.96 | AZ8: 188.77 | BA8: 260.96 | BB8: 189.96 | BC8: 262.61 | BD8: 189.96 | BE8: 262.61 | BF8: 192.4 | BG8: 265.98 | BH8: 192.4 | BI8: 265.98 | BJ8: 193.64 | BK8: 267.7 | BL8: 193.64 | BM8: 267.7 | BN8: 194.9 | BO8: 269.44 | BP8: 194.9 | BQ8: 269.44 | BR8: Não | BS8: Sim | BT8: Sim | BU8: Não | BV8: 0 | BW8: Positiva | BX8: Não | BY8: TVTarja Vermelha
A9: 11.643.096/0004-75 | B9: Viatris Farmacêutica do Brasil Ltda. | C9: 11.643.096/0001-22 | D9: VIATRIS FARMACEUTICA DO BRASIL LTDA | E9: 541525040033017 | F9: 1883001030018 | G9: 7898560666964 | H9: 7908236800841 | I9: 400569707 | J9: 400579061 | K9: MALEATO DE TIMOLOL;LATANOPROSTA | L9: XALACOM | M9: 50 MCG/ML + 5 MG/ML SOL OFT CT FR GOT PLAS TRANS X 2,5 ML | N9: XALACOM50 MCG/ML + 5 MG/ML SOL OFT CT FR GOT PLAS TRANS X 2,5 ML | O9: Antiglaucomatosos | P9: Referência | Q9: MONITORADO | R9: 168.61 | S9: 233.09 | T9: 168.61 | U9: 233.09 | V9: 191.6 | W9: 264.88 | X9: 191.6 | Y9: 264.88 | Z9: 203.14 | AA9: 280.83 | AB9: 203.14 | AC9: 280.83 | AD9: 204.38 | AE9: 282.54 | AF9: 204.38 | AG9: 282.54 | AH9: 205.62 | AI9: 284.26 | AJ9: 205.62 | AK9: 284.26 | AL9: 208.16 | AM9: 287.77 | AN9: 208.16 | AO9: 287.77 | AP9: 209.45 | AQ9: 289.55 | AR9: 209.45 | AS9: 289.55 | AT9: 210.76 | AU9: 291.36 | AV9: 210.76 | AW9: 291.36 | AX9: 212.09 | AY9: 293.2 | AZ9: 212.09 | BA9: 293.2 | BB9: 213.43 | BC9: 295.05 | BD9: 213.43 | BE9: 295.05 | BF9: 216.17 | BG9: 298.84 | BH9: 216.17 | BI9: 298.84 | BJ9: 217.56 | BK9: 300.76 | BL9: 217.56 | BM9: 300.76 | BN9: 218.97 | BO9: 302.71 | BP9: 218.97 | BQ9: 302.71 | BR9: Não | BS9: Não | BT9: Não | BU9: Não | BV9: 0 | BW9: Positiva | BX9: Não | BY9: TVTarja Vermelha
A10: 11.643.096/0004-75 | B10: Viatris Farmacêutica do Brasil Ltda. | C10: 11.643.096/0001-22 | D10: VIATRIS FARMACEUTICA DO BRASIL LTDA | E10: 541525040032317 | F10: 1883001010025 | G10: 7898560666896 | H10: 7908236800919 | I10: 400570996 | J10: 400579039 | K10: PREGABALINA | L10: LYRICA | M10: 25 MG CAP DURA CT BL AL PLAS PVC TRANS X 14 | N10: LYRICA25 MG CAP DURA CT BL AL PLAS PVC TRANS X 14 | O10: N3A - ANTIEPILÉPTICOS | P10: Novo | Q10: Regulado | R10: 15.94 | S10: 22.04 | T10: 15.94 | U10: 22.04 | V10: 18.11 | W10: 25.04 | X10: 18.11 | Y10: 25.04 | Z10: 19.2 | AA10: 26.54 | AB10: 19.2 | AC10: 26.54 | AD10: 19.32 | AE10: 26.71 | AF10: 19.32 | AG10: 26.71 | AH10: 19.44 | AI10: 26.87 | AJ10: 19.44 | AK10: 26.87 | AL10: 19.68 | AM10: 27.21 | AN10: 19.68 | AO10: 27.21 | AP10: 19.8 | AQ10: 27.37 | AR10: 19.8 | AS10: 27.37 | AT10: 19.93 | AU10: 27.55 | AV10: 19.93 | AW10: 27.55 | AX10: 20.05 | AY10: 27.72 | AZ10: 20.05 | BA10: 27.72 | BB10: 20.18 | BC10: 27.9 | BD10: 20.18 | BE10: 27.9 | BF10: 20.44 | BG10: 28.26 | BH10: 20.44 | BI10: 28.26 | BJ10: 20.57 | BK10: 28.44 | BL10: 20.57 | BM10: 28.44 | BN10: 20.7 | BO10: 28.62 | BP10: 20.7 | BQ10: 28.62 | BR10: Não | BS10: Não | BT10: Não | BU10: Não | BV10: 0 | BW10: Positiva | BX10: Não | BY10: Tarja Vermelha sob restrição
A11: 11.643.096/0004-75 | B11: Viatris Farmacêutica do Brasil Ltda. | C11: 11.643.096/0001-22 | D11: VIATRIS FARMACEUTICA DO BRASIL LTDA | E11: 541525040032417 | F11: 1883001010076 | G11: 7898560666902 | H11: 7908236800926 | I11: 400570997 | J11: 400579038 | K11: PREGABALINA | L11: LYRICA | M11: 75 MG CAP DURA CT BL AL PLAS PVC TRANS X 14 | N11: LYRICA75 MG CAP DURA CT BL AL PLAS PVC TRANS X 14 | O11: N3A - ANTIEPILÉPTICOS | P11: Novo | Q11: Regulado | R11: 65.57 | S11: 90.65 | T11: 65.57 | U11: 90.65 | V11: 74.51 | W11: 103.01 | X11: 74.51 | Y11: 103.01 | Z11: 79 | AA11: 109.21 | AB11: 79 | AC11: 109.21 | AD11: 79.48 | AE11: 109.88 | AF11: 79.48 | AG11: 109.88 | AH11: 79.96 | AI11: 110.54 | AJ11: 79.96 | AK11: 110.54 | AL11: 80.95 | AM11: 111.91 | AN11: 80.95 | AO11: 111.91 | AP11: 81.45 | AQ11: 112.6 | AR11: 81.45 | AS11: 112.6 | AT11: 81.96 | AU11: 113.3 | AV11: 81.96 | AW11: 113.3 | AX11: 82.48 | AY11: 114.02 | AZ11: 82.48 | BA11: 114.02 | BB11: 83 | BC11: 114.74 | BD11: 83 | BE11: 114.74 | BF11: 84.06 | BG11: 116.21 | BH11: 84.06 | BI11: 116.21 | BJ11: 84.61 | BK11: 116.97 | BL11: 84.61 | BM11: 116.97 | BN11: 85.16 | BO11: 117.73 | BP11: 85.16 | BQ11: 117.73 | BR11: Não | BS11: Não | BT11: Não | BU11: Não | BV11: 0 | BW11: Positiva | BX11: Não | BY11: Tarja Vermelha sob restrição
A12: 11.643.096/0004-75 | B12: Viatris Farmacêutica do Brasil Ltda. | C12: 11.643.096/0001-22 | D12: VIATRIS FARMACEUTICA DO BRASIL LTDA | E12: 541525040032517 | F12: 1883001010092 | G12: 7898560666919 | H12: 7908236800933 | I12: 400570998 | J12: 400579037 | K12: PREGABALINA | L12: LYRICA | M12: 75 MG CAP DURA CT BL AL PLAS PVC TRANS X 28 | N12: LYRICA75 MG CAP DURA CT BL AL PLAS PVC TRANS X 28 | O12: N3A - ANTIEPILÉPTICOS | P12: Novo | Q12: Regulado | R12: 131.13 | S12: 181.28 | T12: 131.13 | U12: 181.28 | V12: 149.01 | W12: 206 | X12: 149.01 | Y12: 206 | Z12: 157.99 | AA12: 218.41 | AB12: 157.99 | AC12: 218.41 | AD12: 158.95 | AE12: 219.74 | AF12: 158.95 | AG12: 219.74 | AH12: 159.91 | AI12: 221.07 | AJ12: 159.91 | AK12: 221.07 | AL12: 161.89 | AM12: 223.8 | AN12: 161.89 | AO12: 223.8 | AP12: 162.89 | AQ12: 225.19 | AR12: 162.89 | AS12: 225.19 | AT12: 163.91 | AU12: 226.6 | AV12: 163.91 | AW12: 226.6 | AX12: 164.94 | AY12: 228.02 | AZ12: 164.94 | BA12: 228.02 | BB12: 165.99 | BC12: 229.47 | BD12: 165.99 | BE12: 229.47 | BF12: 168.12 | BG12: 232.42 | BH12: 168.12 | BI12: 232.42 | BJ12: 169.2 | BK12: 233.91 | BL12: 169.2 | BM12: 233.91 | BN12: 170.3 | BO12: 235.43 | BP12: 170.3 | BQ12: 235.43 | BR12: Não | BS12: Não | BT12: Não | BU12: Não | BV12: 0 | BW12: Positiva | BX12: Não | BY12: Tarja Vermelha sob restrição
A13: 11.643.096/0004-75 | B13: Viatris Farmacêutica do Brasil Ltda. | C13: 11.643.096/0001-22 | D13: VIATRIS FARMACEUTICA DO BRASIL LTDA | E13: 541525040032817 | F13: 1883001010149 | G13: 7898560666889 | H13: 7908236800902 | I13: 400570995 | J13: 400579036 | K13: PREGABALINA | L13: LYRICA | M13: 150 MG CAP DURA CT BL AL PLAS PVC TRANS X 28 | N13: LYRICA150 MG CAP DURA CT BL AL PLAS PVC TRANS X 28 | O13: N3A - ANTIEPILÉPTICOS | P13: Novo | Q13: Regulado | R13: 201.08 | S13: 277.98 | T13: 201.08 | U13: 277.98 | V13: 228.5 | W13: 315.89 | X13: 228.5 | Y13: 315.89 | Z13: 242.27 | AA13: 334.92 | AB13: 242.27 | AC13: 334.92 | AD13: 243.73 | AE13: 336.94 | AF13: 243.73 | AG13: 336.94 | AH13: 245.22 | AI13: 339 | AJ13: 245.22 | AK13: 339 | AL13: 248.25 | AM13: 343.19 | AN13: 248.25 | AO13: 343.19 | AP13: 249.79 | AQ13: 345.32 | AR13: 249.79 | AS13: 345.32 | AT13: 251.35 | AU13: 347.48 | AV13: 251.35 | AW13: 347.48 | AX13: 252.93 | AY13: 349.66 | AZ13: 252.93 | BA13: 349.66 | BB13: 254.53 | BC13: 351.87 | BD13: 254.53 | BE13: 351.87 | BF13: 257.79 | BG13: 356.38 | BH13: 257.79 | BI13: 356.38 | BJ13: 259.46 | BK13: 358.69 | BL13: 259.46 | BM13: 358.69 | BN13: 261.14 | BO13: 361.01 | BP13: 261.14 | BQ13: 361.01 | BR13: Não | BS13: Não | BT13: Não | BU13: Não | BV13: 0 | BW13: Positiva | BX13: Não | BY13: Tarja Vermelha sob restrição
A14: 11.643.096/0004-75 | B14: Viatris Farmacêutica do Brasil Ltda. | C14: 11.643.096/0001-22 | D14: VIATRIS FARMACEUTICA DO BRASIL LTDA | E14: 541523050027717 | F14: 1883000910022 | G14: 7908236800643 | H14: =VLOOKUP(E14,'[2]VIATRIS '!$D$1:$F$65536,3,0) -> 7908236800643 | I14: 400569615 | J14: #N/A | K14: ALPRAZOLAM | L14: FRONTAL | M14: 0,25 MG COM CT BL AL PLAS TRANS X 30 | N14: FRONTAL0,25 MG COM CT BL AL PLAS TRANS X 30 | O14: N5C - TRANQUILIZANTES | P14: Novo | Q14: Regulado | R14: 22.03 | S14: 30.46 | T14: 22.03 | U14: 30.46 | V14: 25.03 | W14: 34.6 | X14: 25.03 | Y14: 34.6 | Z14: 26.54 | AA14: 36.69 | AB14: 26.54 | AC14: 36.69 | AD14: 26.7 | AE14: 36.91 | AF14: 26.7 | AG14: 36.91 | AH14: 26.87 | AI14: 37.15 | AJ14: 26.87 | AK14: 37.15 | AL14: 27.2 | AM14: 37.6 | AN14: 27.2 | AO14: 37.6 | AP14: 27.37 | AQ14: 37.84 | AR14: 27.37 | AS14: 37.84 | AT14: 27.54 | AU14: 38.07 | AV14: 27.54 | AW14: 38.07 | AX14: 27.71 | AY14: 38.31 | AZ14: 27.71 | BA14: 38.31 | BB14: 27.89 | BC14: 38.56 | BD14: 27.89 | BE14: 38.56 | BF14: 28.24 | BG14: 39.04 | BH14: 28.24 | BI14: 39.04 | BJ14: 28.43 | BK14: 39.3 | BL14: 28.43 | BM14: 39.3 | BN14: 28.61 | BO14: 39.55 | BP14: 28.61 | BQ14: 39.55 | BR14: Não | BS14: Não | BT14: Não | BU14: Não | BV14: 0 | BW14: Positiva | BX14: Não | BY14: Tarja Preta
A15: 11.643.096/0004-75 | B15: Viatris Farmacêutica do Brasil Ltda. | C15: 11.643.096/0001-22 | D15: VIATRIS FARMACEUTICA DO BRASIL LTDA | E15: 541523050027817 | F15: 1883000910049 | G15: 7908236800650 | H15: =VLOOKUP(E15,'[2]VIATRIS '!$D$1:$F$65536,3,0) -> 7908236800650 | I15: 400569616 | J15: #N/A | K15: ALPRAZOLAM | L15: FRONTAL | M15: 0,5 MG COM CT BL AL PLAS TRANS X 30 | N15: FRONTAL0,5 MG COM CT BL AL PLAS TRANS X 30 | O15: N5C - TRANQUILIZANTES | P15: Novo | Q15: Regulado | R15: 42.97 | S15: 59.4 | T15: 42.97 | U15: 59.4 | V15: 48.83 | W15: 67.5 | X15: 48.83 | Y15: 67.5 | Z15: 51.77 | AA15: 71.57 | AB15: 51.77 | AC15: 71.57 | AD15: 52.08 | AE15: 72 | AF15: 52.08 | AG15: 72 | AH15: 52.4 | AI15: 72.44 | AJ15: 52.4 | AK15: 72.44 | AL15: 53.05 | AM15: 73.34 | AN15: 53.05 | AO15: 73.34 | AP15: 53.38 | AQ15: 73.79 | AR15: 53.38 | AS15: 73.79 | AT15: 53.71 | AU15: 74.25 | AV15: 53.71 | AW15: 74.25 | AX15: 54.05 | AY15: 74.72 | AZ15: 54.05 | BA15: 74.72 | BB15: 54.39 | BC15: 75.19 | BD15: 54.39 | BE15: 75.19 | BF15: 55.09 | BG15: 76.16 | BH15: 55.09 | BI15: 76.16 | BJ15: 55.45 | BK15: 76.66 | BL15: 55.45 | BM15: 76.66 | BN15: 55.81 | BO15: 77.15 | BP15: 55.81 | BQ15: 77.15 | BR15: Não | BS15: Não | BT15: Não | BU15: Não | BV15: 0 | BW15: Positiva | BX15: Não | BY15: Tarja Preta
A16: 11.643.096/0004-75 | B16: Viatris Farmacêutica do Brasil Ltda. | C16: 11.643.096/0001-22 | D16: VIATRIS FARMACEUTICA DO BRASIL LTDA | E16: 541523050027917 | F16: 1883000910065 | G16: 7908236800667 | H16: =VLOOKUP(E16,'[2]VIATRIS '!$D$1:$F$65536,3,0) -> 7908236800667 | I16: 400569617 | J16: #N/A | K16: ALPRAZOLAM | L16: FRONTAL | M16: 1 MG COM CT BL AL PLAS TRANS X 30 | N16: FRONTAL1 MG COM CT BL AL PLAS TRANS X 30 | O16: N5C - TRANQUILIZANTES | P16: Novo | Q16: Regulado | R16: 76.38 | S16: 105.59 | T16: 76.38 | U16: 105.59 | V16: 86.8 | W16: 120 | X16: 86.8 | Y16: 120 | Z16: 92.02 | AA16: 127.21 | AB16: 92.02 | AC16: 127.21 | AD16: 92.58 | AE16: 127.99 | AF16: 92.58 | AG16: 127.99 | AH16: 93.15 | AI16: 128.77 | AJ16: 93.15 | AK16: 128.77 | AL16: 94.3 | AM16: 130.36 | AN16: 94.3 | AO16: 130.36 | AP16: 94.88 | AQ16: 131.17 | AR16: 94.88 | AS16: 131.17 | AT16: 95.48 | AU16: 132 | AV16: 95.48 | AW16: 132 | AX16: 96.08 | AY16: 132.82 | AZ16: 96.08 | BA16: 132.82 | BB16: 96.68 | BC16: 133.65 | BD16: 96.68 | BE16: 133.65 | BF16: 97.92 | BG16: 135.37 | BH16: 97.92 | BI16: 135.37 | BJ16: 98.55 | BK16: 136.24 | BL16: 98.55 | BM16: 136.24 | BN16: 99.19 | BO16: 137.12 | BP16: 99.19 | BQ16: 137.12 | BR16: Não | BS16: Não | BT16: Não | BU16: Não | BV16: 0 | BW16: Positiva | BX16: Não | BY16: Tarja Preta
A17: 11.643.096/0004-75 | B17: Viatris Farmacêutica do Brasil Ltda. | C17: 11.643.096/0001-22 | D17: VIATRIS FARMACEUTICA DO BRASIL LTDA | E17: 541523050028017 | F17: 1883000910073 | G17: 7908236800674 | H17: =VLOOKUP(E17,'[2]VIATRIS '!$D$1:$F$65536,3,0) -> 7908236800674 | I17: 400569618 | J17: #N/A | K17: ALPRAZOLAM | L17: FRONTAL | M17: 2 MG COM CT FR VD AMB X 30 | N17: FRONTAL2 MG COM CT FR VD AMB X 30 | O17: N5C - TRANQUILIZANTES | P17: Novo | Q17: Regulado | R17: 120.81 | S17: 167.01 | T17: 120.81 | U17: 167.01 | V17: 137.28 | W17: 189.78 | X17: 137.28 | Y17: 189.78 | Z17: 145.55 | AA17: 201.21 | AB17: 145.55 | AC17: 201.21 | AD17: 146.44 | AE17: 202.44 | AF17: 146.44 | AG17: 202.44 | AH17: 147.33 | AI17: 203.68 | AJ17: 147.33 | AK17: 203.68 | AL17: 149.15 | AM17: 206.19 | AN17: 149.15 | AO17: 206.19 | AP17: 150.07 | AQ17: 207.46 | AR17: 150.07 | AS17: 207.46 | AT17: 151.01 | AU17: 208.76 | AV17: 151.01 | AW17: 208.76 | AX17: 151.96 | AY17: 210.08 | AZ17: 151.96 | BA17: 210.08 | BB17: 152.92 | BC17: 211.4 | BD17: 152.92 | BE17: 211.4 | BF17: 154.88 | BG17: 214.11 | BH17: 154.88 | BI17: 214.11 | BJ17: 155.88 | BK17: 215.49 | BL17: 155.88 | BM17: 215.49 | BN17: 156.9 | BO17: 216.91 | BP17: 156.9 | BQ17: 216.91 | BR17: Não | BS17: Não | BT17: Não | BU17: Não | BV17: 0 | BW17: Positiva | BX17: Não | BY17: Tarja Preta
A18: 11.643.096/0004-75 | B18: Viatris Farmacêutica do Brasil Ltda. | C18: 11.643.096/0001-22 | D18: VIATRIS FARMACEUTICA DO BRASIL LTDA | E18: 541523050028117 | F18: 1883000910081 | G18: 7908236800728 | H18: =VLOOKUP(E18,'[2]VIATRIS '!$D$1:$F$65536,3,0) -> 7908236800728 | I18: 400569709 | J18: #N/A | K18: ALPRAZOLAM | L18: FRONTAL | M18: 0,5 MG COM LIB PROL CT BL AL/AL X 30 | N18: FRONTAL0,5 MG COM LIB PROL CT BL AL/AL X 30 | O18: N5C - TRANQUILIZANTES | P18: Novo | Q18: Regulado | R18: 42.97 | S18: 59.4 | T18: 42.97 | U18: 59.4 | V18: 48.83 | W18: 67.5 | X18: 48.83 | Y18: 67.5 | Z18: 51.77 | AA18: 71.57 | AB18: 51.77 | AC18: 71.57 | AD18: 52.08 | AE18: 72 | AF18: 52.08 | AG18: 72 | AH18: 52.4 | AI18: 72.44 | AJ18: 52.4 | AK18: 72.44 | AL18: 53.05 | AM18: 73.34 | AN18: 53.05 | AO18: 73.34 | AP18: 53.38 | AQ18: 73.79 | AR18: 53.38 | AS18: 73.79 | AT18: 53.71 | AU18: 74.25 | AV18: 53.71 | AW18: 74.25 | AX18: 54.05 | AY18: 74.72 | AZ18: 54.05 | BA18: 74.72 | BB18: 54.39 | BC18: 75.19 | BD18: 54.39 | BE18: 75.19 | BF18: 55.09 | BG18: 76.16 | BH18: 55.09 | BI18: 76.16 | BJ18: 55.45 | BK18: 76.66 | BL18: 55.45 | BM18: 76.66 | BN18: 55.81 | BO18: 77.15 | BP18: 55.81 | BQ18: 77.15 | BR18: Não | BS18: Não | BT18: Não | BU18: Não | BV18: 0 | BW18: Positiva | BX18: Não | BY18: Tarja Preta
A19: 11.643.096/0004-75 | B19: Viatris Farmacêutica do Brasil Ltda. | C19: 11.643.096/0001-22 | D19: VIATRIS FARMACEUTICA DO BRASIL LTDA | E19: 541523050028217 | F19: 1883000910091 | G19: 7908236800735 | H19: =VLOOKUP(E19,'[2]VIATRIS '!$D$1:$F$65536,3,0) -> 7908236800735 | I19: 400569710 | J19: #N/A | K19: ALPRAZOLAM | L19: FRONTAL | M19: 1 MG COM LIB PROL CT BL AL/AL X 30 | N19: FRONTAL1 MG COM LIB PROL CT BL AL/AL X 30 | O19: N5C - TRANQUILIZANTES | P19: Novo | Q19: Regulado | R19: 76.38 | S19: 105.59 | T19: 76.38 | U19: 105.59 | V19: 86.8 | W19: 120 | X19: 86.8 | Y19: 120 | Z19: 92.02 | AA19: 127.21 | AB19: 92.02 | AC19: 127.21 | AD19: 92.58 | AE19: 127.99 | AF19: 92.58 | AG19: 127.99 | AH19: 93.15 | AI19: 128.77 | AJ19: 93.15 | AK19: 128.77 | AL19: 94.3 | AM19: 130.36 | AN19: 94.3 | AO19: 130.36 | AP19: 94.88 | AQ19: 131.17 | AR19: 94.88 | AS19: 131.17 | AT19: 95.48 | AU19: 132 | AV19: 95.48 | AW19: 132 | AX19: 96.08 | AY19: 132.82 | AZ19: 96.08 | BA19: 132.82 | BB19: 96.68 | BC19: 133.65 | BD19: 96.68 | BE19: 133.65 | BF19: 97.92 | BG19: 135.37 | BH19: 97.92 | BI19: 135.37 | BJ19: 98.55 | BK19: 136.24 | BL19: 98.55 | BM19: 136.24 | BN19: 99.19 | BO19: 137.12 | BP19: 99.19 | BQ19: 137.12 | BR19: Não | BS19: Não | BT19: Não | BU19: Não | BV19: 0 | BW19: Positiva | BX19: Não | BY19: Tarja Preta
A20: 11.643.096/0004-75 | B20: Viatris Farmacêutica do Brasil Ltda. | C20: 11.643.096/0001-22 | D20: VIATRIS FARMACEUTICA DO BRASIL LTDA | E20: 541523050028317 | F20: 1883000910103 | G20: 7908236800742 | H20: =VLOOKUP(E20,'[2]VIATRIS '!$D$1:$F$65536,3,0) -> 7908236800742 | I20: 400569711 | J20: #N/A | K20: ALPRAZOLAM | L20: FRONTAL | M20: 2 MG COM LIB PROL CT BL AL/AL X 30 | N20: FRONTAL2 MG COM LIB PROL CT BL AL/AL X 30 | O20: N5C - TRANQUILIZANTES | P20: Novo | Q20: Regulado | R20: 120.81 | S20: 167.01 | T20: 120.81 | U20: 167.01 | V20: 137.28 | W20: 189.78 | X20: 137.28 | Y20: 189.78 | Z20: 145.55 | AA20: 201.21 | AB20: 145.55 | AC20: 201.21 | AD20: 146.44 | AE20: 202.44 | AF20: 146.44 | AG20: 202.44 | AH20: 147.33 | AI20: 203.68 | AJ20: 147.33 | AK20: 203.68 | AL20: 149.15 | AM20: 206.19 | AN20: 149.15 | AO20: 206.19 | AP20: 150.07 | AQ20: 207.46 | AR20: 150.07 | AS20: 207.46 | AT20: 151.01 | AU20: 208.76 | AV20: 151.01 | AW20: 208.76 | AX20: 151.96 | AY20: 210.08 | AZ20: 151.96 | BA20: 210.08 | BB20: 152.92 | BC20: 211.4 | BD20: 152.92 | BE20: 211.4 | BF20: 154.88 | BG20: 214.11 | BH20: 154.88 | BI20: 214.11 | BJ20: 155.88 | BK20: 215.49 | BL20: 155.88 | BM20: 215.49 | BN20: 156.9 | BO20: 216.91 | BP20: 156.9 | BQ20: 216.91 | BR20: Não | BS20: Não | BT20: Não | BU20: Não | BV20: 0 | BW20: Positiva | BX20: Não | BY20: Tarja Preta
A21: 05.656.727/0001-45 | B21: Viatris Brasil Imp. e Distrib. Medicamentos Ltda. | C21: 11.643.096/0001-22 | D21: VIATRIS FARMACEUTICA DO BRASIL LTDA | E21: 541523110031004 | F21: 1883000990018 | G21: 7898560665349 | H21: =VLOOKUP(E21,'[2]VIATRIS '!$D$1:$F$65536,3,0) -> 7898560665349 | I21: NÃO COMERCILIZA NO MOMENTO | J21: =I21 -> NÃO COMERCILIZA NO MOMENTO | K21: APIXABANA | L21: EKNUS | M21: 2,5 MG COM REV CT BL AL PLAS PVC/PVDC TRANS X 10 | N21: EKNUS2,5 MG COM REV CT BL AL PLAS PVC/PVDC TRANS X 10 | O21: B1F - INIBIDORES DIRETOS DO FATOR XA | P21: Similar | Q21: Regulado | R21: 39.77 | S21: 54.98 | T21: 39.77 | U21: 54.98 | V21: 45.19 | W21: 62.47 | X21: 45.19 | Y21: 62.47 | Z21: 47.92 | AA21: 66.25 | AB21: 47.92 | AC21: 66.25 | AD21: 48.21 | AE21: 66.65 | AF21: 48.21 | AG21: 66.65 | AH21: 48.5 | AI21: 67.05 | AJ21: 48.5 | AK21: 67.05 | AL21: 49.1 | AM21: 67.88 | AN21: 49.1 | AO21: 67.88 | AP21: 49.4 | AQ21: 68.29 | AR21: 49.4 | AS21: 68.29 | AT21: 49.71 | AU21: 68.72 | AV21: 49.71 | AW21: 68.72 | AX21: 50.03 | AY21: 69.16 | AZ21: 50.03 | BA21: 69.16 | BB21: 50.34 | BC21: 69.59 | BD21: 50.34 | BE21: 69.59 | BF21: 50.99 | BG21: 70.49 | BH21: 50.99 | BI21: 70.49 | BJ21: 51.32 | BK21: 70.95 | BL21: 51.32 | BM21: 70.95 | BN21: 51.65 | BO21: 71.4 | BP21: 51.65 | BQ21: 71.4 | BR21: Não | BS21: Não | BT21: Não | BU21: Não | BV21: 0 | BW21: Positiva | BX21: Não | BY21: Tarja Vermelha
A22: 05.656.727/0001-45 | B22: Viatris Brasil Imp. e Distrib. Medicamentos Ltda. | C22: 11.643.096/0001-22 | D22: VIATRIS FARMACEUTICA DO BRASIL LTDA | E22: 541523110031104 | F22: 1883000990026 | G22: 7898560665363 | H22: =VLOOKUP(E22,'[2]VIATRIS '!$D$1:$F$65536,3,0) -> 7898560665363 | I22: 400575153 | J22: #N/A | K22: APIXABANA | L22: EKNUS | M22: 2,5 MG COM REV CT BL AL PLAS PVC/PVDC TRANS X 20 | N22: EKNUS2,5 MG COM REV CT BL AL PLAS PVC/PVDC TRANS X 20 | O22: B1F - INIBIDORES DIRETOS DO FATOR XA | P22: Similar | Q22: Regulado | R22: 79.54 | S22: 109.96 | T22: 79.54 | U22: 109.96 | V22: 90.39 | W22: 124.96 | X22: 90.39 | Y22: 124.96 | Z22: 95.83 | AA22: 132.48 | AB22: 95.83 | AC22: 132.48 | AD22: 96.41 | AE22: 133.28 | AF22: 96.41 | AG22: 133.28 | AH22: 97 | AI22: 134.1 | AJ22: 97 | AK22: 134.1 | AL22: 98.2 | AM22: 135.76 | AN22: 98.2 | AO22: 135.76 | AP22: 98.81 | AQ22: 136.6 | AR22: 98.81 | AS22: 136.6 | AT22: 99.43 | AU22: 137.46 | AV22: 99.43 | AW22: 137.46 | AX22: 100.05 | AY22: 138.31 | AZ22: 100.05 | BA22: 138.31 | BB22: 100.68 | BC22: 139.18 | BD22: 100.68 | BE22: 139.18 | BF22: 101.97 | BG22: 140.97 | BH22: 101.97 | BI22: 140.97 | BJ22: 102.63 | BK22: 141.88 | BL22: 102.63 | BM22: 141.88 | BN22: 103.3 | BO22: 142.81 | BP22: 103.3 | BQ22: 142.81 | BR22: Não | BS22: Não | BT22: Não | BU22: Não | BV22: 0 | BW22: Positiva | BX22: Não | BY22: Tarja Vermelha
A23: 05.656.727/0001-45 | B23: Viatris Brasil Imp. e Distrib. Medicamentos Ltda. | C23: 11.643.096/0001-22 | D23: VIATRIS FARMACEUTICA DO BRASIL LTDA | E23: 541523110031204 | F23: 1883000990034 | G23: 7898560665387 | H23: =VLOOKUP(E23,'[2]VIATRIS '!$D$1:$F$65536,3,0) -> 7898560665387 | I23: 400575154 | J23: #N/A | K23: APIXABANA | L23: EKNUS | M23: 2,5 MG COM REV CT BL AL PLAS PVC/PVDC TRANS X 60 | N23: EKNUS2,5 MG COM REV CT BL AL PLAS PVC/PVDC TRANS X 60 | O23: B1F - INIBIDORES DIRETOS DO FATOR XA | P23: Similar | Q23: Regulado | R23: 238.62 | S23: 329.88 | T23: 238.62 | U23: 329.88 | V23: 271.16 | W23: 374.86 | X23: 271.16 | Y23: 374.86 | Z23: 287.49 | AA23: 397.44 | AB23: 287.49 | AC23: 397.44 | AD23: 289.24 | AE23: 399.86 | AF23: 289.24 | AG23: 399.86 | AH23: 291 | AI23: 402.29 | AJ23: 291 | AK23: 402.29 | AL23: 294.59 | AM23: 407.25 | AN23: 294.59 | AO23: 407.25 | AP23: 296.42 | AQ23: 409.78 | AR23: 296.42 | AS23: 409.78 | AT23: 298.28 | AU23: 412.35 | AV23: 298.28 | AW23: 412.35 | AX23: 300.15 | AY23: 414.94 | AZ23: 300.15 | BA23: 414.94 | BB23: 302.05 | BC23: 417.57 | BD23: 302.05 | BE23: 417.57 | BF23: 305.92 | BG23: 422.92 | BH23: 305.92 | BI23: 422.92 | BJ23: 307.9 | BK23: 425.65 | BL23: 307.9 | BM23: 425.65 | BN23: 309.9 | BO23: 428.42 | BP23: 309.9 | BQ23: 428.42 | BR23: Não | BS23: Não | BT23: Não | BU23: Não | BV23: 0 | BW23: Positiva | BX23: Não | BY23: Tarja Vermelha
A24: 05.656.727/0001-45 | B24: Viatris Brasil Imp. e Distrib. Medicamentos Ltda. | C24: 11.643.096/0001-22 | D24: VIATRIS FARMACEUTICA DO BRASIL LTDA | E24: 541523110031304 | F24: 1883000990042 | G24: 7898560665356 | H24: =VLOOKUP(E24,'[2]VIATRIS '!$D$1:$F$65536,3,0) -> 7898560665356 | I24: NÃO COMERCILIZA NO MOMENTO | J24: =I24 -> NÃO COMERCILIZA NO MOMENTO | K24: APIXABANA | L24: EKNUS | M24: 5,0 MG COM REV CT BL AL PLAS PVC/PVDC TRANS X 10 | N24: EKNUS5,0 MG COM REV CT BL AL PLAS PVC/PVDC TRANS X 10 | O24: B1F - INIBIDORES DIRETOS DO FATOR XA | P24: Similar | Q24: Regulado | R24: 41.32 | S24: 57.12 | T24: 41.32 | U24: 57.12 | V24: 46.95 | W24: 64.91 | X24: 46.95 | Y24: 64.91 | Z24: 49.78 | AA24: 68.82 | AB24: 49.78 | AC24: 68.82 | AD24: 50.08 | AE24: 69.23 | AF24: 50.08 | AG24: 69.23 | AH24: 50.39 | AI24: 69.66 | AJ24: 50.39 | AK24: 69.66 | AL24: 51.01 | AM24: 70.52 | AN24: 51.01 | AO24: 70.52 | AP24: 51.33 | AQ24: 70.96 | AR24: 51.33 | AS24: 70.96 | AT24: 51.65 | AU24: 71.4 | AV24: 51.65 | AW24: 71.4 | AX24: 51.97 | AY24: 71.85 | AZ24: 51.97 | BA24: 71.85 | BB24: 52.3 | BC24: 72.3 | BD24: 52.3 | BE24: 72.3 | BF24: 52.97 | BG24: 73.23 | BH24: 52.97 | BI24: 73.23 | BJ24: 53.32 | BK24: 73.71 | BL24: 53.32 | BM24: 73.71 | BN24: 53.66 | BO24: 74.18 | BP24: 53.66 | BQ24: 74.18 | BR24: Não | BS24: Não | BT24: Não | BU24: Não | BV24: 0 | BW24: Positiva | BX24: Não | BY24: Tarja Vermelha
A25: 05.656.727/0001-45 | B25: Viatris Brasil Imp. e Distrib. Medicamentos Ltda. | C25: 11.643.096/0001-22 | D25: VIATRIS FARMACEUTICA DO BRASIL LTDA | E25: 541523110031404 | F25: 1883000990050 | G25: 7898560665370 | H25: =VLOOKUP(E25,'[2]VIATRIS '!$D$1:$F$65536,3,0) -> 7898560665370 | I25: 400575156 | J25: #N/A | K25: APIXABANA | L25: EKNUS | M25: 5,0 MG COM REV CT BL AL PLAS PVC/PVDC TRANS X 20 | N25: EKNUS5,0 MG COM REV CT BL AL PLAS PVC/PVDC TRANS X 20 | O25: B1F - INIBIDORES DIRETOS DO FATOR XA | P25: Similar | Q25: Regulado | R25: 82.65 | S25: 114.26 | T25: 82.65 | U25: 114.26 | V25: 93.92 | W25: 129.84 | X25: 93.92 | Y25: 129.84 | Z25: 99.58 | AA25: 137.66 | AB25: 99.58 | AC25: 137.66 | AD25: 100.18 | AE25: 138.49 | AF25: 100.18 | AG25: 138.49 | AH25: 100.79 | AI25: 139.34 | AJ25: 100.79 | AK25: 139.34 | AL25: 102.04 | AM25: 141.06 | AN25: 102.04 | AO25: 141.06 | AP25: 102.67 | AQ25: 141.94 | AR25: 102.67 | AS25: 141.94 | AT25: 103.31 | AU25: 142.82 | AV25: 103.31 | AW25: 142.82 | AX25: 103.96 | AY25: 143.72 | AZ25: 103.96 | BA25: 143.72 | BB25: 104.62 | BC25: 144.63 | BD25: 104.62 | BE25: 144.63 | BF25: 105.96 | BG25: 146.48 | BH25: 105.96 | BI25: 146.48 | BJ25: 106.65 | BK25: 147.44 | BL25: 106.65 | BM25: 147.44 | BN25: 107.34 | BO25: 148.39 | BP25: 107.34 | BQ25: 148.39 | BR25: Não | BS25: Não | BT25: Não | BU25: Não | BV25: 0 | BW25: Positiva | BX25: Não | BY25: Tarja Vermelha
A26: 05.656.727/0001-45 | B26: Viatris Brasil Imp. e Distrib. Medicamentos Ltda. | C26: 11.643.096/0001-22 | D26: VIATRIS FARMACEUTICA DO BRASIL LTDA | E26: 541523110031504 | F26: 1883000990069 | G26: 7898560665394 | H26: =VLOOKUP(E26,'[2]VIATRIS '!$D$1:$F$65536,3,0) -> 7898560665394 | I26: 400575157 | J26: #N/A | K26: APIXABANA | L26: EKNUS | M26: 5,0 MG COM REV CT BL AL PLAS PVC/PVDC TRANS X 60 | N26: EKNUS5,0 MG COM REV CT BL AL PLAS PVC/PVDC TRANS X 60 | O26: B1F - INIBIDORES DIRETOS DO FATOR XA | P26: Similar | Q26: Regulado | R26: 247.94 | S26: 342.76 | T26: 247.94 | U26: 342.76 | V26: 281.75 | W26: 389.5 | X26: 281.75 | Y26: 389.5 | Z26: 298.72 | AA26: 412.96 | AB26: 298.72 | AC26: 412.96 | AD26: 300.53 | AE26: 415.47 | AF26: 300.53 | AG26: 415.47 | AH26: 302.37 | AI26: 418.01 | AJ26: 302.37 | AK26: 418.01 | AL26: 306.1 | AM26: 423.17 | AN26: 306.1 | AO26: 423.17 | AP26: 308 | AQ26: 425.79 | AR26: 308 | AS26: 425.79 | AT26: 309.93 | AU26: 428.46 | AV26: 309.93 | AW26: 428.46 | AX26: 311.87 | AY26: 431.14 | AZ26: 311.87 | BA26: 431.14 | BB26: 313.85 | BC26: 433.88 | BD26: 313.85 | BE26: 433.88 | BF26: 317.87 | BG26: 439.44 | BH26: 317.87 | BI26: 439.44 | BJ26: 319.92 | BK26: 442.27 | BL26: 319.92 | BM26: 442.27 | BN26: 322 | BO26: 445.15 | BP26: 322 | BQ26: 445.15 | BR26: Não | BS26: Não | BT26: Não | BU26: Não | BV26: 0 | BW26: Positiva | BX26: Não | BY26: Tarja Vermelha
A27: 11.643.096/0004-75 | B27: Viatris Farmacêutica do Brasil Ltda. | C27: 11.643.096/0001-22 | D27: VIATRIS FARMACEUTICA DO BRASIL LTDA | E27: 541522040025417 | F27: 1883000840032 | G27: 7908236800544 | H27: =VLOOKUP(E27,'[2]VIATRIS '!$D$1:$F$65536,3,0) -> 7908236800544 | I27: 400569611 | J27: #N/A | K27: ATORVASTATINA CÁLCICA | L27: LIPITOR | M27: 10 MG COM REV CT BL AL/AL X 30 | N27: LIPITOR10 MG COM REV CT BL AL/AL X 30 | O27: C10A1 - ESTATINAS, INIBIDORES DA REDUTASE HMG-CoA | P27: Similar | Q27: Regulado | R27: 189.36 | S27: 170.16 | T27: 123.08 | U27: 170.16 | V27: 139.87 | W27: 193.36 | X27: 139.87 | Y27: 166.82 | Z27: 148.3 | AA27: 205.01 | AB27: 148.3 | AC27: 205.01 | AD27: 149.19 | AE27: 206.25 | AF27: 149.19 | AG27: 206.25 | AH27: 150.1 | AI27: 207.53 | AJ27: 150.1 | AK27: 207.53 | AL27: 151.96 | AM27: 210.07 | AN27: 151.96 | AO27: 210.07 | AP27: 152.9 | AQ27: 211.37 | AR27: 152.9 | AS27: 211.37 | AT27: 153.86 | AU27: 212.69 | AV27: 153.86 | AW27: 212.69 | AX27: 154.82 | AY27: 214.03 | AZ27: 154.82 | BA27: 214.03 | BB27: 155.81 | BC27: 215.39 | BD27: 155.81 | BE27: 215.39 | BF27: 157.8 | BG27: 218.15 | BH27: 157.8 | BI27: 218.15 | BJ27: 158.82 | BK27: 219.56 | BL27: 158.82 | BM27: 219.56 | BN27: 159.85 | BO27: 220.98 | BP27: 159.85 | BQ27: 220.98 | BR27: Não | BS27: Sim | BT27: Sim | BU27: Não | BV27: 0 | BW27: Positiva | BX27: Sim | BY27: Tarja Vermelha
A28: 11.643.096/0004-75 | B28: Viatris Farmacêutica do Brasil Ltda. | C28: 11.643.096/0001-22 | D28: VIATRIS FARMACEUTICA DO BRASIL LTDA | E28: 541522040025517 | F28: 1883000840067 | G28: 7908236800360 | H28: =VLOOKUP(E28,'[2]VIATRIS '!$D$1:$F$65536,3,0) -> 7908236800360 | I28: NÃO COMERCILIZA NO MOMENTO | J28: =I28 -> NÃO COMERCILIZA NO MOMENTO | K28: ATORVASTATINA CÁLCICA | L28: LIPITOR | M28: 20 MG COM REV CT BL AL/AL X 10 | N28: LIPITOR20 MG COM REV CT BL AL/AL X 10 | O28: C10A1 - ESTATINAS, INIBIDORES DA REDUTASE HMG-CoA | P28: Similar | Q28: Regulado | R28: 77.42 | S28: 69.57 | T28: 50.32 | U28: 69.57 | V28: 57.19 | W28: 79.06 | X28: 57.19 | Y28: 68.2 | Z28: 60.63 | AA28: 83.82 | AB28: 60.63 | AC28: 83.82 | AD28: 61 | AE28: 84.32 | AF28: 61 | AG28: 84.32 | AH28: 61.37 | AI28: 84.86 | AJ28: 61.37 | AK28: 84.86 | AL28: 62.13 | AM28: 85.88 | AN28: 62.13 | AO28: 85.88 | AP28: 62.51 | AQ28: 86.42 | AR28: 62.51 | AS28: 86.42 | AT28: 62.91 | AU28: 86.96 | AV28: 62.91 | AW28: 86.96 | AX28: 63.3 | AY28: 87.5 | AZ28: 63.3 | BA28: 87.5 | BB28: 63.7 | BC28: 88.06 | BD28: 63.7 | BE28: 88.06 | BF28: 64.52 | BG28: 89.19 | BH28: 64.52 | BI28: 89.19 | BJ28: 64.94 | BK28: 89.77 | BL28: 64.94 | BM28: 89.77 | BN28: 65.36 | BO28: 90.35 | BP28: 65.36 | BQ28: 90.35 | BR28: Não | BS28: Sim | BT28: Sim | BU28: Não | BV28: 0 | BW28: Positiva | BX28: Não | BY28: Tarja Vermelha
A29: 11.643.096/0004-75 | B29: Viatris Farmacêutica do Brasil Ltda. | C29: 11.643.096/0001-22 | D29: VIATRIS FARMACEUTICA DO BRASIL LTDA | E29: 541522040025617 | F29: 1883000840083 | G29: 7908236800483 | H29: =VLOOKUP(E29,'[2]VIATRIS '!$D$1:$F$65536,3,0) -> 7908236800483 | I29: 400569610 | J29: #N/A | K29: ATORVASTATINA CÁLCICA | L29: LIPITOR | M29: 20 MG COM REV CT BL AL/AL X 30 | N29: LIPITOR20 MG COM REV CT BL AL/AL X 30 | O29: C10A1 - ESTATINAS, INIBIDORES DA REDUTASE HMG-CoA | P29: Similar | Q29: Regulado | R29: 232.2 | S29: 208.65 | T29: 150.93 | U29: 208.65 | V29: 171.51 | W29: 237.1 | X29: 171.51 | Y29: 204.56 | Z29: 181.84 | AA29: 251.39 | AB29: 181.84 | AC29: 251.39 | AD29: 182.94 | AE29: 252.91 | AF29: 182.94 | AG29: 252.91 | AH29: 184.06 | AI29: 254.48 | AJ29: 184.06 | AK29: 254.48 | AL29: 186.34 | AM29: 257.6 | AN29: 186.34 | AO29: 257.6 | AP29: 187.49 | AQ29: 259.2 | AR29: 187.49 | AS29: 259.2 | AT29: 188.66 | AU29: 260.81 | AV29: 188.66 | AW29: 260.81 | AX29: 189.85 | AY29: 262.46 | AZ29: 189.85 | BA29: 262.46 | BB29: 191.05 | BC29: 264.11 | BD29: 191.05 | BE29: 264.11 | BF29: 193.5 | BG29: 267.5 | BH29: 193.5 | BI29: 267.5 | BJ29: 194.75 | BK29: 269.22 | BL29: 194.75 | BM29: 269.22 | BN29: 196.01 | BO29: 270.98 | BP29: 196.01 | BQ29: 270.98 | BR29: Não | BS29: Sim | BT29: Sim | BU29: Não | BV29: 0 | BW29: Positiva | BX29: Sim | BY29: Tarja Vermelha
A30: 11.643.096/0004-75 | B30: Viatris Farmacêutica do Brasil Ltda. | C30: 11.643.096/0001-22 | D30: VIATRIS FARMACEUTICA DO BRASIL LTDA | E30: 541522040025717 | F30: 1883000840148 | G30: 7908236800773 | H30: =VLOOKUP(E30,'[2]VIATRIS '!$D$1:$F$65536,3,0) -> 7908236800773 | I30: 400563415 | J30: #N/A | K30: ATORVASTATINA CÁLCICA | L30: LIPITOR | M30: 40 MG COM REV CT BL AL/AL X 30 | N30: LIPITOR40 MG COM REV CT BL AL/AL X 30 | O30: C10A1 - ESTATINAS, INIBIDORES DA REDUTASE HMG-CoA | P30: Similar | Q30: Regulado | R30: 341.45 | S30: 306.83 | T30: 221.94 | U30: 306.83 | V30: 252.21 | W30: 348.66 | X30: 252.21 | Y30: 300.8 | Z30: 267.4 | AA30: 369.67 | AB30: 267.4 | AC30: 369.67 | AD30: 269.02 | AE30: 371.91 | AF30: 269.02 | AG30: 371.91 | AH30: 270.66 | AI30: 374.2 | AJ30: 270.66 | AK30: 374.2 | AL30: 274 | AM30: 378.79 | AN30: 274 | AO30: 378.79 | AP30: 275.7 | AQ30: 381.15 | AR30: 275.7 | AS30: 381.15 | AT30: 277.43 | AU30: 383.53 | AV30: 277.43 | AW30: 383.53 | AX30: 279.18 | AY30: 385.94 | AZ30: 279.18 | BA30: 385.94 | BB30: 280.94 | BC30: 388.39 | BD30: 280.94 | BE30: 388.39 | BF30: 284.54 | BG30: 393.37 | BH30: 284.54 | BI30: 393.37 | BJ30: 286.38 | BK30: 395.9 | BL30: 286.38 | BM30: 395.9 | BN30: 288.24 | BO30: 398.47 | BP30: 288.24 | BQ30: 398.47 | BR30: Não | BS30: Sim | BT30: Sim | BU30: Não | BV30: 0 | BW30: Positiva | BX30: Sim | BY30: Tarja Vermelha
A31: 11.643.096/0004-75 | B31: Viatris Farmacêutica do Brasil Ltda. | C31: 11.643.096/0001-22 | D31: VIATRIS FARMACEUTICA DO BRASIL LTDA | E31: 541522040025817 | F31: 1883000840199 | G31: 7908236800797 | H31: =VLOOKUP(E31,'[2]VIATRIS '!$D$1:$F$65536,3,0) -> 7908236800797 | I31: 400563416 | J31: #N/A | K31: ATORVASTATINA CÁLCICA | L31: LIPITOR | M31: 80 MG COM REV CT BL AL/AL X 30 | N31: LIPITOR80 MG COM REV CT BL AL/AL X 30 | O31: C10A1 - ESTATINAS, INIBIDORES DA REDUTASE HMG-CoA | P31: Similar | Q31: Regulado | R31: 341.45 | S31: 306.83 | T31: 221.94 | U31: 306.83 | V31: 252.21 | W31: 348.66 | X31: 252.21 | Y31: 300.8 | Z31: 267.4 | AA31: 369.67 | AB31: 267.4 | AC31: 369.67 | AD31: 269.02 | AE31: 371.91 | AF31: 269.02 | AG31: 371.91 | AH31: 270.66 | AI31: 374.2 | AJ31: 270.66 | AK31: 374.2 | AL31: 274 | AM31: 378.79 | AN31: 274 | AO31: 378.79 | AP31: 275.7 | AQ31: 381.15 | AR31: 275.7 | AS31: 381.15 | AT31: 277.43 | AU31: 383.53 | AV31: 277.43 | AW31: 383.53 | AX31: 279.18 | AY31: 385.94 | AZ31: 279.18 | BA31: 385.94 | BB31: 280.94 | BC31: 388.39 | BD31: 280.94 | BE31: 388.39 | BF31: 284.54 | BG31: 393.37 | BH31: 284.54 | BI31: 393.37 | BJ31: 286.38 | BK31: 395.9 | BL31: 286.38 | BM31: 395.9 | BN31: 288.24 | BO31: 398.47 | BP31: 288.24 | BQ31: 398.47 | BR31: Não | BS31: Sim | BT31: Sim | BU31: Não | BV31: 0 | BW31: Positiva | BX31: Sim | BY31: Tarja Vermelha
A32: 11.643.096/0004-75 | B32: Viatris Farmacêutica do Brasil Ltda. | C32: 11.643.096/0001-22 | D32: VIATRIS FARMACEUTICA DO BRASIL LTDA | E32: 541522040025017 | F32: 1883000880026 | G32: 7908236800087 | H32: =VLOOKUP(E32,'[2]VIATRIS '!$D$1:$F$65536,3,0) -> 7908236800087 | I32: 400569594 | J32: #N/A | K32: ATORVASTATINA CÁLCICA | L32: CITALOR | M32: 10 MG COM REV CT BL AL/AL X 30 | N32: CITALOR10 MG COM REV CT BL AL/AL X 30 | O32: C10A1 - ESTATINAS, INIBIDORES DA REDUTASE HMG-CoA | P32: Novo | Q32: Regulado | R32: 94.66 | S32: 130.86 | T32: 94.66 | U32: 130.86 | V32: 107.57 | W32: 148.71 | X32: 107.57 | Y32: 148.71 | Z32: 114.05 | AA32: 157.67 | AB32: 114.05 | AC32: 157.67 | AD32: 114.74 | AE32: 158.62 | AF32: 114.74 | AG32: 158.62 | AH32: 115.44 | AI32: 159.59 | AJ32: 115.44 | AK32: 159.59 | AL32: 116.86 | AM32: 161.55 | AN32: 116.86 | AO32: 161.55 | AP32: 117.59 | AQ32: 162.56 | AR32: 117.59 | AS32: 162.56 | AT32: 118.33 | AU32: 163.58 | AV32: 118.33 | AW32: 163.58 | AX32: 119.07 | AY32: 164.61 | AZ32: 119.07 | BA32: 164.61 | BB32: 119.82 | BC32: 165.64 | BD32: 119.82 | BE32: 165.64 | BF32: 121.36 | BG32: 167.77 | BH32: 121.36 | BI32: 167.77 | BJ32: 122.14 | BK32: 168.85 | BL32: 122.14 | BM32: 168.85 | BN32: 122.94 | BO32: 169.96 | BP32: 122.94 | BQ32: 169.96 | BR32: Não | BS32: Sim | BT32: Sim | BU32: Não | BV32: 0 | BW32: Positiva | BX32: Sim | BY32: Tarja Vermelha
A33: 11.643.096/0004-75 | B33: Viatris Farmacêutica do Brasil Ltda. | C33: 11.643.096/0001-22 | D33: VIATRIS FARMACEUTICA DO BRASIL LTDA | E33: 541522040025117 | F33: 1883000880042 | G33: 7908236800100 | H33: =VLOOKUP(E33,'[2]VIATRIS '!$D$1:$F$65536,3,0) -> 7908236800100 | I33: 400569595 | J33: #N/A | K33: ATORVASTATINA CÁLCICA | L33: CITALOR | M33: 20 MG COM REV CT BL AL/AL X 30 | N33: CITALOR20 MG COM REV CT BL AL/AL X 30 | O33: C10A1 - ESTATINAS, INIBIDORES DA REDUTASE HMG-CoA | P33: Novo | Q33: Regulado | R33: 94.66 | S33: 130.86 | T33: 94.66 | U33: 130.86 | V33: 107.57 | W33: 148.71 | X33: 107.57 | Y33: 148.71 | Z33: 114.05 | AA33: 157.67 | AB33: 114.05 | AC33: 157.67 | AD33: 114.74 | AE33: 158.62 | AF33: 114.74 | AG33: 158.62 | AH33: 115.44 | AI33: 159.59 | AJ33: 115.44 | AK33: 159.59 | AL33: 116.86 | AM33: 161.55 | AN33: 116.86 | AO33: 161.55 | AP33: 117.59 | AQ33: 162.56 | AR33: 117.59 | AS33: 162.56 | AT33: 118.33 | AU33: 163.58 | AV33: 118.33 | AW33: 163.58 | AX33: 119.07 | AY33: 164.61 | AZ33: 119.07 | BA33: 164.61 | BB33: 119.82 | BC33: 165.64 | BD33: 119.82 | BE33: 165.64 | BF33: 121.36 | BG33: 167.77 | BH33: 121.36 | BI33: 167.77 | BJ33: 122.14 | BK33: 168.85 | BL33: 122.14 | BM33: 168.85 | BN33: 122.94 | BO33: 169.96 | BP33: 122.94 | BQ33: 169.96 | BR33: Não | BS33: Sim | BT33: Sim | BU33: Não | BV33: 0 | BW33: Positiva | BX33: Sim | BY33: Tarja Vermelha
A34: 11.643.096/0004-75 | B34: Viatris Farmacêutica do Brasil Ltda. | C34: 11.643.096/0001-22 | D34: VIATRIS FARMACEUTICA DO BRASIL LTDA | E34: 541522040025217 | F34: 1883000880085 | G34: 7908236801008 | H34: =VLOOKUP(E34,'[2]VIATRIS '!$D$1:$F$65536,3,0) -> 7908236801008 | I34: 400569706 | J34: #N/A | K34: ATORVASTATINA CÁLCICA | L34: CITALOR | M34: 80 MG COM REV CT BL AL/AL X 30 | N34: CITALOR80 MG COM REV CT BL AL/AL X 30 | O34: C10A1 - ESTATINAS, INIBIDORES DA REDUTASE HMG-CoA | P34: Novo | Q34: Regulado | R34: 189.36 | S34: 261.78 | T34: 189.36 | U34: 261.78 | V34: 215.18 | W34: 297.47 | X34: 215.18 | Y34: 297.47 | Z34: 228.14 | AA34: 315.39 | AB34: 228.14 | AC34: 315.39 | AD34: 229.53 | AE34: 317.31 | AF34: 229.53 | AG34: 317.31 | AH34: 230.93 | AI34: 319.25 | AJ34: 230.93 | AK34: 319.25 | AL34: 233.78 | AM34: 323.19 | AN34: 233.78 | AO34: 323.19 | AP34: 235.23 | AQ34: 325.19 | AR34: 235.23 | AS34: 325.19 | AT34: 236.7 | AU34: 327.22 | AV34: 236.7 | AW34: 327.22 | AX34: 238.19 | AY34: 329.28 | AZ34: 238.19 | BA34: 329.28 | BB34: 239.7 | BC34: 331.37 | BD34: 239.7 | BE34: 331.37 | BF34: 242.77 | BG34: 335.62 | BH34: 242.77 | BI34: 335.62 | BJ34: 244.34 | BK34: 337.79 | BL34: 244.34 | BM34: 337.79 | BN34: 245.92 | BO34: 339.97 | BP34: 245.92 | BQ34: 339.97 | BR34: Não | BS34: Sim | BT34: Não | BU34: Não | BV34: 0 | BW34: Positiva | BX34: Sim | BY34: Tarja Vermelha
A35: 11.643.096/0004-75 | B35: Viatris Farmacêutica do Brasil Ltda. | C35: 11.643.096/0001-22 | D35: VIATRIS FARMACEUTICA DO BRASIL LTDA | E35: 541522040025317 | F35: 1883000880093 | G35: 7908236800995 | H35: =VLOOKUP(E35,'[2]VIATRIS '!$D$1:$F$65536,3,0) -> 7908236800995 | I35: 400569705 | J35: #N/A | K35: ATORVASTATINA CÁLCICA | L35: CITALOR | M35: 40 MG COM REV CT BL AL/AL X 30 | N35: CITALOR40 MG COM REV CT BL AL/AL X 30 | O35: C10A1 - ESTATINAS, INIBIDORES DA REDUTASE HMG-CoA | P35: Novo | Q35: Regulado | R35: 189.36 | S35: 261.78 | T35: 189.36 | U35: 261.78 | V35: 215.18 | W35: 297.47 | X35: 215.18 | Y35: 297.47 | Z35: 228.14 | AA35: 315.39 | AB35: 228.14 | AC35: 315.39 | AD35: 229.53 | AE35: 317.31 | AF35: 229.53 | AG35: 317.31 | AH35: 230.93 | AI35: 319.25 | AJ35: 230.93 | AK35: 319.25 | AL35: 233.78 | AM35: 323.19 | AN35: 233.78 | AO35: 323.19 | AP35: 235.23 | AQ35: 325.19 | AR35: 235.23 | AS35: 325.19 | AT35: 236.7 | AU35: 327.22 | AV35: 236.7 | AW35: 327.22 | AX35: 238.19 | AY35: 329.28 | AZ35: 238.19 | BA35: 329.28 | BB35: 239.7 | BC35: 331.37 | BD35: 239.7 | BE35: 331.37 | BF35: 242.77 | BG35: 335.62 | BH35: 242.77 | BI35: 335.62 | BJ35: 244.34 | BK35: 337.79 | BL35: 244.34 | BM35: 337.79 | BN35: 245.92 | BO35: 339.97 | BP35: 245.92 | BQ35: 339.97 | BR35: Não | BS35: Sim | BT35: Não | BU35: Não | BV35: 0 | BW35: Positiva | BX35: Sim | BY35: Tarja Vermelha
A36: 11.643.096/0004-75 | B36: Viatris Farmacêutica do Brasil Ltda. | C36: 11.643.096/0001-22 | D36: VIATRIS FARMACEUTICA DO BRASIL LTDA | E36: 541521120022417 | F36: 1883000800073 | G36: 7908236800322 | H36: =VLOOKUP(E36,'[2]VIATRIS '!$D$1:$F$65536,3,0) -> 7908236800322 | I36: 400569604 | J36: #N/A | K36: BESILATO DE ANLODIPINO | L36: NORVASC | M36: 5 MG COM CT BL AL PLAS PVC OPC X 30 | N36: NORVASC5 MG COM CT BL AL PLAS PVC OPC X 30 | O36: C8A - ANTAGONISTAS DO CÁLCIO PUROS | P36: Novo | Q36: Regulado | R36: 53.42 | S36: 73.85 | T36: 53.42 | U36: 73.85 | V36: 60.7 | W36: 83.91 | X36: 60.7 | Y36: 83.91 | Z36: 64.36 | AA36: 88.97 | AB36: 64.36 | AC36: 88.97 | AD36: 64.75 | AE36: 89.51 | AF36: 64.75 | AG36: 89.51 | AH36: 65.15 | AI36: 90.07 | AJ36: 65.15 | AK36: 90.07 | AL36: 65.95 | AM36: 91.17 | AN36: 65.95 | AO36: 91.17 | AP36: 66.36 | AQ36: 91.74 | AR36: 66.36 | AS36: 91.74 | AT36: 66.78 | AU36: 92.32 | AV36: 66.78 | AW36: 92.32 | AX36: 67.19 | AY36: 92.89 | AZ36: 67.19 | BA36: 92.89 | BB36: 67.62 | BC36: 93.48 | BD36: 67.62 | BE36: 93.48 | BF36: 68.49 | BG36: 94.68 | BH36: 68.49 | BI36: 94.68 | BJ36: 68.93 | BK36: 95.29 | BL36: 68.93 | BM36: 95.29 | BN36: 69.38 | BO36: 95.91 | BP36: 69.38 | BQ36: 95.91 | BR36: Não | BS36: Não | BT36: Não | BU36: Não | BV36: 0 | BW36: Positiva | BX36: Sim | BY36: Tarja Vermelha
A37: 11.643.096/0004-75 | B37: Viatris Farmacêutica do Brasil Ltda. | C37: 11.643.096/0001-22 | D37: VIATRIS FARMACEUTICA DO BRASIL LTDA | E37: 541521120022517 | F37: 1883000800081 | G37: 7908236800353 | H37: =VLOOKUP(E37,'[2]VIATRIS '!$D$1:$F$65536,3,0) -> 7908236800353 | I37: 400569606 | J37: #N/A | K37: BESILATO DE ANLODIPINO | L37: NORVASC | M37: 10 MG COM CT BL AL PLAS PVC OPC X 30 | N37: NORVASC10 MG COM CT BL AL PLAS PVC OPC X 30 | O37: C8A - ANTAGONISTAS DO CÁLCIO PUROS | P37: Novo | Q37: Regulado | R37: 105.11 | S37: 145.31 | T37: 105.11 | U37: 145.31 | V37: 119.44 | W37: 165.12 | X37: 119.44 | Y37: 165.12 | Z37: 126.64 | AA37: 175.07 | AB37: 126.64 | AC37: 175.07 | AD37: 127.41 | AE37: 176.14 | AF37: 127.41 | AG37: 176.14 | AH37: 128.18 | AI37: 177.2 | AJ37: 128.18 | AK37: 177.2 | AL37: 129.77 | AM37: 179.4 | AN37: 129.77 | AO37: 179.4 | AP37: 130.57 | AQ37: 180.51 | AR37: 130.57 | AS37: 180.51 | AT37: 131.39 | AU37: 181.64 | AV37: 131.39 | AW37: 181.64 | AX37: 132.21 | AY37: 182.77 | AZ37: 132.21 | BA37: 182.77 | BB37: 133.05 | BC37: 183.93 | BD37: 133.05 | BE37: 183.93 | BF37: 134.76 | BG37: 186.3 | BH37: 134.76 | BI37: 186.3 | BJ37: 135.63 | BK37: 187.5 | BL37: 135.63 | BM37: 187.5 | BN37: 136.51 | BO37: 188.72 | BP37: 136.51 | BQ37: 188.72 | BR37: Não | BS37: Não | BT37: Não | BU37: Não | BV37: 0 | BW37: Positiva | BX37: Sim | BY37: Tarja Vermelha
A38: 11.643.096/0004-75 | B38: Viatris Farmacêutica do Brasil Ltda. | C38: 11.643.096/0001-22 | D38: VIATRIS FARMACEUTICA DO BRASIL LTDA | E38: 541521120022617 | F38: 1883000800091 | G38: 7908236800315 | H38: =VLOOKUP(E38,'[2]VIATRIS '!$D$1:$F$65536,3,0) -> 7908236800315 | I38: NÃO COMERCILIZA NO MOMENTO | J38: =I38 -> NÃO COMERCILIZA NO MOMENTO | K38: BESILATO DE ANLODIPINO | L38: NORVASC | M38: 5 MG COM CT BL AL PLAS PVC OPC X 60 | N38: NORVASC5 MG COM CT BL AL PLAS PVC OPC X 60 | O38: C8A - ANTAGONISTAS DO CÁLCIO PUROS | P38: Novo | Q38: Regulado | R38: 110.05 | S38: 152.14 | T38: 110.05 | U38: 152.14 | V38: 125.06 | W38: 172.89 | X38: 125.06 | Y38: 172.89 | Z38: 132.59 | AA38: 183.3 | AB38: 132.59 | AC38: 183.3 | AD38: 133.39 | AE38: 184.4 | AF38: 133.39 | AG38: 184.4 | AH38: 134.21 | AI38: 185.54 | AJ38: 134.21 | AK38: 185.54 | AL38: 135.86 | AM38: 187.82 | AN38: 135.86 | AO38: 187.82 | AP38: 136.71 | AQ38: 188.99 | AR38: 136.71 | AS38: 188.99 | AT38: 137.56 | AU38: 190.17 | AV38: 137.56 | AW38: 190.17 | AX38: 138.43 | AY38: 191.37 | AZ38: 138.43 | BA38: 191.37 | BB38: 139.3 | BC38: 192.57 | BD38: 139.3 | BE38: 192.57 | BF38: 141.09 | BG38: 195.05 | BH38: 141.09 | BI38: 195.05 | BJ38: 142 | BK38: 196.31 | BL38: 142 | BM38: 196.31 | BN38: 142.92 | BO38: 197.58 | BP38: 142.92 | BQ38: 197.58 | BR38: Não | BS38: Não | BT38: Não | BU38: Não | BV38: 0 | BW38: Positiva | BX38: Não | BY38: Tarja Vermelha
A39: 11.643.096/0004-75 | B39: Viatris Farmacêutica do Brasil Ltda. | C39: 11.643.096/0001-22 | D39: VIATRIS FARMACEUTICA DO BRASIL LTDA | E39: 541521120022717 | F39: 1883000800103 | G39: 7908236800346 | H39: =VLOOKUP(E39,'[2]VIATRIS '!$D$1:$F$65536,3,0) -> 7908236800346 | I39: NÃO COMERCILIZA NO MOMENTO | J39: =I39 -> NÃO COMERCILIZA NO MOMENTO | K39: BESILATO DE ANLODIPINO | L39: NORVASC | M39: 10 MG COM CT BL AL PLAS PVC OPC X 60 | N39: NORVASC10 MG COM CT BL AL PLAS PVC OPC X 60 | O39: C8A - ANTAGONISTAS DO CÁLCIO PUROS | P39: Novo | Q39: Regulado | R39: 216.83 | S39: 299.75 | T39: 216.83 | U39: 299.75 | V39: 246.4 | W39: 340.63 | X39: 246.4 | Y39: 340.63 | Z39: 261.24 | AA39: 361.15 | AB39: 261.24 | AC39: 361.15 | AD39: 262.82 | AE39: 363.33 | AF39: 262.82 | AG39: 363.33 | AH39: 264.43 | AI39: 365.56 | AJ39: 264.43 | AK39: 365.56 | AL39: 267.69 | AM39: 370.07 | AN39: 267.69 | AO39: 370.07 | AP39: 269.35 | AQ39: 372.36 | AR39: 269.35 | AS39: 372.36 | AT39: 271.04 | AU39: 374.7 | AV39: 271.04 | AW39: 374.7 | AX39: 272.74 | AY39: 377.05 | AZ39: 272.74 | BA39: 377.05 | BB39: 274.47 | BC39: 379.44 | BD39: 274.47 | BE39: 379.44 | BF39: 277.99 | BG39: 384.3 | BH39: 277.99 | BI39: 384.3 | BJ39: 279.78 | BK39: 386.78 | BL39: 279.78 | BM39: 386.78 | BN39: 281.6 | BO39: 389.3 | BP39: 281.6 | BQ39: 389.3 | BR39: Não | BS39: Não | BT39: Não | BU39: Não | BV39: 0 | BW39: Positiva | BX39: Sim | BY39: Tarja Vermelha
A40: 11.643.096/0004-75 | B40: Viatris Farmacêutica do Brasil Ltda. | C40: 11.643.096/0001-22 | D40: VIATRIS FARMACEUTICA DO BRASIL LTDA | E40: 541522030024317 | F40: 1883000820031 | G40: 7908236800377 | H40: =VLOOKUP(E40,'[2]VIATRIS '!$D$1:$F$65536,3,0) -> 7908236800377 | I40: 400571040 | J40: #N/A | K40: CELECOXIBE | L40: DICOXIBE | M40: 100 MG CAP DURA CT BL AL PLAS TRANS X 20 | N40: DICOXIBE100 MG CAP DURA CT BL AL PLAS TRANS X 20 | O40: M1A3 - COXIBS | P40: Similar | Q40: Regulado | R40: 53.2 | S40: 73.55 | T40: 53.2 | U40: 73.55 | V40: 60.45 | W40: 83.57 | X40: 60.45 | Y40: 83.57 | Z40: 64.1 | AA40: 88.61 | AB40: 64.1 | AC40: 88.61 | AD40: 64.48 | AE40: 89.14 | AF40: 64.48 | AG40: 89.14 | AH40: 64.88 | AI40: 89.69 | AJ40: 64.88 | AK40: 89.69 | AL40: 65.68 | AM40: 90.8 | AN40: 65.68 | AO40: 90.8 | AP40: 66.09 | AQ40: 91.37 | AR40: 66.09 | AS40: 91.37 | AT40: 66.5 | AU40: 91.93 | AV40: 66.5 | AW40: 91.93 | AX40: 66.92 | AY40: 92.51 | AZ40: 66.92 | BA40: 92.51 | BB40: 67.34 | BC40: 93.09 | BD40: 67.34 | BE40: 93.09 | BF40: 68.21 | BG40: 94.3 | BH40: 68.21 | BI40: 94.3 | BJ40: 68.65 | BK40: 94.9 | BL40: 68.65 | BM40: 94.9 | BN40: 69.09 | BO40: 95.51 | BP40: 69.09 | BQ40: 95.51 | BR40: Não | BS40: Não | BT40: Não | BU40: Não | BV40: 0 | BW40: Positiva | BX40: Não | BY40: Tarja Vermelha sob restrição
A41: 11.643.096/0004-75 | B41: Viatris Farmacêutica do Brasil Ltda. | C41: 11.643.096/0001-22 | D41: VIATRIS FARMACEUTICA DO BRASIL LTDA | E41: 541522030024417 | F41: 1883000820066 | G41: 7908236801084 | H41: =VLOOKUP(E41,'[2]VIATRIS '!$D$1:$F$65536,3,0) -> 7908236801084 | I41: NÃO COMERCILIZA NO MOMENTO | J41: =I41 -> NÃO COMERCILIZA NO MOMENTO | K41: CELECOXIBE | L41: DICOXIBE | M41: 200 MG CAP DURA CT BL AL PLAS TRANS X 2 | N41: DICOXIBE200 MG CAP DURA CT BL AL PLAS TRANS X 2 | O41: M1A3 - COXIBS | P41: Similar | Q41: Regulado | R41: 7.82 | S41: 10.81 | T41: 7.82 | U41: 10.81 | V41: 8.89 | W41: 12.29 | X41: 8.89 | Y41: 12.29 | Z41: 9.42 | AA41: 13.02 | AB41: 9.42 | AC41: 13.02 | AD41: 9.48 | AE41: 13.11 | AF41: 9.48 | AG41: 13.11 | AH41: 9.54 | AI41: 13.19 | AJ41: 9.54 | AK41: 13.19 | AL41: 9.65 | AM41: 13.34 | AN41: 9.65 | AO41: 13.34 | AP41: 9.71 | AQ41: 13.42 | AR41: 9.71 | AS41: 13.42 | AT41: 9.78 | AU41: 13.52 | AV41: 9.78 | AW41: 13.52 | AX41: 9.84 | AY41: 13.6 | AZ41: 9.84 | BA41: 13.6 | BB41: 9.9 | BC41: 13.69 | BD41: 9.9 | BE41: 13.69 | BF41: 10.03 | BG41: 13.87 | BH41: 10.03 | BI41: 13.87 | BJ41: 10.09 | BK41: 13.95 | BL41: 10.09 | BM41: 13.95 | BN41: 10.16 | BO41: 14.05 | BP41: 10.16 | BQ41: 14.05 | BR41: Não | BS41: Não | BT41: Não | BU41: Não | BV41: 0 | BW41: Positiva | BX41: Sim | BY41: Tarja Vermelha sob restrição
...

Sheet PREÇO VIATRIS_Reajuste Abr26
V1: 10 | W1: 35 | X1: 11 | Y1: 36 | Z1: 12 | AA1: 37 | AB1: 13 | AC1: 38 | AD1: 14 | AE1: 39 | AF1: 15 | AG1: 40 | AH1: 16 | AI1: 41 | AJ1: 17 | AK1: 42 | AL1: 18 | AM1: 43 | AN1: 19 | AO1: 44 | AP1: 20 | AQ1: 45 | AR1: 21 | AS1: 46 | AT1: 22 | AU1: 47 | AV1: 23 | AW1: 48 | AX1: 24 | AY1: 49 | AZ1: 25 | BA1: 50 | BB1: 26 | BC1: 51 | BD1: 27 | BE1: 52 | BF1: 28 | BG1: 53 | BH1: 29 | BI1: 54 | BJ1: 30 | BK1: 55 | BL1: 31 | BM1: 56 | BN1: 32 | BO1: 57 | BP1: 33 | BQ1: 58 | BR1: 34 | BS1: 59
T2: PF Sem Impostos (controle interno) | V2: ICMS 0% | X2: ICMS 12% (Apenas genéricos SP-MG) | Z2: ICMS 12% (ALC) | AB2: ICMS 17% (DF-ES-MS-MT-RS-SC) | AD2: ICMS 17% (ALC) | AF2: ICMS 17,5% | AH2: ICMS 17,5% (ALC) | AJ2: ICMS 18% (AP-MG-SP) | AL2: ICMS 18% ALC (AP-MG-SP) | AN2: ICMS 19% (AC-GO-PA-SE) | AP2: ICMS 19% (ALC) | AR2: ICMS 19,5% (PR-RO) | AT2: ICMS 19,5% (ALC) | AV2: ICMS 20% (AM-CE-PB-RR-TO-RN) | AX2: ICMS 20% ALC | AZ2: ICMS 20,5% (AL-BA-PE) | BB2: ICMS 20,5% ALC | BD2: ICMS 21% | BF2: ICMS 21% ALC | BH2: ICMS 22% (RJ) | BJ2: ICMS 22% ALC | BL2: ICMS 22,5% (PI) | BN2: ICMS 22,5% (ALC) | BP2: ICMS 23% (MA) | BR2: ICMS 23% (ALC)
A3: Nível de Reajuste CMED | B3: CÓDIGO GGREM | C3: CNPJ (Faturamento) | D3: Empresa (Faturamento) | E3: DETENTORA ( CNPJ) | F3: DETENTORA EMPRESA | G3: CÓDIGO GGREM | H3: REGISTRO | I3: EAN | J3: EAN 2 | K3: COD SAP | L3: CODIGO NOVO | M3: SUBSTÂNCIA | N3: PRODUTO | O3: APRESENTAÇÃO | P3: PRODUTO E APRESENTAÇÃO | Q3: CLASSE TERAPÊUTICA | R3: TIPO DE PRODUTO (STATUS DO PRODUTO) | S3: REGIME DE PREÇO | T3: PF Sem Impostos | U3: PMC Sem Impostos | V3: PF 0% | W3: PMC 0 % | X3: PF 12 % | Y3: PMC 12 % | Z3: PF 12 % ALC | AA3: PMC 12 % ALC | AB3: PF 17 % | AC3: PMC 17 % | AD3: PF 17 % ALC | AE3: PMC 17 % ALC | AF3: PF 17,5 % | AG3: PMC 17,5 % | AH3: PF 17,5 % ALC | AI3: PMC 17,5 % ALC | AJ3: PF 18 % | AK3: PMC 18 % | AL3: PF 18 % ALC | AM3: PMC 18 % ALC | AN3: PF 19 % | AO3: PMC 19 % | AP3: PF 19 % ALC | AQ3: PMC 19 % ALC | AR3: PF 19,5 % | AS3: PMC 19,5 % | AT3: PF 19,5 % ALC | AU3: PMC 19,5 % ALC | AV3: PF 20 % | AW3: PMC 20 % | AX3: PF 20 % ALC | AY3: PMC 20 % ALC | AZ3: PF 20,5 % | BA3: PMC 20,5 % | BB3: PF 20,5 % ALC | BC3: PMC 20,5 % ALC | BD3: PF 21 % | BE3: PMC 21 % | BF3: PF 21 % ALC | BG3: PMC 21 % ALC | BH3: PF 22 % | BI3: PMC 22 % | BJ3: PF 22 % ALC | BK3: PMC 22 % ALC | BL3: PF 22,5 % | BM3: PMC 22,5 % | BN3: PF 22,5 % ALC | BO3: PMC 22,5 % ALC | BP3: PF 23 % | BQ3: PMC 23 % | BR3: PF 23 % ALC | BS3: PMC 23 % ALC | BT3: RESTRIÇÃO HOSPITALAR | BU3: CAP | BV3: CONFAZ 87 | BW3: ICMS 0% | BX3: ANÁLISE RECURSAL | BY3: LISTA DE CONCESSÃO DE CRÉDITO TRIBUTÁRIO (PIS/COFINS) | BZ3: COMERCIALIZAÇÃO 2024 | CA3: TARJA
A4: =VLOOKUP($B4,[1]Planilha2!$A:$B,2,FALSE) -> 3 | B4: 541525040033317 | C4: 11.643.096/0004-75 | D4: Viatris Farmacêutica do Brasil Ltda. | E4: 11.643.096/0001-22 | F4: VIATRIS FARMACEUTICA DO BRASIL LTDA | G4: 541525040033317 | H4: 1883001060022 | I4: 7908236801169 | J4: 7898560666940 | K4: 400570990 | L4: 400579069 | M4: BROMIDRATO DE ELETRIPTANA | N4: ZEFORUS | O4: 20 MG COM REV CT BL AL PLAS PVC/PCTFE OPC X 4 | P4: ZEFORUS20 MG COM REV CT BL AL PLAS PVC/PCTFE OPC X 4 | Q4: N2C1 - ANTIENXAQUECOSOS TRIPTÂNICOS | R4: Novo | S4: Regulado | T4: 23.496 | U4: 31.5216 | V4: 26.7 | W4: 35.82 | X4: 30.34 | Y4: 40.7 | Z4: 26.7 | AA4: 35.82 | AB4: 32.17 | AC4: 43.15 | AD4: 28.31 | AE4: 37.98 | AF4: 32.36 | AG4: 43.41 | AH4: 28.48 | AI4: 38.2 | AJ4: 32.56 | AK4: 43.68 | AL4: 28.65 | AM4: 38.43 | AN4: 32.96 | AO4: 44.21 | AP4: 29.01 | AQ4: 38.92 | AR4: 33.17 | AS4: 44.5 | AT4: 29.19 | AU4: 39.16 | AV4: 33.37 | AW4: 44.76 | AX4: 29.37 | AY4: 39.4 | AZ4: 33.58 | BA4: 45.05 | BB4: 29.55 | BC4: 39.64 | BD4: 33.8 | BE4: 45.34 | BF4: 29.74 | BG4: 39.9 | BH4: 34.23 | BI4: 45.92 | BJ4: 30.12 | BK4: 40.4 | BL4: 34.45 | BM4: 46.21 | BN4: 30.32 | BO4: 40.67 | BP4: 34.67 | BQ4: 46.51 | BR4: 30.51 | BS4: 40.93 | BT4: Não | BU4: Não | BV4: Não | BW4: Não | BX4: 0 | BY4: Negativa | BZ4: Não | CA4: Tarja Vermelha
A5: =VLOOKUP($B5,[1]Planilha2!$A:$B,2,FALSE) -> 3 | B5: 541525040033617 | C5: 11.643.096/0004-75 | D5: Viatris Farmacêutica do Brasil Ltda. | E5: 11.643.096/0001-22 | F5: VIATRIS FARMACEUTICA DO BRASIL LTDA | G5: 541525040033617 | H5: 1883001060057 | I5: 7898560666957 | J5: 7908236801190 | K5: 400570993 | L5: 400579070 | M5: BROMIDRATO DE ELETRIPTANA | N5: ZEFORUS | O5: 80 MG COM REV CT BL AL PLAS PVC/PCTFE OPC X 2 | P5: ZEFORUS80 MG COM REV CT BL AL PLAS PVC/PCTFE OPC X 2 | Q5: N2C1 - ANTIENXAQUECOSOS TRIPTÂNICOS | R5: Novo | S5: Regulado | T5: 25.5024 | U5: 34.2144 | V5: 28.98 | W5: 38.88 | X5: 32.94 | Y5: 44.19 | Z5: 28.98 | AA5: 38.88 | AB5: 34.92 | AC5: 46.84 | AD5: 30.73 | AE5: 41.22 | AF5: 35.13 | AG5: 47.13 | AH5: 30.92 | AI5: 41.48 | AJ5: 35.35 | AK5: 47.42 | AL5: 31.1 | AM5: 41.72 | AN5: 35.78 | AO5: 48 | AP5: 31.49 | AQ5: 42.24 | AR5: 36 | AS5: 48.29 | AT5: 31.68 | AU5: 42.5 | AV5: 36.23 | AW5: 48.6 | AX5: 31.88 | AY5: 42.77 | AZ5: 36.46 | BA5: 48.91 | BB5: 32.08 | BC5: 43.03 | BD5: 36.69 | BE5: 49.22 | BF5: 32.29 | BG5: 43.32 | BH5: 37.16 | BI5: 49.85 | BJ5: 32.7 | BK5: 43.87 | BL5: 37.4 | BM5: 50.17 | BN5: 32.91 | BO5: 44.15 | BP5: 37.64 | BQ5: 50.49 | BR5: 33.12 | BS5: 44.43 | BT5: Não | BU5: Não | BV5: Não | BW5: Não | BX5: 0 | BY5: Negativa | BZ5: Não | CA5: Tarja Vermelha
