Workbook
Name Categoria_de_Medicamentos_para_fisco: #REF!
Name CATFisco: #REF!
Name dados: #REF!
Name FarmaciaPopular: #REF!
Name tab_naturezas: #REF!
Name TM1REBUILDOPTION: 1

Sheet Premissas
A1: PREMISSAS
A2: RACIONAL REAJUSTE DE PREÇO CMED
A4: IPCA Acum. Fev/26 | B4: 0.0381
A6: Nível | B6: Nivel # | C6: % Ajuste
A7: Nível 1 (%) | B7: 1 | C7: =B4+B13 -> 0.0381
A8: Nível 2 (%) | B8: 2 | C8: =B4-(B12/2) -> 0.024685
A9: Nível 3 (%) | B9: 3 | C9: =B4-B12 -> 0.01127
A11: Fator | B11: CMED
A12: Fator X | B12: 0.02683
A13: Fator Y | B13: 0
A15: BU | B15: Mês de Reajuste
A16: CMC | B16: Abril
A17: Endo | B17: Abril
A18: N&I | B18: Abril
A19: Non Core | B19: Abril
A20: Fertilidade | B20: Abril
A21: Oncologia | B21: Maio
A23: Racional
A25: Fórmula: IPCA - X + Y + Z
A26: IPCA - acumulado dos últimos 12 meses
A27: Fator X Produtividade: quanto variou a produtividade da indústria farmacêutica vs. o mercado brasileiro (se houve ganhos, há desconto do reajuste).
A28: Fator Y Preços Relativos: impactos de aumentos de custos com energia e variação cambial.
A29: Fator Z Competitividade: quão competitiva é uma classe terapêutica, calculado por meio do método HHI.
A31: Premissas (Atualização ASP Janeiro 2025):
A32: IPCA: Inflação acumulada 12M divulgada oficialmente pelo IBGE em 12/03/26
A33: Fator X: conforme "Nota Técnica SEI nº 691/2026/MF", fator X igual a 2.683%
A34: Fator Y: conforme "Nota Técnica SEI nº 691/2026/MF", fator Y igual a 0%
A35: Fator Z: Considerando agrupamento conforme publicação de mar/2026
A37: Fatores de Conversão
A39: LISTA | B39: PF_FATOR | C39: PMC_FATOR
A40: Positiva | B40: 1.012146 | C40: 0.725481

Sheet IHH
A1: ÍNDICE HERFINDAHL-HIRSCHMAN
A2: NÍVEIS DE REAJUSTE FATOR Z
A4: PRODUTO | B4: Nível de reajuste | C4: Reajuste Anual Esperado
A5: CETROTIDE | B5: 3 | C5: =VLOOKUP(B5,Premissas!$B$6:$C$9,2,0) -> 0.01127
A6: DICLIN | B6: 2 | C6: =VLOOKUP(B6,Premissas!$B$6:$C$9,2,0) -> 0.024685
A7: ACETATO DE CIPROTERONA + ETINILESTRADIOL | B7: 2 | C7: =VLOOKUP(B7,Premissas!$B$6:$C$9,2,0) -> 0.024685
A8: ACICLOVIR | B8: 1 | C8: =VLOOKUP(B8,Premissas!$B$6:$C$9,2,0) -> 0.0381
A9: OVIDREL | B9: 2 | C9: =VLOOKUP(B9,Premissas!$B$6:$C$9,2,0) -> 0.024685
A10: GONAL F | B10: 2 | C10: =VLOOKUP(B10,Premissas!$B$6:$C$9,2,0) -> 0.024685
A11: PERGOVERIS | B11: 2 | C11: =VLOOKUP(B11,Premissas!$B$6:$C$9,2,0) -> 0.024685
A12: BAVENCIO | B12: 3 | C12: =VLOOKUP(B12,Premissas!$B$6:$C$9,2,0) -> 0.01127
A13: BESILATO DE ANLODIPINO | B13: 2 | C13: =VLOOKUP(B13,Premissas!$B$6:$C$9,2,0) -> 0.024685
A14: ROXFLAN | B14: 2 | C14: =VLOOKUP(B14,Premissas!$B$6:$C$9,2,0) -> 0.024685
A15: CONCOR ANLO | B15: 3 | C15: =VLOOKUP(B15,Premissas!$B$6:$C$9,2,0) -> 0.01127
A16: REBIF | B16: 3 | C16: =VLOOKUP(B16,Premissas!$B$6:$C$9,2,0) -> 0.01127
... A43: SAIZEN | B43: 3 | C43: =VLOOKUP(B43,Premissas!$B$6:$C$9,2,0) -> 0.01127

Sheet Lista Interna 26
A1: LISTA INTERNA DE PREÇOS DE MEDICAMENTOS
A2: PREÇOS FÁBRICA E MÁXIMOS AO CONSUMIDOR
A4: Período: 04/2026
A6: BU | B6: CÓD GGREM | C6: LABORATÓRIO | D6: REG ANVISA | E6: CÓD SAP | F6: CÓD EAN | G6: PRODUTO | H6: APRESENTAÇÕES | I6: PRINCIPIO ATIVO | J6: LISTA | K6: PF Sem Imposto | L6: PF 0% | M6: PF 12% | N6: PF 12% ALC | O6: PF 17% | P6: PF 17% ALC | Q6: PF 17,5% | R6: PF 17,5% ALC | S6: PF 18% | T6: PF 18% ALC | U6: PF 19% | V6: PF 19% ALC | W6: PF 19,5% | X6: PF 19,5% ALC | Y6: PF 20% | Z6: PF 20% ALC | AA6: PF 20,5% | AB6: PF 20,5% ALC | AC6: PF 21% | AD6: PF 21% ALC | AE6: PF 22% | AF6: PF 22% ALC | AG6: PF 22,5% | AH6: PF 22,5% ALC | AI6: PF 23% | AJ6: PF 23% ALC | AK6: PMC Sem Impostos | AL6: PMC 0% | AM6: PMC 12% | AN6: PMC 12% ALC | AO6: PMC 17% | AP6: PMC 17% ALC | AQ6: PMC 17,5% | AR6: PMC 17,5% ALC | AS6: PMC 18% | AT6: PMC 18% ALC | AU6: PMC 19% | AV6: PMC 19% ALC | AW6: PMC 19,5% | AX6: PMC 19,5% ALC | AY6: PMC 20% | AZ6: PMC 20% ALC | BA6: PMC 20,5% | BB6: PMC 20,5% ALC | BC6: PMC 21% | BD6: PMC 21% ALC | BE6: PMC 22% | BF6: PMC 22% ALC | BG6: PMC 22,5% | BH6: PMC 22,5% ALC | BI6: PMC 23% | BJ6: PMC 23% ALC | BK6: REGIME DE PREÇO | BL6: ISENÇÃO DE ICMS 87/02 | BM6: ISENÇÃO DE ICMS 162/94 | BN6: FARMÁCIA POPULAR | BO6: RENAME | BP6: USO RESTRITO HOSPITALAR | BQ6: APLICAÇÃO DO CAP | BR6: Linha de Cuidado Art. 156 LC 214/25
A7: GENÉRICOS | B7: 525420010051207 | C7: MERCK S/A | D7: 1008903880025 | E7: 3268230002 | F7: 7891721029417 | G7: ACETATO DE CIPROTERONA; ETINILESTRADIOL | H7: 2 MG + 0,035 MG COM REV CT CART EST CAL AL PVC X 63 | I7: ACETATO DE CIPROTERONA; ETINILESTRADIOL | J7: Positiva | K7: 35.987464 | L7: 36.424568 | M7: 41.392497 | N7: 41.392497 | O7: 43.881648 | P7: 43.881648 | Q7: 44.151305 | R7: 44.151305 | S7: 44.420963 | T7: 44.420963 | U7: 44.970651 | V7: 44.970651 | W7: 45.25068 | X7: 45.25068 | Y7: 45.53071 | Z7: 45.53071 | AA7: 45.821111 | AB7: 45.821111 | AC7: 46.111511 | AD7: 46.111511 | AE7: 46.702685 | AF7: 46.702685 | AG7: 47.003457 | AH7: 47.003457 | AI7: 47.304229 | AJ7: 47.304229 | AK7: 49.604971 | AL7: 50.207473 | AM7: 57.055246 | AN7: 57.055246 | AO7: 60.486281 | AP7: 60.486281 | AQ7: 60.857976 | AR7: 60.857976 | AS7: 61.229672 | AT7: 61.229672 | AU7: 61.987358 | AV7: 61.987358 | AW7: 62.37335 | AX7: 62.37335 | AY7: 62.759341 | AZ7: 62.759341 | BA7: 63.159629 | BB7: 63.159629 | BC7: 63.559916 | BD7: 63.559916 | BE7: 64.374787 | BF7: 64.374787 | BG7: 64.78937 | BH7: 64.78937 | BI7: 65.203953 | BJ7: 65.203953 | BK7: Regulado | BL7: Não | BM7: Não | BN7: Não | BO7: Não | BP7: Não | BQ7: Não | BR7: Náo se Aplica
A8: GENÉRICOS | B8: 525420010051107 | C8: MERCK S/A | D8: 1008903880017 | E8: 3268230001 | F8: 7891721029424 | G8: ACETATO DE CIPROTERONA; ETINILESTRADIOL | H8: 2 MG + 0,035 MG COM REV CT CART EST CAL AL PVC X 21 | I8: ACETATO DE CIPROTERONA; ETINILESTRADIOL | J8: Positiva | K8: 14.284318 | L8: 14.457815 | M8: 16.428393 | N8: 16.428393 | O8: 17.424053 | P8: 17.424053 | Q8: 17.527768 | R8: 17.527768 | S8: 17.631482 | T8: 17.631482 | U8: 17.849283 | V8: 17.849283 | W8: 17.963369 | X8: 17.963369 | Y8: 18.077455 | Z8: 18.077455 | AA8: 18.181169 | AB8: 18.181169 | AC8: 18.305627 | AD8: 18.305627 | AE8: 18.533799 | AF8: 18.533799 | AG8: 18.658257 | AH8: 18.658257 | AI8: 18.772343 | AJ8: 18.772343 | AK8: 19.689445 | AL8: 19.928593 | AM8: 22.644828 | AN8: 22.644828 | AO8: 24.017242 | AP8: 24.017242 | AQ8: 24.160202 | AR8: 24.160202 | AS8: 24.303162 | AT8: 24.303162 | AU8: 24.603377 | AV8: 24.603377 | AW8: 24.760633 | AX8: 24.760633 | AY8: 24.917889 | AZ8: 24.917889 | BA8: 25.060849 | BB8: 25.060849 | BC8: 25.2324 | BD8: 25.2324 | BE8: 25.546912 | BF8: 25.546912 | BG8: 25.718464 | BH8: 25.718464 | BI8: 25.875719 | BJ8: 25.875719 | BK8: Regulado | BL8: Não | BM8: Não | BN8: Não | BO8: Não | BP8: Não | BQ8: Não | BR8: Náo se Aplica
A9: GENÉRICOS | B9: 525400202112111 | C9: MERCK S/A | D9: 1008902800060 | E9: BR1007906 | F9: 7891721023484 | G9: ACICLOVIR | H9: 400 MG COM CT FR PLAS OPC X 30 | I9: ACICLOVIR | J9: Positiva | K9: 195.58842 | L9: 197.96404 | M9: 224.95675 | N9: 224.95675 | O9: 238.51089 | P9: 238.51089 | Q9: 239.96087 | R9: 239.96087 | S9: 241.42135 | T9: 241.42135 | U9: 244.39486 | V9: 244.39486 | W9: 245.91839 | X9: 245.91839 | Y9: 247.45242 | Z9: 247.45242 | AA9: 249.00747 | AB9: 249.00747 | AC9: 250.58353 | AD9: 250.58353 | AE9: 253.7987 | AF9: 253.7987 | AG9: 255.43781 | AH9: 255.43781 | AI9: 257.09793 | AJ9: 257.09793 | AK9: 269.59827 | AL9: 272.87281 | AM9: 310.07945 | AN9: 310.07945 | AO9: 328.76242 | AP9: 328.76242 | AQ9: 330.76106 | AR9: 330.76106 | AS9: 332.77419 | AT9: 332.77419 | AU9: 336.87286 | AV9: 336.87286 | AW9: 338.97288 | AX9: 338.97288 | AY9: 341.08739 | AZ9: 341.08739 | BA9: 343.23086 | BB9: 343.23086 | BC9: 345.4033 | BD9: 345.4033 | BE9: 349.83508 | BF9: 349.83508 | BG9: 352.09441 | BH9: 352.09441 | BI9: 354.38272 | BJ9: 354.38272 | BK9: Regulado | BL9: Não | BM9: Não | BN9: Não | BO9: Não | BP9: Não | BQ9: Não | BR9: HIV/Aids e outras infecções sexualmente transmissiveis (IST)
A10: GENÉRICOS | B10: 525421070052606 | C10: MERCK S/A | D10: 1008902800117 | E10: 3183020004 | F10: 7891721202391 | G10: ACICLOVIR | H10: 400 MG COM CT BL AL PLAS PVC/PVDC TRANS X 30 | I10: ACICLOVIR | J10: Positiva | K10: 195.58842 | L10: 197.96404 | M10: 224.95675 | N10: 224.95675 | O10: 238.51089 | P10: 238.51089 | Q10: 239.96087 | R10: 239.96087 | S10: 241.42135 | T10: 241.42135 | U10: 244.39486 | V10: 244.39486 | W10: 245.91839 | X10: 245.91839 | Y10: 247.45242 | Z10: 247.45242 | AA10: 249.00747 | AB10: 249.00747 | AC10: 250.58353 | AD10: 250.58353 | AE10: 253.7987 | AF10: 253.7987 | AG10: 255.43781 | AH10: 255.43781 | AI10: 257.09793 | AJ10: 257.09793 | AK10: 269.59827 | AL10: 272.87281 | AM10: 310.07945 | AN10: 310.07945 | AO10: 328.76242 | AP10: 328.76242 | AQ10: 330.76106 | AR10: 330.76106 | AS10: 332.77419 | AT10: 332.77419 | AU10: 336.87286 | AV10: 336.87286 | AW10: 338.97288 | AX10: 338.97288 | AY10: 341.08739 | AZ10: 341.08739 | BA10: 343.23086 | BB10: 343.23086 | BC10: 345.4033 | BD10: 345.4033 | BE10: 349.83508 | BF10: 349.83508 | BG10: 352.09441 | BH10: 352.09441 | BI10: 354.38272 | BJ10: 354.38272 | BK10: Regulado | BL10: Não | BM10: Não | BN10: Não | BO10: Não | BP10: Não | BQ10: Não | BR10: HIV/Aids e outras infecções sexualmente transmissiveis (IST)
A11: ONCOLOGIA | B11: 525418100050401 | C11: MERCK S/A | D11: 1008904030017 | E11: F0111201 | F11: 7891721029929 | G11: BAVENCIO | H11: 20 MG/ML SOL DIL INF IV CT FA VD TRANS X 10 ML | I11: AVELUMABE | J11: Negativa | K11: 5794.031 | L11: 6489.32 | M11: 7374.2277 | N11: 6584.1394 | O11: 7818.4513 | P11: 6980.7612 | Q11: 7865.8408 | R11: 7023.074 | S11: 7913.8068 | T11: 7065.8924 | U11: 8011.5085 | V11: 7153.1272 | W11: 8061.2644 | X11: 7197.5536 | Y11: 8111.6474 | Z11: 7242.5463 | AA11: 8162.6675 | AB11: 7288.0953 | AC11: 8214.3348 | AD11: 7334.2207 | AE11: 8319.6415 | AF11: 7428.2513 | AG11: 8373.3213 | AH11: 7476.1667 | AI11: 8427.6888 | AJ11: 7524.7192 | BK11: Regulado | BL11: Não | BM11: Sim | BN11: Não | BO11: Não | BP11: Sim | BQ11: Não | BR11: Oncologia
A12: GENÉRICOS | B12: 525401003113114 | C12: MERCK S/A | D12: 1008902730089 | E12: BR1007743 | F12: 7891721277436 | G12: BESILATO DE ANLODIPINO | H12: 5 MG COM CT BL AL PLAS PVC/PVDC OPC X 30 | I12: BESILATO DE ANLODIPINO | J12: Positiva | K12: 28.48666 | L12: 28.832659 | M12: 32.763442 | N12: 32.763442 | O12: 34.73402 | P12: 34.73402 | Q12: 34.95182 | R12: 34.95182 | S12: 35.15925 | T12: 35.15925 | U12: 35.594851 | V12: 35.594851 | W12: 35.812652 | X12: 35.812652 | Y12: 36.040824 | Z12: 36.040824 | AA12: 36.268996 | AB12: 36.268996 | AC12: 36.497168 | AD12: 36.497168 | AE12: 36.963884 | AF12: 36.963884 | AG12: 37.202427 | AH12: 37.202427 | AI12: 37.440971 | AJ12: 37.440971 | AK12: 39.265894 | AL12: 39.742817 | AM12: 45.160993 | AN12: 45.160993 | AO12: 47.877229 | AP12: 47.877229 | AQ12: 48.177444 | AR12: 48.177444 | AS12: 48.463364 | AT12: 48.463364 | AU12: 49.063795 | AV12: 49.063795 | AW12: 49.36401 | AX12: 49.36401 | AY12: 49.678522 | AZ12: 49.678522 | BA12: 49.993033 | BB12: 49.993033 | BC12: 50.307545 | BD12: 50.307545 | BE12: 50.950864 | BF12: 50.950864 | BG12: 51.279671 | BH12: 51.279671 | BI12: 51.608479 | BJ12: 51.608479 | BK12: Regulado | BL12: Não | BM12: Não | BN12: Sim | BO12: Sim | BP12: Não | BQ12: Não | BR12: Doenças Cardiovasculares
A13: GENÉRICOS | B13: 525401001110118 | C13: MERCK S/A | D13: 1008902730070 | E13: BR1007745 | F13: 7891721277450 | G13: BESILATO DE ANLODIPINO | H13: 10 MG COM CT BL AL PLAS PVC/PVDC OPC X 30 | I13: BESILATO DE ANLODIPINO | J13: Positiva | K13: 45.506927 | L13: 46.059654 | M13: 52.344759 | N13: 52.344759 | O13: 55.497683 | P13: 55.497683 | Q13: 55.82957 | R13: 55.82957 | S13: 56.171828 | T13: 56.171828 | U13: 56.866716 | V13: 56.866716 | W13: 57.219345 | X13: 57.219345 | Y13: 57.571975 | Z13: 57.571975 | AA13: 57.934976 | AB13: 57.934976 | AC13: 58.308348 | AD13: 58.308348 | AE13: 59.055094 | AF13: 59.055094 | AG13: 59.428466 | AH13: 59.428466 | AI13: 59.822582 | AJ13: 59.822582 | AK13: 62.726559 | AL13: 63.488436 | AM13: 72.151799 | AN13: 72.151799 | AO13: 76.497776 | AP13: 76.497776 | AQ13: 76.955247 | AR13: 76.955247 | AS13: 77.427014 | AT13: 77.427014 | AU13: 78.384845 | AV13: 78.384845 | AW13: 78.870908 | AX13: 78.870908 | AY13: 79.356971 | AZ13: 79.356971 | BA13: 79.85733 | BB13: 79.85733 | BC13: 80.371986 | BD13: 80.371986 | BE13: 81.401296 | BF13: 81.401296 | BG13: 81.915951 | BH13: 81.915951 | BI13: 82.459198 | BJ13: 82.459198 | BK13: Regulado | BL13: Não | BM13: Não | BN13: Não | BO13: Sim | BP13: Não | BQ13: Não | BR13: Doenças Cardiovasculares
A14: CMC&GM | B14: 525401102111411 | C14: MERCK S/A | D14: 1008902010078 | E14: BR1000306 | F14: 7891721002038 | G14: BICONCOR | H14: 2,5 MG / 6,25 MG COM REV CT FR PLAS OPC X 30 | I14: HIDROCLOROTIAZIDA;HEMIFUMARATO DE BISOPROLOL | J14: Positiva | K14: 68.444784 | L14: 69.276114 | M14: 78.723788 | N14: 78.723788 | O14: 83.462978 | P14: 83.462978 | Q14: 83.97477 | R14: 83.97477 | S14: 84.486561 | T14: 84.486561 | U14: 85.530616 | V14: 85.530616 | W14: 86.052644 | X14: 86.052644 | Y14: 86.595143 | Z14: 86.595143 | AA14: 87.137642 | AB14: 87.137642 | AC14: 87.690377 | AD14: 87.690377 | AE14: 88.816319 | AF14: 88.816319 | AG14: 89.389525 | AH14: 89.389525 | AI14: 89.972968 | AJ14: 89.972968 | AK14: 94.344006 | AL14: 95.489909 | AM14: 108.51254 | AN14: 108.51254 | AO14: 115.04502 | AP14: 115.04502 | AQ14: 115.75047 | AR14: 115.75047 | AS14: 116.45593 | AT14: 116.45593 | AU14: 117.89505 | AV14: 117.89505 | AW14: 118.61461 | AX14: 118.61461 | AY14: 119.36239 | AZ14: 119.36239 | BA14: 120.11016 | BB14: 120.11016 | BC14: 120.87205 | BD14: 120.87205 | BE14: 122.42404 | BF14: 122.42404 | BG14: 123.21415 | BH14: 123.21415 | BI14: 124.01837 | BJ14: 124.01837 | BK14: Regulado | BL14: Não | BM14: Não | BN14: Não | BO14: Não | BP14: Não | BQ14: Não | BR14: Doenças Cardiovasculares
A15: CMC&GM | B15: 525401104114418 | C15: MERCK S/A | D15: 1008902010086 | E15: BR1000307 | F15: 7891721002045 | G15: BICONCOR | H15: 5,0 MG / 6,25 MG COM REV CT FR PLAS OPC X 30 | I15: HIDROCLOROTIAZIDA;HEMIFUMARATO DE BISOPROLOL | J15: Positiva | K15: 89.024739 | L15: 90.106033 | M15: 102.38903 | N15: 102.38903 | O15: 108.56124 | P15: 108.56124 | Q15: 109.21633 | R15: 109.21633 | S15: 109.88166 | T15: 109.88166 | U15: 111.24303 | V15: 111.24303 | W15: 111.92883 | X15: 111.92883 | Y15: 112.6351 | Z15: 112.6351 | AA15: 113.34137 | AB15: 113.34137 | AC15: 114.05788 | AD15: 114.05788 | AE15: 115.52161 | AF15: 115.52161 | AG15: 116.26882 | AH15: 116.26882 | AI15: 117.01604 | AJ15: 117.01604 | AK15: 122.71133 | AL15: 124.20178 | AM15: 141.13262 | AN15: 141.13262 | AO15: 149.64036 | AP15: 149.64036 | AQ15: 150.54334 | AR15: 150.54334 | AS15: 151.46043 | AT15: 151.46043 | AU15: 153.33693 | AV15: 153.33693 | AW15: 154.28223 | AX15: 154.28223 | AY15: 155.25576 | AZ15: 155.25576 | BA15: 156.22928 | BB15: 156.22928 | BC15: 157.21691 | BD15: 157.21691 | BE15: 159.2345 | BF15: 159.2345 | BG15: 160.26446 | BH15: 160.26446 | BI15: 161.29442 | BJ15: 161.29442 | BK15: Regulado | BL15: Não | BM15: Não | BN15: Não | BO15: Não | BP15: Não | BQ15: Não | BR15: Doenças Cardiovasculares
A16: CMC&GM | B16: 525422060053403 | C16: MERCK S/A | D16: 1008902010140 | E16: 3193060013 | F16: 7891721202506 | G16: BICONCOR | H16: 2,5 MG + 6,25 MG COM REV CT BL AL AL X 30 | I16: HIDROCLOROTIAZIDA;HEMIFUMARATO DE BISOPROLOL | J16: Positiva | K16: 68.444784 | L16: 69.276114 | M16: 78.723788 | N16: 78.723788 | O16: 83.462978 | P16: 83.462978 | Q16: 83.97477 | R16: 83.97477 | S16: 84.486561 | T16: 84.486561 | U16: 85.530616 | V16: 85.530616 | W16: 86.052644 | X16: 86.052644 | Y16: 86.595143 | Z16: 86.595143 | AA16: 87.137642 | AB16: 87.137642 | AC16: 87.690377 | AD16: 87.690377 | AE16: 88.816319 | AF16: 88.816319 | AG16: 89.389525 | AH16: 89.389525 | AI16: 89.972968 | AJ16: 89.972968 | AK16: 94.344006 | AL16: 95.489909 | AM16: 108.51254 | AN16: 108.51254 | AO16: 115.04502 | AP16: 115.04502 | AQ16: 115.75047 | AR16: 115.75047 | AS16: 116.45593 | AT16: 116.45593 | AU16: 117.89505 | AV16: 117.89505 | AW16: 118.61461 | AX16: 118.61461 | AY16: 119.36239 | AZ16: 119.36239 | BA16: 120.11016 | BB16: 120.11016 | BC16: 120.87205 | BD16: 120.87205 | BE16: 122.42404 | BF16: 122.42404 | BG16: 123.21415 | BH16: 123.21415 | BI16: 124.01837 | BJ16: 124.01837 | BK16: Regulado | BL16: Não | BM16: Não | BN16: Não | BO16: Não | BP16: Não | BQ16: Não | BR16: Doenças Cardiovasculares
A17: CMC&GM | B17: 525422060053503 | C17: MERCK S/A | D17: 1008902010167 | E17: 3193060014 | F17: 7891721202513 | G17: BICONCOR | H17: 5,0 MG + 6,25 MG COM REV CT BL AL AL X 30 | I17: HIDROCLOROTIAZIDA;HEMIFUMARATO DE BISOPROLOL | J17: Positiva | K17: 89.024739 | L17: 90.106033 | M17: 102.38903 | N17: 102.38903 | O17: 108.56124 | P17: 108.56124 | Q17: 109.21633 | R17: 109.21633 | S17: 109.88166 | T17: 109.88166 | U17: 111.24303 | V17: 111.24303 | W17: 111.92883 | X17: 111.92883 | Y17: 112.6351 | Z17: 112.6351 | AA17: 113.34137 | AB17: 113.34137 | AC17: 114.05788 | AD17: 114.05788 | AE17: 115.52161 | AF17: 115.52161 | AG17: 116.26882 | AH17: 116.26882 | AI17: 117.01604 | AJ17: 117.01604 | AK17: 122.71133 | AL17: 124.20178 | AM17: 141.13262 | AN17: 141.13262 | AO17: 149.64036 | AP17: 149.64036 | AQ17: 150.54334 | AR17: 150.54334 | AS17: 151.46043 | AT17: 151.46043 | AU17: 153.33693 | AV17: 153.33693 | AW17: 154.28223 | AX17: 154.28223 | AY17: 155.25576 | AZ17: 155.25576 | BA17: 156.22928 | BB17: 156.22928 | BC17: 157.21691 | BD17: 157.21691 | BE17: 159.2345 | BF17: 159.2345 | BG17: 160.26446 | BH17: 160.26446 | BI17: 161.29442 | BJ17: 161.29442 | BK17: Regulado | BL17: Não | BM17: Não | BN17: Não | BO17: Não | BP17: Não | BQ17: Não | BR17: Doenças Cardiovasculares
A18: BIOTECH | B18: 525421701150311 | C18: MERCK S/A | D18: 1008903690013 | E18: F55A12A1 | F18: 7891721022548 | G18: CETROTIDE | H18: 0,25 MG PO LIOF INJ CT FA VD TRANS + 1 SER DIL + 2 AGULHAS + 2 TOALHAS | I18: ACETATO DE CETRORRELIX | J18: Positiva | K18: 261.55252 | L18: 264.72934 | M18: 300.83112 | N18: 300.83112 | O18: 318.94854 | P18: 318.94854 | Q18: 320.88311 | R18: 320.88311 | S18: 322.83816 | T18: 322.83816 | U18: 326.83013 | V18: 326.83013 | W18: 328.85683 | X18: 328.85683 | Y18: 330.91423 | Z18: 330.91423 | AA18: 332.9921 | AB18: 332.9921 | AC18: 335.10068 | AD18: 335.10068 | AE18: 339.39973 | AF18: 339.39973 | AG18: 341.5902 | AH18: 341.5902 | AI18: 343.80114 | AJ18: 343.80114 | AK18: 360.52291 | AL18: 364.90182 | AM18: 414.66436 | AN18: 414.66436 | AO18: 439.63734 | AP18: 439.63734 | AQ18: 442.30395 | AR18: 442.30395 | AS18: 444.99878 | AT18: 444.99878 | AU18: 450.5013 | AV18: 450.5013 | AW18: 453.29489 | AX18: 453.29489 | AY18: 456.1308 | AZ18: 456.1308 | BA18: 458.99493 | BB18: 458.99493 | BC18: 461.90139 | BD18: 461.90139 | BE18: 467.82718 | BF18: 467.82718 | BG18: 470.84652 | BH18: 470.84652 | BI18: 473.89407 | BJ18: 473.89407 | BK18: Regulado | BL18: Não | BM18: Não | BN18: Não | BO18: Não | BP18: Não | BQ18: Não | BR18: Náo se Aplica
A19: CMC&GM | B19: 525402501117411 | C19: MERCK S/A | D19: 1008902540042 | E19: BR1001108 | F19: 7891721003042 | G19: CLINFAR | H19: 10 MG COM REV CT BL AL PLAS TRANS X 30 | I19: SINVASTATINA | J19: Positiva | K19: 18.644276 | L19: 18.870729 | M19: 21.444966 | N19: 21.444966 | O19: 22.737338 | P19: 22.737338 | Q19: 22.87393 | R19: 22.87393 | S19: 23.010522 | T19: 23.010522 | U19: 23.294213 | V19: 23.294213 | W19: 23.441312 | X19: 23.441312 | Y19: 23.588412 | Z19: 23.588412 | AA19: 23.735511 | AB19: 23.735511 | AC19: 23.88261 | AD19: 23.88261 | AE19: 24.197823 | AF19: 24.197823 | AG19: 24.344922 | AH19: 24.344922 | AI19: 24.502528 | AJ19: 24.502528 | AK19: 25.699193 | AL19: 26.011335 | AM19: 29.559652 | AN19: 29.559652 | AO19: 31.341052 | AP19: 31.341052 | AQ19: 31.52933 | AR19: 31.52933 | AS19: 31.717608 | AT19: 31.717608 | AU19: 32.108647 | AV19: 32.108647 | AW19: 32.311408 | AX19: 32.311408 | AY19: 32.514169 | AZ19: 32.514169 | BA19: 32.71693 | BB19: 32.71693 | BC19: 32.919691 | BD19: 32.919691 | BE19: 33.354179 | BF19: 33.354179 | BG19: 33.55694 | BH19: 33.55694 | BI19: 33.774183 | BJ19: 33.774183 | BK19: Regulado | BL19: Sim | BM19: Não | BN19: Sim | BO19: Não | BP19: Não | BQ19: Não | BR19: Doenças Cardiovasculares
A20: CMC&GM | B20: 525402504116416 | C20: MERCK S/A | D20: 1008902540077 | E20: BR1001116 | F20: 7891721012884 | G20: CLINFAR | H20: 20 MG COM REV CT BL AL PLAS TRANS X 30 | I20: SINVASTATINA | J20: Positiva | K20: 35.679497 | L20: 36.11286 | M20: 41.040684 | N20: 41.040684 | O20: 43.50985 | P20: 43.50985 | Q20: 43.772527 | R20: 43.772527 | S20: 44.035204 | T20: 44.035204 | U20: 44.581573 | V20: 44.581573 | W20: 44.865264 | X20: 44.865264 | Y20: 45.138448 | Z20: 45.138448 | AA20: 45.42214 | AB20: 45.42214 | AC20: 45.716338 | AD20: 45.716338 | AE20: 46.294228 | AF20: 46.294228 | AG20: 46.598934 | AH20: 46.598934 | AI20: 46.903639 | AJ20: 46.903639 | AK20: 49.180471 | AL20: 49.777817 | AM20: 56.570309 | AN20: 56.570309 | AO20: 59.973797 | AP20: 59.973797 | AQ20: 60.33587 | AR20: 60.33587 | AS20: 60.697943 | AT20: 60.697943 | AU20: 61.451055 | AV20: 61.451055 | AW20: 61.842094 | AX20: 61.842094 | AY20: 62.21865 | AZ20: 62.21865 | BA20: 62.609689 | BB20: 62.609689 | BC20: 63.015211 | BD20: 63.015211 | BE20: 63.811772 | BF20: 63.811772 | BG20: 64.231777 | BH20: 64.231777 | BI20: 64.651782 | BJ20: 64.651782 | BK20: Regulado | BL20: Sim | BM20: Não | BN20: Sim | BO20: Não | BP20: Não | BQ20: Não | BR20: Doenças Cardiovasculares
A21: CMC&GM | B21: 525402508111419 | C21: MERCK S/A | D21: 1008902540093 | E21: BR1001119 | F21: 7891721016165 | G21: CLINFAR | H21: 40 MG COM REV CT BL AL PLAS TRANS X 30 | I21: SINVASTATINA | J21: Positiva | K21: 72.293284 | L21: 73.171358 | M21: 83.153091 | N21: 83.153091 | O21: 88.154465 | P21: 88.154465 | Q21: 88.690327 | R21: 88.690327 | S21: 89.236695 | T21: 89.236695 | U21: 90.339939 | V21: 90.339939 | W21: 90.896815 | X21: 90.896815 | Y21: 91.464198 | Z21: 91.464198 | AA21: 92.042088 | AB21: 92.042088 | AC21: 92.619977 | AD21: 92.619977 | AE21: 93.807278 | AF21: 93.807278 | AG21: 94.416689 | AH21: 94.416689 | AI21: 95.0261 | AJ21: 95.0261 | AK21: 99.648763 | AL21: 100.8591 | AM21: 114.61788 | AN21: 114.61788 | AO21: 121.51175 | AP21: 121.51175 | AQ21: 122.25038 | AR21: 122.25038 | AS21: 123.00349 | AT21: 123.00349 | AU21: 124.5242 | AV21: 124.5242 | AW21: 125.29179 | AX21: 125.29179 | AY21: 126.07387 | AZ21: 126.07387 | BA21: 126.87043 | BB21: 126.87043 | BC21: 127.66699 | BD21: 127.66699 | BE21: 129.30356 | BF21: 129.30356 | BG21: 130.14357 | BH21: 130.14357 | BI21: 130.98358 | BJ21: 130.98358 | BK21: Regulado | BL21: Sim | BM21: Não | BN21: Sim | BO21: Não | BP21: Não | BQ21: Não | BR21: Doenças Cardiovasculares
A22: GENÉRICOS | B22: 525415070045706 | C22: MERCK S/A | D22: 1008903790034 | E22: 3227880001 | F22: 7891721022722 | G22: CLORIDRATO DE METFORMINA | H22: 500 MG COM LIB PROL CT BL AL PLAS TRANS X 30 | I22: CLORIDRATO DE METFORMINA | J22: Positiva | K22: 8.120739 | L22: 8.2193735 | M22: 9.3453151 | N22: 9.3453151 | O22: 9.89805 | P22: 9.89805 | Q22: 9.959465 | R22: 9.959465 | S22: 10.02088 | T22: 10.02088 | U22: 10.14371 | V22: 10.14371 | W22: 10.215361 | X22: 10.215361 | Y22: 10.276776 | Z22: 10.276776 | AA22: 10.338191 | AB22: 10.338191 | AC22: 10.399606 | AD22: 10.399606 | AE22: 10.532672 | AF22: 10.532672 | AG22: 10.604322 | AH22: 10.604322 | AI22: 10.675973 | AJ22: 10.675973 | AK22: 11.193593 | AL22: 11.32955 | AM22: 12.881544 | AN22: 12.881544 | AO22: 13.643431 | AP22: 13.643431 | AQ22: 13.728085 | AR22: 13.728085 | AS22: 13.812739 | AT22: 13.812739 | AU22: 13.982048 | AV22: 13.982048 | AW22: 14.080811 | AX22: 14.080811 | AY22: 14.165465 | AZ22: 14.165465 | BA22: 14.250119 | BB22: 14.250119 | BC22: 14.334774 | BD22: 14.334774 | BE22: 14.518191 | BF22: 14.518191 | BG22: 14.616954 | BH22: 14.616954 | BI22: 14.715717 | BJ22: 14.715717 | BK22: Regulado | BL22: Sim | BM22: Não | BN22: Sim | BO22: Não | BP22: Não | BQ22: Não | BR22: Diabetes
A23: GENÉRICOS | B23: 525415070045706 | C23: MERCK S/A | D23: 1008903790034 | E23: 3554330001 | F23: 7891721201783 | G23: CLORIDRATO DE METFORMINA | H23: 500 MG COM LIB PROL CT BL AL PLAS TRANS X 30 | I23: CLORIDRATO DE METFORMINA | J23: Positiva | K23: 8.120739 | L23: 8.2193735 | M23: 9.3453151 | N23: 9.3453151 | O23: 9.89805 | P23: 9.89805 | Q23: 9.959465 | R23: 9.959465 | S23: 10.02088 | T23: 10.02088 | U23: 10.14371 | V23: 10.14371 | W23: 10.215361 | X23: 10.215361 | Y23: 10.276776 | Z23: 10.276776 | AA23: 10.338191 | AB23: 10.338191 | AC23: 10.399606 | AD23: 10.399606 | AE23: 10.532672 | AF23: 10.532672 | AG23: 10.604322 | AH23: 10.604322 | AI23: 10.675973 | AJ23: 10.675973 | AK23: 11.193593 | AL23: 11.32955 | AM23: 12.881544 | AN23: 12.881544 | AO23: 13.643431 | AP23: 13.643431 | AQ23: 13.728085 | AR23: 13.728085 | AS23: 13.812739 | AT23: 13.812739 | AU23: 13.982048 | AV23: 13.982048 | AW23: 14.080811 | AX23: 14.080811 | AY23: 14.165465 | AZ23: 14.165465 | BA23: 14.250119 | BB23: 14.250119 | BC23: 14.334774 | BD23: 14.334774 | BE23: 14.518191 | BF23: 14.518191 | BG23: 14.616954 | BH23: 14.616954 | BI23: 14.715717 | BJ23: 14.715717 | BK23: Regulado | BL23: Sim | BM23: Não | BN23: Sim | BO23: Não | BP23: Não | BQ23: Não | BR23: Diabetes
A24: GENÉRICOS | B24: 525415070045806 | C24: MERCK S/A | D24: 1008903790123 | E24: 3227900001 | F24: 7891721025334 | G24: CLORIDRATO DE METFORMINA | H24: 750 MG COM LIB PROL CT BL AL PLAS TRANS X 30 | I24: CLORIDRATO DE METFORMINA | J24: Positiva | K24: 16.110009 | L24: 16.305681 | M24: 18.526857 | N24: 18.526857 | O24: 19.642563 | P24: 19.642563 | Q24: 19.765393 | R24: 19.765393 | S24: 19.888223 | T24: 19.888223 | U24: 20.133883 | V24: 20.133883 | W24: 20.256713 | X24: 20.256713 | Y24: 20.379543 | Z24: 20.379543 | AA24: 20.512608 | AB24: 20.512608 | AC24: 20.635438 | AD24: 20.635438 | AE24: 20.90157 | AF24: 20.90157 | AG24: 21.034636 | AH24: 21.034636 | AI24: 21.177937 | AJ24: 21.177937 | AK24: 22.20597 | AL24: 22.475683 | AM24: 25.537343 | AN24: 25.537343 | AO24: 27.075227 | AP24: 27.075227 | AQ24: 27.244535 | AR24: 27.244535 | AS24: 27.413843 | AT24: 27.413843 | AU24: 27.75246 | AV24: 27.75246 | AW24: 27.921768 | AX24: 27.921768 | AY24: 28.091077 | AZ24: 28.091077 | BA24: 28.274494 | BB24: 28.274494 | BC24: 28.443803 | BD24: 28.443803 | BE24: 28.810637 | BF24: 28.810637 | BG24: 28.994055 | BH24: 28.994055 | BI24: 29.191581 | BJ24: 29.191581 | BK24: Regulado | BL24: Não | BM24: Não | BN24: Não | BO24: Não | BP24: Não | BQ24: Não | BR24: Diabetes
A25: GENÉRICOS | B25: 525402603114111 | C25: MERCK S/A | D25: 1008902750012 | E25: BR1008050 | F25: 7891721027406 | G25: CLORIDRATO DE METFORMINA | H25: 850 MG COM REV CT BL AL PLAS TRANS X 30 | I25: CLORIDRATO DE METFORMINA | J25: Positiva | K25: 15.452664 | L25: 15.640352 | M25: 17.769405 | N25: 17.769405 | O25: 18.844168 | P25: 18.844168 | Q25: 18.956762 | R25: 18.956762 | S25: 19.069356 | T25: 19.069356 | U25: 19.30478 | V25: 19.30478 | W25: 19.42761 | X25: 19.42761 | Y25: 19.55044 | Z25: 19.55044 | AA25: 19.67327 | AB25: 19.67327 | AC25: 19.7961 | AD25: 19.7961 | AE25: 20.051996 | AF25: 20.051996 | AG25: 20.185062 | AH25: 20.185062 | AI25: 20.307892 | AJ25: 20.307892 | AK25: 21.299888 | AL25: 21.558596 | AM25: 24.493274 | AN25: 24.493274 | AO25: 25.974722 | AP25: 25.974722 | AQ25: 26.129922 | AR25: 26.129922 | AS25: 26.285121 | AT25: 26.285121 | AU25: 26.609629 | AV25: 26.609629 | AW25: 26.778937 | AX25: 26.778937 | AY25: 26.948245 | AZ25: 26.948245 | BA25: 27.117554 | BB25: 27.117554 | BC25: 27.286862 | BD25: 27.286862 | BE25: 27.639588 | BF25: 27.639588 | BG25: 27.823005 | BH25: 27.823005 | BI25: 27.992314 | BJ25: 27.992314 | BK25: Regulado | BL25: Sim | BM25: Não | BN25: Sim | BO25: Não | BP25: Não | BQ25: Não | BR25: Diabetes
A26: GENÉRICOS | B26: 525417100049006 | C26: MERCK S/A | D26: 1008903790182 | E26: 3227910001 | F26: 7891721028731 | G26: CLORIDRATO DE METFORMINA | H26: 1 G COM LIB PROL CT BL AL PLAS TRANS X 30 | I26: CLORIDRATO DE METFORMINA | J26: Positiva | K26: 20.175435 | L26: 20.420486 | M26: 23.204632 | N26: 23.204632 | O26: 24.606941 | P26: 24.606941 | Q26: 24.750243 | R26: 24.750243 | S26: 24.90378 | T26: 24.90378 | U26: 25.210855 | V26: 25.210855 | W26: 25.364393 | X26: 25.364393 | Y26: 25.528166 | Z26: 25.528166 | AA26: 25.681704 | AB26: 25.681704 | AC26: 25.845477 | AD26: 25.845477 | AE26: 26.18326 | AF26: 26.18326 | AG26: 26.347033 | AH26: 26.347033 | AI26: 26.521042 | AJ26: 26.521042 | AK26: 27.809736 | AL26: 28.147513 | AM26: 31.985169 | AN26: 31.985169 | AO26: 33.918106 | AP26: 33.918106 | AQ26: 34.115632 | AR26: 34.115632 | AS26: 34.327268 | AT26: 34.327268 | AU26: 34.750539 | AV26: 34.750539 | AW26: 34.962174 | AX26: 34.962174 | AY26: 35.187918 | AZ26: 35.187918 | BA26: 35.399554 | BB26: 35.399554 | BC26: 35.625298 | BD26: 35.625298 | BE26: 36.090896 | BF26: 36.090896 | BG26: 36.316641 | BH26: 36.316641 | BI26: 36.556494 | BJ26: 36.556494 | BK26: Regulado | BL26: Não | BM26: Não | BN26: Não | BO26: Não | BP26: Não | BQ26: Não | BR26: Diabetes
A27: GENÉRICOS | B27: 525402602118111 | C27: MERCK S/A | D27: 1008902750020 | E27: BR1003812 | F27: 7891721238123 | G27: CLORIDRATO DE METFORMINA | H27: 500 MG COM REV CT BL AL PLAS TRANS X 30 | I27: CLORIDRATO DE METFORMINA | J27: Positiva | K27: 11.367012 | L27: 11.505076 | M27: 13.071158 | N27: 13.071158 | O27: 13.859317 | P27: 13.859317 | Q27: 13.941204 | R27: 13.941204 | S27: 14.033326 | T27: 14.033326 | U27: 14.207336 | V27: 14.207336 | W27: 14.289222 | X27: 14.289222 | Y27: 14.381345 | Z27: 14.381345 | AA27: 14.473467 | AB27: 14.473467 | AC27: 14.56559 | AD27: 14.56559 | AE27: 14.749835 | AF27: 14.749835 | AG27: 14.841957 | AH27: 14.841957 | AI27: 14.944315 | AJ27: 14.944315 | AK27: 15.668242 | AL27: 15.858549 | AM27: 18.01723 | AN27: 18.01723 | AO27: 19.103625 | AP27: 19.103625 | AQ27: 19.216498 | AR27: 19.216498 | AS27: 19.343479 | AT27: 19.343479 | AU27: 19.583332 | AV27: 19.583332 | AW27: 19.696205 | AX27: 19.696205 | AY27: 19.823186 | AZ27: 19.823186 | BA27: 19.950167 | BB27: 19.950167 | BC27: 20.077148 | BD27: 20.077148 | BE27: 20.331111 | BF27: 20.331111 | BG27: 20.458092 | BH27: 20.458092 | BI27: 20.599182 | BJ27: 20.599182 | BK27: Regulado | BL27: Não | BM27: Não | BN27: Sim | BO27: Não | BP27: Não | BQ27: Não | BR27: Diabetes
A28: GENÉRICOS | B28: 525402601111113 | C28: MERCK S/A | D28: 1008902750039 | E28: BR1003823 | F28: 7891721238239 | G28: CLORIDRATO DE METFORMINA | H28: 500 MG COM REV CT BL AL PLAS TRANS X 60 | I28: CLORIDRATO DE METFORMINA | J28: Positiva | K28: 21.156396 | L28: 21.413362 | M28: 24.330574 | N28: 24.330574 | O28: 25.794298 | P28: 25.794298 | Q28: 25.958071 | R28: 25.958071 | S28: 26.111609 | T28: 26.111609 | U28: 26.439155 | V28: 26.439155 | W28: 26.602929 | X28: 26.602929 | Y28: 26.766702 | Z28: 26.766702 | AA28: 26.930475 | AB28: 26.930475 | AC28: 27.104484 | AD28: 27.104484 | AE28: 27.452503 | AF28: 27.452503 | AG28: 27.626512 | AH28: 27.626512 | AI28: 27.810757 | AJ28: 27.810757 | AK28: 29.161888 | AL28: 29.516089 | AM28: 33.537162 | AN28: 33.537162 | AO28: 35.554753 | AP28: 35.554753 | AQ28: 35.780498 | AR28: 35.780498 | AS28: 35.992133 | AT28: 35.992133 | AU28: 36.443622 | AV28: 36.443622 | AW28: 36.669366 | AX28: 36.669366 | AY28: 36.895111 | AZ28: 36.895111 | BA28: 37.120855 | BB28: 37.120855 | BC28: 37.360709 | BD28: 37.360709 | BE28: 37.840416 | BF28: 37.840416 | BG28: 38.080269 | BH28: 38.080269 | BI28: 38.334232 | BJ28: 38.334232 | BK28: Regulado | BL28: Não | BM28: Não | BN28: Sim | BO28: Não | BP28: Não | BQ28: Não | BR28: Diabetes
A29: GENÉRICOS | B29: 525402601111113 | C29: MERCK S/A | D29: 1008902750039 | E29: 3377970001 | F29: 7891721029745 | G29: CLORIDRATO DE METFORMINA | H29: 500 MG COM REV CT BL AL PLAS TRANS X 60 | I29: CLORIDRATO DE METFORMINA | J29: Positiva | K29: 21.156396 | L29: 21.413362 | M29: 24.330574 | N29: 24.330574 | O29: 25.794298 | P29: 25.794298 | Q29: 25.958071 | R29: 25.958071 | S29: 26.111609 | T29: 26.111609 | U29: 26.439155 | V29: 26.439155 | W29: 26.602929 | X29: 26.602929 | Y29: 26.766702 | Z29: 26.766702 | AA29: 26.930475 | AB29: 26.930475 | AC29: 27.104484 | AD29: 27.104484 | AE29: 27.452503 | AF29: 27.452503 | AG29: 27.626512 | AH29: 27.626512 | AI29: 27.810757 | AJ29: 27.810757 | AK29: 29.161888 | AL29: 29.516089 | AM29: 33.537162 | AN29: 33.537162 | AO29: 35.554753 | AP29: 35.554753 | AQ29: 35.780498 | AR29: 35.780498 | AS29: 35.992133 | AT29: 35.992133 | AU29: 36.443622 | AV29: 36.443622 | AW29: 36.669366 | AX29: 36.669366 | AY29: 36.895111 | AZ29: 36.895111 | BA29: 37.120855 | BB29: 37.120855 | BC29: 37.360709 | BD29: 37.360709 | BE29: 37.840416 | BF29: 37.840416 | BG29: 38.080269 | BH29: 38.080269 | BI29: 38.334232 | BJ29: 38.334232 | BK29: Regulado | BL29: Não | BM29: Não | BN29: Sim | BO29: Não | BP29: Não | BQ29: Não | BR29: Diabetes
A30: GENÉRICOS | B30: 525402604110118 | C30: MERCK S/A | D30: 1008902750055 | E30: BR1003824 | F30: 7891721238246 | G30: CLORIDRATO DE METFORMINA | H30: 850 MG COM REV CT BL AL PLAS TRANS X 60 | I30: CLORIDRATO DE METFORMINA | J30: Positiva | K30: 28.751259 | L30: 29.100472 | M30: 33.071975 | N30: 33.071975 | O30: 35.057726 | P30: 35.057726 | Q30: 35.272679 | R30: 35.272679 | S30: 35.487631 | T30: 35.487631 | U30: 35.927772 | V30: 35.927772 | W30: 36.15296 | X30: 36.15296 | Y30: 36.378149 | Z30: 36.378149 | AA30: 36.603337 | AB30: 36.603337 | AC30: 36.838761 | AD30: 36.838761 | AE30: 37.309609 | AF30: 37.309609 | AG30: 37.545034 | AH30: 37.545034 | AI30: 37.790694 | AJ30: 37.790694 | AK30: 39.630616 | AL30: 40.11197 | AM30: 45.586273 | AN30: 45.586273 | AO30: 48.323424 | AP30: 48.323424 | AQ30: 48.619714 | AR30: 48.619714 | AS30: 48.916004 | AT30: 48.916004 | AU30: 49.522692 | AV30: 49.522692 | AW30: 49.833091 | AX30: 49.833091 | AY30: 50.143489 | AZ30: 50.143489 | BA30: 50.453888 | BB30: 50.453888 | BC30: 50.778396 | BD30: 50.778396 | BE30: 51.427411 | BF30: 51.427411 | BG30: 51.751919 | BH30: 51.751919 | BI30: 52.090535 | BJ30: 52.090535 | BK30: Regulado | BL30: Sim | BM30: Não | BN30: Sim | BO30: Não | BP30: Não | BQ30: Não | BR30: Diabetes
A31: GENÉRICOS | B31: 525402604110118 | C31: MERCK S/A | D31: 1008902750055 | E31: 3377770001 | F31: 7891721029752 | G31: CLORIDRATO DE METFORMINA | H31: 850 MG COM REV CT BL AL PLAS TRANS X 60 | I31: CLORIDRATO DE METFORMINA | J31: Positiva | K31: 28.751259 | L31: 29.100472 | M31: 33.071975 | N31: 33.071975 | O31: 35.057726 | P31: 35.057726 | Q31: 35.272679 | R31: 35.272679 | S31: 35.487631 | T31: 35.487631 | U31: 35.927772 | V31: 35.927772 | W31: 36.15296 | X31: 36.15296 | Y31: 36.378149 | Z31: 36.378149 | AA31: 36.603337 | AB31: 36.603337 | AC31: 36.838761 | AD31: 36.838761 | AE31: 37.309609 | AF31: 37.309609 | AG31: 37.545034 | AH31: 37.545034 | AI31: 37.790694 | AJ31: 37.790694 | AK31: 39.630616 | AL31: 40.11197 | AM31: 45.586273 | AN31: 45.586273 | AO31: 48.323424 | AP31: 48.323424 | AQ31: 48.619714 | AR31: 48.619714 | AS31: 48.916004 | AT31: 48.916004 | AU31: 49.522692 | AV31: 49.522692 | AW31: 49.833091 | AX31: 49.833091 | AY31: 50.143489 | AZ31: 50.143489 | BA31: 50.453888 | BB31: 50.453888 | BC31: 50.778396 | BD31: 50.778396 | BE31: 51.427411 | BF31: 51.427411 | BG31: 51.751919 | BH31: 51.751919 | BI31: 52.090535 | BJ31: 52.090535 | BK31: Regulado | BL31: Sim | BM31: Não | BN31: Sim | BO31: Não | BP31: Não | BQ31: Não | BR31: Diabetes
A32: GENÉRICOS | B32: 525402605117108 | C32: MERCK S/A | D32: 1008902750063 | E32: BR1003825 | F32: 7891721238253 | G32: CLORIDRATO DE METFORMINA | H32: 1G COM REV CT BL AL PLAS TRANS X 30 | I32: CLORIDRATO DE METFORMINA | J32: Positiva | K32: 21.2373 | L32: 21.495248 | M32: 24.422696 | N32: 24.422696 | O32: 25.896656 | P32: 25.896656 | Q32: 26.050194 | R32: 26.050194 | S32: 26.213967 | T32: 26.213967 | U32: 26.541514 | V32: 26.541514 | W32: 26.705287 | X32: 26.705287 | Y32: 26.86906 | Z32: 26.86906 | AA32: 27.043069 | AB32: 27.043069 | AC32: 27.206843 | AD32: 27.206843 | AE32: 27.554861 | AF32: 27.554861 | AG32: 27.739106 | AH32: 27.739106 | AI32: 27.913115 | AJ32: 27.913115 | AK32: 29.273406 | AL32: 29.628961 | AM32: 33.664143 | AN32: 33.664143 | AO32: 35.695843 | AP32: 35.695843 | AQ32: 35.907479 | AR32: 35.907479 | AS32: 36.133223 | AT32: 36.133223 | AU32: 36.584712 | AV32: 36.584712 | AW32: 36.810457 | AX32: 36.810457 | AY32: 37.036201 | AZ32: 37.036201 | BA32: 37.276055 | BB32: 37.276055 | BC32: 37.501799 | BD32: 37.501799 | BE32: 37.981506 | BF32: 37.981506 | BG32: 38.235469 | BH32: 38.235469 | BI32: 38.475322 | BJ32: 38.475322 | BK32: Regulado | BL32: Não | BM32: Não | BN32: Não | BO32: Não | BP32: Não | BQ32: Não | BR32: Diabetes
A33: GENÉRICOS | B33: 525415070045706 | C33: MERCK S/A | D33: 1008903790034 | E33: 3554330001 | F33: 7891721201783 | G33: CLORIDRATO DE METFORMINA | H33: 500 MG COM LIB PROL CT BL AL PLAS TRANS X 30 | I33: CLORIDRATO DE METFORMINA | J33: Positiva | K33: 8.120739 | L33: 8.2193735 | M33: 9.3453151 | N33: 9.3453151 | O33: 9.89805 | P33: 9.89805 | Q33: 9.959465 | R33: 9.959465 | S33: 10.02088 | T33: 10.02088 | U33: 10.14371 | V33: 10.14371 | W33: 10.215361 | X33: 10.215361 | Y33: 10.276776 | Z33: 10.276776 | AA33: 10.338191 | AB33: 10.338191 | AC33: 10.399606 | AD33: 10.399606 | AE33: 10.532672 | AF33: 10.532672 | AG33: 10.604322 | AH33: 10.604322 | AI33: 10.675973 | AJ33: 10.675973 | AK33: 11.193593 | AL33: 11.32955 | AM33: 12.881544 | AN33: 12.881544 | AO33: 13.643431 | AP33: 13.643431 | AQ33: 13.728085 | AR33: 13.728085 | AS33: 13.812739 | AT33: 13.812739 | AU33: 13.982048 | AV33: 13.982048 | AW33: 14.080811 | AX33: 14.080811 | AY33: 14.165465 | AZ33: 14.165465 | BA33: 14.250119 | BB33: 14.250119 | BC33: 14.334774 | BD33: 14.334774 | BE33: 14.518191 | BF33: 14.518191 | BG33: 14.616954 | BH33: 14.616954 | BI33: 14.715717 | BJ33: 14.715717 | BK33: Regulado | BL33: Sim | BM33: Não | BN33: Sim | BO33: Não | BP33: Não | BQ33: Não | BR33: Diabetes
A34: GENÉRICOS | B34: 525402801110110 | C34: MERCK S/A | D34: 1008902810023 | E34: BR1007111 | F34: 7891721023521 | G34: CLORIDRATO DE SOTALOL | H34: 160 MG COM CT FR PLAS OPC X 30 | I34: CLORIDRATO DE SOTALOL | J34: Positiva | K34: 70.341656 | L34: 71.196026 | M34: 80.904575 | N34: 80.904575 | O34: 85.779863 | P34: 85.779863 | Q34: 86.294711 | R34: 86.294711 | S34: 86.820065 | T34: 86.820065 | U34: 87.891788 | V34: 87.891788 | W34: 88.438157 | X34: 88.438157 | Y34: 88.995032 | Z34: 88.995032 | AA34: 89.551908 | AB34: 89.551908 | AC34: 90.119291 | AD34: 90.119291 | AE34: 91.27507 | AF34: 91.27507 | AG34: 91.863467 | AH34: 91.863467 | AI34: 92.462371 | AJ34: 92.462371 | AK34: 96.958647 | AL34: 98.136306 | AM34: 111.51853 | AN34: 111.51853 | AO34: 118.23861 | AP34: 118.23861 | AQ34: 118.94827 | AR34: 118.94827 | AS34: 119.67242 | AT34: 119.67242 | AU34: 121.14968 | AV34: 121.14968 | AW34: 121.90279 | AX34: 121.90279 | AY34: 122.67038 | AZ34: 122.67038 | BA34: 123.43798 | BB34: 123.43798 | BC34: 124.22006 | BD34: 124.22006 | BE34: 125.81318 | BF34: 125.81318 | BG34: 126.62422 | BH34: 126.62422 | BI34: 127.44975 | BJ34: 127.44975 | BK34: Regulado | BL34: Não | BM34: Não | BN34: Não | BO34: Não | BP34: Não | BQ34: Não | BR34: Doenças Cardiovasculares
A35: GENÉRICOS | B35: 525421070052804 | C35: MERCK S/A | D35: 1008902810041 | E35: 3714150001 | F35: 7891721202377 | G35: CLORIDRATO DE SOTALOL | H35: 160 MG COM CT BL AL PLAS PVC/PVDC TRANS X 30 | I35: CLORIDRATO DE SOTALOL | J35: Positiva | K35: 70.341656 | L35: 71.196026 | M35: 80.904575 | N35: 80.904575 | O35: 85.779863 | P35: 85.779863 | Q35: 86.294711 | R35: 86.294711 | S35: 86.820065 | T35: 86.820065 | U35: 87.891788 | V35: 87.891788 | W35: 88.438157 | X35: 88.438157 | Y35: 88.995032 | Z35: 88.995032 | AA35: 89.551908 | AB35: 89.551908 | AC35: 90.119291 | AD35: 90.119291 | AE35: 91.27507 | AF35: 91.27507 | AG35: 91.863467 | AH35: 91.863467 | AI35: 92.462371 | AJ35: 92.462371 | AK35: 96.958647 | AL35: 98.136306 | AM35: 111.51853 | AN35: 111.51853 | AO35: 118.23861 | AP35: 118.23861 | AQ35: 118.94827 | AR35: 118.94827 | AS35: 119.67242 | AT35: 119.67242 | AU35: 121.14968 | AV35: 121.14968 | AW35: 121.90279 | AX35: 121.90279 | AY35: 122.67038 | AZ35: 122.67038 | BA35: 123.43798 | BB35: 123.43798 | BC35: 124.22006 | BD35: 124.22006 | BE35: 125.81318 | BF35: 125.81318 | BG35: 126.62422 | BH35: 126.62422 | BI35: 127.44975 | BJ35: 127.44975 | BK35: Regulado | BL35: Não | BM35: Não | BN35: Não | BO35: Não | BP35: Não | BQ35: Não | BR35: Doenças Cardiovasculares
A36: CMC&GM | B36: 525416060047403 | C36: MERCK S/A | D36: 1008901940446 | E36: 3191260003 | F36: 7891721024917 | G36: CONCOR | H36: 1,25 MG COM REV CT BL AL AL X 20 | I36: HEMIFUMARATO DE BISOPROLOL | J36: Positiva | K36: 54.91549 | L36: 55.582494 | M36: 63.158104 | N36: 63.158104 | O36: 66.961669 | P36: 66.961669 | Q36: 67.371446 | R36: 67.371446 | S36: 67.781222 | T36: 67.781222 | U36: 68.621789 | V36: 68.621789 | W36: 69.042073 | X36: 69.042073 | Y36: 69.48337 | Z36: 69.48337 | AA36: 69.914161 | AB36: 69.914161 | AC36: 70.355459 | AD36: 70.355459 | AE36: 71.259068 | AF36: 71.259068 | AG36: 71.72138 | AH36: 71.72138 | AI36: 72.183692 | AJ36: 72.183692 | AK36: 75.695284 | AL36: 76.614678 | AM36: 87.056868 | AN36: 87.056868 | AO36: 92.299687 | AP36: 92.299687 | AQ36: 92.864521 | AR36: 92.864521 | AS36: 93.429356 | AT36: 93.429356 | AU36: 94.58799 | AV36: 94.58799 | AW36: 95.167307 | AX36: 95.167307 | AY36: 95.77559 | AZ36: 95.77559 | BA36: 96.369389 | BB36: 96.369389 | BC36: 96.977672 | BD36: 96.977672 | BE36: 98.223204 | BF36: 98.223204 | BG36: 98.860453 | BH36: 98.860453 | BI36: 99.497702 | BJ36: 99.497702 | BK36: Regulado | BL36: Não | BM36: Não | BN36: Não | BO36: Não | BP36: Não | BQ36: Não | BR36: Doenças Cardiovasculares
A37: CMC&GM | B37: 525416060047503 | C37: MERCK S/A | D37: 1008901940454 | E37: 3191260001 | F37: 7891721024924 | G37: CONCOR | H37: 1,25 MG COM REV CT BL AL AL X 30 | I37: HEMIFUMARATO DE BISOPROLOL | J37: Positiva | K37: 47.503456 | L37: 48.080433 | M37: 54.636856 | N37: 54.636856 | O37: 57.925574 | P37: 57.925574 | Q37: 58.282815 | R37: 58.282815 | S37: 58.629549 | T37: 58.629549 | U37: 59.354538 | V37: 59.354538 | W37: 59.722286 | X37: 59.722286 | Y37: 60.100541 | Z37: 60.100541 | AA37: 60.478796 | AB37: 60.478796 | AC37: 60.857052 | AD37: 60.857052 | AE37: 61.645083 | AF37: 61.645083 | AG37: 62.044352 | AH37: 62.044352 | AI37: 62.443622 | AJ37: 62.443622 | AK37: 65.478567 | AL37: 66.273869 | AM37: 75.311215 | AN37: 75.311215 | AO37: 79.844371 | AP37: 79.844371 | AQ37: 80.33679 | AR37: 80.33679 | AS37: 80.814727 | AT37: 80.814727 | AU37: 81.814049 | AV37: 81.814049 | AW37: 82.320951 | AX37: 82.320951 | AY37: 82.842337 | AZ37: 82.842337 | BA37: 83.363722 | BB37: 83.363722 | BC37: 83.885107 | BD37: 83.885107 | BE37: 84.971327 | BF37: 84.971327 | BG37: 85.521678 | BH37: 85.521678 | BI37: 86.072029 | BJ37: 86.072029 | BK37: Regulado | BL37: Não | BM37: Não | BN37: Não | BO37: Não | BP37: Não | BQ37: Não | BR37: Doenças Cardiovasculares
A38: CMC&GM | B38: 525416060047603 | C38: MERCK S/A | D38: 1008901940500 | E38: 3290610001 | F38: 7891721024979 | G38: CONCOR | H38: 2,5 MG COM REV CT BL AL AL X 20 | I38: HEMIFUMARATO DE BISOPROLOL | J38: Positiva | K38: 63.261814 | L38: 64.030192 | M38: 72.761582 | N38: 72.761582 | O38: 77.143037 | P38: 77.143037 | Q38: 77.615856 | R38: 77.615856 | S38: 78.088675 | T38: 78.088675 | U38: 79.04482 | V38: 79.04482 | W38: 79.538653 | X38: 79.538653 | Y38: 80.042994 | Z38: 80.042994 | AA38: 80.536827 | AB38: 80.536827 | AC38: 81.051674 | AD38: 81.051674 | AE38: 82.091876 | AF38: 82.091876 | AG38: 82.61723 | AH38: 82.61723 | AI38: 83.153091 | AJ38: 83.153091 | AK38: 87.199822 | AL38: 88.258951 | AM38: 100.29426 | AN38: 100.29426 | AO38: 106.33364 | AP38: 106.33364 | AQ38: 106.98537 | AR38: 106.98537 | AS38: 107.63711 | AT38: 107.63711 | AU38: 108.95505 | AV38: 108.95505 | AW38: 109.63575 | AX38: 109.63575 | AY38: 110.33093 | AZ38: 110.33093 | BA38: 111.01163 | BB38: 111.01163 | BC38: 111.72129 | BD38: 111.72129 | BE38: 113.1551 | BF38: 113.1551 | BG38: 113.87925 | BH38: 113.87925 | BI38: 114.61788 | BJ38: 114.61788 | BK38: Regulado | BL38: Não | BM38: Não | BN38: Não | BO38: Não | BP38: Não | BQ38: Não | BR38: Doenças Cardiovasculares
A39: CMC&GM | B39: 525416060047703 | C39: MERCK S/A | D39: 1008901940519 | E39: 3191270001 | F39: 7891721024986 | G39: CONCOR | H39: 2,5 MG COM REV CT BL AL AL X 30 | I39: HEMIFUMARATO DE BISOPROLOL | J39: Positiva | K39: 54.697489 | L39: 55.361845 | M39: 62.916441 | N39: 62.916441 | O39: 66.698992 | P39: 66.698992 | Q39: 67.108769 | R39: 67.108769 | S39: 67.518545 | T39: 67.518545 | U39: 68.348605 | V39: 68.348605 | W39: 68.768889 | X39: 68.768889 | Y39: 69.199679 | Z39: 69.199679 | AA39: 69.640977 | AB39: 69.640977 | AC39: 70.082274 | AD39: 70.082274 | AE39: 70.975377 | AF39: 70.975377 | AG39: 71.437689 | AH39: 71.437689 | AI39: 71.900001 | AJ39: 71.900001 | AK39: 75.394792 | AL39: 76.310537 | AM39: 86.723761 | AN39: 86.723761 | AO39: 91.937614 | AP39: 91.937614 | AQ39: 92.502448 | AR39: 92.502448 | AS39: 93.067282 | AT39: 93.067282 | AU39: 94.211434 | AV39: 94.211434 | AW39: 94.790751 | AX39: 94.790751 | AY39: 95.384551 | AZ39: 95.384551 | BA39: 95.992833 | BB39: 95.992833 | BC39: 96.601116 | BD39: 96.601116 | BE39: 97.832165 | BF39: 97.832165 | BG39: 98.469414 | BH39: 98.469414 | BI39: 99.106663 | BJ39: 99.106663 | BK39: Regulado | BL39: Não | BM39: Não | BN39: Não | BO39: Não | BP39: Não | BQ39: Não | BR39: Doenças Cardiovasculares
A40: CMC&GM | B40: 525416060047803 | C40: MERCK S/A | D40: 1008901940561 | E40: 3028030003 | F40: 7891721025099 | G40: CONCOR | H40: 5 MG COM REV CT BL AL AL X 20 | I40: HEMIFUMARATO DE BISOPROLOL | J40: Positiva | K40: 76.964734 | L40: 77.899548 | M40: 88.522213 | N40: 88.522213 | O40: 93.859814 | P40: 93.859814 | Q40: 94.427196 | R40: 94.427196 | S40: 94.994579 | T40: 94.994579 | U40: 96.171373 | V40: 96.171373 | W40: 96.770277 | X40: 96.770277 | Y40: 97.379688 | Z40: 97.379688 | AA40: 97.989099 | AB40: 97.989099 | AC40: 98.609017 | AD40: 98.609017 | AE40: 99.869868 | AF40: 99.869868 | AG40: 100.5108 | AH40: 100.5108 | AI40: 101.17275 | AJ40: 101.17275 | AK40: 106.08787 | AL40: 107.37641 | AM40: 122.01865 | AN40: 122.01865 | AO40: 129.37598 | AP40: 129.37598 | AQ40: 130.15806 | AR40: 130.15806 | AS40: 130.94013 | AT40: 130.94013 | AU40: 132.56222 | AV40: 132.56222 | AW40: 133.38775 | AX40: 133.38775 | AY40: 134.22776 | AZ40: 134.22776 | BA40: 135.06777 | BB40: 135.06777 | BC40: 135.92226 | BD40: 135.92226 | BE40: 137.66021 | BF40: 137.66021 | BG40: 138.54367 | BH40: 138.54367 | BI40: 139.45609 | BJ40: 139.45609 | BK40: Regulado | BL40: Não | BM40: Não | BN40: Não | BO40: Não | BP40: Não | BQ40: Não | BR40: Doenças Cardiovasculares
A41: CMC&GM | B41: 525416060047903 | C41: MERCK S/A | D41: 1008901940578 | E41: 3028030001 | F41: 7891721025105 | G41: CONCOR | H41: 5 MG COM REV CT BL AL AL X 30 | I41: HEMIFUMARATO DE BISOPROLOL | J41: Positiva | K41: 66.54221 | L41: 67.350432 | M41: 76.533626 | N41: 76.533626 | O41: 81.146238 | P41: 81.146238 | Q41: 81.640071 | R41: 81.640071 | S41: 82.133904 | T41: 82.133904 | U41: 83.153091 | V41: 83.153091 | W41: 83.667939 | X41: 83.667939 | Y41: 84.193293 | Z41: 84.193293 | AA41: 84.718648 | AB41: 84.718648 | AC41: 85.254509 | AD41: 85.254509 | AE41: 86.347246 | AF41: 86.347246 | AG41: 86.904122 | AH41: 86.904122 | AI41: 87.471504 | AJ41: 87.471504 | AK41: 91.721506 | AL41: 92.835556 | AM41: 105.49363 | AN41: 105.49363 | AO41: 111.85164 | AP41: 111.85164 | AQ41: 112.53233 | AR41: 112.53233 | AS41: 113.21303 | AT41: 113.21303 | AU41: 114.61788 | AV41: 114.61788 | AW41: 115.32754 | AX41: 115.32754 | AY41: 116.05169 | AZ41: 116.05169 | BA41: 116.77583 | BB41: 116.77583 | BC41: 117.51446 | BD41: 117.51446 | BE41: 119.02069 | BF41: 119.02069 | BG41: 119.78828 | BH41: 119.78828 | BI41: 120.57036 | BJ41: 120.57036 | BK41: Regulado | BL41: Não | BM41: Não | BN41: Não | BO41: Não | BP41: Não | BQ41: Não | BR41: Doenças Cardiovasculares
A42: CMC&GM | B42: 525416060048003 | C42: MERCK S/A | D42: 1008901940624 | E42: 3191290002 | F42: 7891721025211 | G42: CONCOR | H42: 10 MG COM REV CT BL AL AL X 20 | I42: HEMIFUMARATO DE BISOPROLOL | J42: Positiva | K42: 87.709069 | L42: 88.774383 | M42: 100.87855 | N42: 100.87855 | O42: 106.96215 | P42: 106.96215 | Q42: 107.60308 | R42: 107.60308 | S42: 108.26503 | T42: 108.26503 | U42: 109.59943 | V42: 109.59943 | W42: 110.28239 | X42: 110.28239 | Y42: 110.96535 | Z42: 110.96535 | AA42: 111.66933 | AB42: 111.66933 | AC42: 112.3733 | AD42: 112.3733 | AE42: 113.81277 | AF42: 113.81277 | AG42: 114.54827 | AH42: 114.54827 | AI42: 115.29427 | AJ42: 115.29427 | AK42: 120.89782 | AL42: 122.36624 | AM42: 139.05057 | AN42: 139.05057 | AO42: 147.43619 | AP42: 147.43619 | AQ42: 148.31965 | AR42: 148.31965 | AS42: 149.23207 | AT42: 149.23207 | AU42: 151.0714 | AV42: 151.0714 | AW42: 152.01279 | AX42: 152.01279 | AY42: 152.95418 | AZ42: 152.95418 | BA42: 153.92454 | BB42: 153.92454 | BC42: 154.89489 | BD42: 154.89489 | BE42: 156.87905 | BF42: 156.87905 | BG42: 157.89286 | BH42: 157.89286 | BI42: 158.92115 | BJ42: 158.92115 | BK42: Regulado | BL42: Não | BM42: Não | BN42: Não | BO42: Não | BP42: Não | BQ42: Não | BR42: Doenças Cardiovasculares
...
