Workbook
Name dados: [1]dados!#REF!
Name dados: [1]dados!#REF!
Name dados: [1]dados!#REF!

Sheet LISTA 2014_2015
A1: Lista de Preços - Abril/2015
A3: Razão Social: APSEN FARMACEUTICA S/A
A4: CNPJ: 62.462.015/0001-29
A5: Contato: rodolfo.silva@apsen.com.br
A7: Novas apresentações de produtos
A8: *Produtos pertencentes a Resolução nº 13/2012
A9: ** Produtos Controlados - Port. 344/98 Lista C-1
A10: *** Produtos Controlados - Port. 344/98 Lista B-1
A12: Cod GGREM | B12: Cod EAN | C12: Cod Prod. | D12: Produto | E12: Apresentação | F12: NCM | G12: Origem | H12: Preço Fábrica 2015 | N12: Preço Máx. Consumidor 2015
H13: 0 | I13: 0.12 | J13: 0.17 | K13: 0.18 | L13: 0.19 | M13: 17% (ZF) | N13: 0 | O13: 0.12 | P13: 0.17 | Q13: 0.18 | R13: 0.19 | S13: 17% (ZF)
A14: Lista Positiva
A15: 501612090014903 | B15: 7896637024426 | C15: 2442 | D15: ALOIS** | E15: 10 MG CX. C/15 COMP. REVEST. | F15: 3004.90.39 | G15: 5 | H15: 0 | I15: 25.64 | J15: 27.19 | K15: 27.52 | L15: 27.86 | M15: 27.19 | N15: 0 | O15: 35.45 | P15: 37.59 | Q15: 38.04 | R15: 38.51 | S15: 37.59 | T15: =IFERROR(VLOOKUP(B15,'TABELA 2026'!$C:$C,1,0),"DESCONTINUADO") -> DESCONTINUADO
A16: 501603901115319 | B16: 7896637023375 | C16: 2337 | D16: ALOIS** | E16: 10 MG CX. C/30 COMP. REVEST. | F16: 3004.90.39 | G16: 5 | H16: 0 | I16: 52 | J16: 55.14 | K16: 55.81 | L16: 56.49 | M16: 55.14 | N16: 0 | O16: 71.89 | P16: 76.22 | Q16: 77.15 | R16: 78.1 | S16: 76.22 | T16: =IFERROR(VLOOKUP(B16,'TABELA 2026'!$C:$C,1,0),"DESCONTINUADO") -> 7896637023375
A17: 501612110015003 | B17: 7896637025218 | C17: 2521 | D17: ALOIS** | E17: 10 MG CX. C/50 COMP. REVEST. | F17: 3004.90.39 | G17: 5 | I17: 52.13 | J17: 55.27 | K17: 55.95 | L17: 56.63 | M17: 55.27 | O17: 72.06 | P17: 76.4 | Q17: 77.34 | R17: 78.28 | S17: 76.4 | T17: =IFERROR(VLOOKUP(B17,'TABELA 2026'!$C:$C,1,0),"DESCONTINUADO") -> 7896637025218
A18: 501603902111414 | B18: 7896637024402 | C18: 2440 | D18: ALOIS** | E18: 10 MG CX. C/60 COMP. REVEST. | F18: 3004.90.39 | G18: 5 | I18: 102.99 | J18: 109.2 | K18: 110.52 | L18: 111.88 | M18: 109.2 | O18: 142.36 | P18: 150.95 | Q18: 152.78 | R18: 154.66 | S18: 150.95 | T18: =IFERROR(VLOOKUP(B18,'TABELA 2026'!$C:$C,1,0),"DESCONTINUADO") -> 7896637024402
A19: 501612110015103 | B19: 7896637025553 | C19: 2555 | D19: ALOIS** | E19: 10 MG CX. C/120 COMP. REVEST. | F19: 3004.90.39 | G19: 5 | I19: 122.47 | J19: 129.86 | K19: 131.44 | L19: 133.05 | M19: 129.86 | O19: 169.29 | P19: 179.51 | Q19: 181.69 | R19: 183.92 | S19: 179.51 | T19: =IFERROR(VLOOKUP(B19,'TABELA 2026'!$C:$C,1,0),"DESCONTINUADO") -> 7896637025553
B20: 7896637024525 | C20: 2452 | D20: ALOIS**
A21: 501604901119312 | B21: 7896637018012 | C21: 1801 | D21: ARTANE*** | E21: 2 MG CX. C/30 COMP. | F21: 3004.90.69 | G21: 5 | H21: 0 | I21: 6.42 | J21: 6.81 | K21: 6.89 | L21: 6.97 | M21: 6.81 | N21: 0 | O21: 8.87 | P21: 9.41 | Q21: 9.52 | R21: 9.64 | S21: 9.41 | T21: =IFERROR(VLOOKUP(B21,'TABELA 2026'!$C:$C,1,0),"DESCONTINUADO") -> 7896637018012
A22: 501604902115310 | B22: 7896637018029 | C22: 1802 | D22: ARTANE*** | E22: 5 MG CX. C/30 COMP. | F22: 3004.90.69 | G22: 5 | H22: 0 | I22: 7.5 | J22: 7.96 | K22: 8.05 | L22: 8.15 | M22: 7.96 | N22: 0 | O22: 10.37 | P22: 11 | Q22: 11.13 | R22: 11.27 | S22: 11 | T22: =IFERROR(VLOOKUP(B22,'TABELA 2026'!$C:$C,1,0),"DESCONTINUADO") -> 7896637018029
A23: 501600101118319 | B23: 7896637022729 | C23: 2272 | D23: AZULFIN | E23: CX. C/60 COMP. REVEST. GASTRO-RESISTENTES | F23: 3004.90.79 | G23: 5 | H23: 0 | I23: 54.57 | J23: 57.87 | K23: 58.57 | L23: 59.29 | M23: 57.87 | N23: 0 | O23: 75.44 | P23: 79.99 | Q23: 80.96 | R23: 81.96 | S23: 79.99 | T23: =IFERROR(VLOOKUP(B23,'TABELA 2026'!$C:$C,1,0),"DESCONTINUADO") -> 7896637022729
A24: 501600304116310 | B24: 7896637024358 | C24: 2435 | D24: COLCHIS | E24: 0,5 MG CX. C/30 COMP. | F24: 3004.90.99 | G24: 5 | H24: 0 | I24: 32.07 | J24: 34 | K24: 34.42 | L24: 34.84 | M24: 34 | N24: 0 | O24: 44.33 | P24: 47 | Q24: 47.57 | R24: 48.16 | S24: 47 | T24: =IFERROR(VLOOKUP(B24,'TABELA 2026'!$C:$C,1,0),"DESCONTINUADO") -> 7896637024358
A25: 501600303111315 | B25: 7896637024365 | C25: 2436 | D25: COLCHIS | E25: 1 MG CX. C/30 COMP. | F25: 3004.90.99 | G25: 5 | H25: 0 | I25: 37.29 | J25: 39.54 | K25: 40.02 | L25: 40.51 | M25: 39.54 | N25: 0 | O25: 51.55 | P25: 54.66 | Q25: 55.32 | R25: 56 | S25: 54.66 | T25: =IFERROR(VLOOKUP(B25,'TABELA 2026'!$C:$C,1,0),"DESCONTINUADO") -> 7896637024365
A26: 501600401111311 | B26: 7896637022033 | C26: 2203 | D26: DESTILBENOL | E26: 1 MG CX. C/50 COMP. REVEST. | F26: 3004.90.95 | G26: 5 | H26: 22.11 | I26: 25.13 | J26: 26.64 | K26: 26.96 | L26: 27.3 | M26: 26.64 | N26: 0 | O26: 34.73 | P26: 36.83 | Q26: 37.27 | R26: 37.73 | S26: 36.83 | T26: =IFERROR(VLOOKUP(B26,'TABELA 2026'!$C:$C,1,0),"DESCONTINUADO") -> DESCONTINUADO
A27: 501612070014703 | B27: 7896637023634 | C27: 2363 | D27: DONAREN** | E27: 50 MG CX. C/20 COMP. REVEST. | F27: 3004.90.69 | G27: 5 | H27: 0 | I27: 16.04 | J27: 17 | K27: 17.21 | L27: 17.42 | M27: 17 | N27: 0 | O27: 22.17 | P27: 23.5 | Q27: 23.79 | R27: 24.08 | S27: 23.5 | T27: =IFERROR(VLOOKUP(B27,'TABELA 2026'!$C:$C,1,0),"DESCONTINUADO") -> DESCONTINUADO
A28: 501600601110317 | B28: 7896637022767 | C28: 2276 | D28: DONAREN** | E28: 50 MG CX. C/60 COMP. REVEST. | F28: 3004.90.69 | G28: 5 | H28: 0 | I28: 48.1 | J28: 51 | K28: 51.62 | L28: 52.26 | M28: 51 | N28: 0 | O28: 66.49 | P28: 70.5 | Q28: 71.36 | R28: 72.24 | S28: 70.5 | T28: =IFERROR(VLOOKUP(B28,'TABELA 2026'!$C:$C,1,0),"DESCONTINUADO") -> 7896637022767
A29: 501600603113313 | B29: 7896637023979 | C29: 2397 | D29: DONAREN** | E29: 100 MG CX. C/30 COMP. REVEST. | F29: 3004.90.69 | G29: 5 | H29: 0 | I29: 48.09 | J29: 50.99 | K29: 51.61 | L29: 52.24 | M29: 50.99 | N29: 0 | O29: 66.48 | P29: 70.49 | Q29: 71.34 | R29: 72.22 | S29: 70.49 | T29: =IFERROR(VLOOKUP(B29,'TABELA 2026'!$C:$C,1,0),"DESCONTINUADO") -> 7896637023979
A30: 501604701111318 | B30: 7896637023603 | C30: 2360 | D30: DONAREN RETARD** | E30: 150 MG RETARD CX. C/10 COMP. REVEST. | F30: 3004.90.69 | G30: 5 | H30: 0 | I30: 22.66 | J30: 24.03 | K30: 24.32 | L30: 24.62 | M30: 24.03 | N30: 0 | O30: 31.32 | P30: 33.21 | Q30: 33.62 | R30: 34.03 | S30: 33.21 | T30: =IFERROR(VLOOKUP(B30,'TABELA 2026'!$C:$C,1,0),"DESCONTINUADO") -> DESCONTINUADO
A31: 501604702116313 | B31: 7896637023610 | C31: 2361 | D31: DONAREN RETARD** | E31: 150 MG RETARD CX. C/20 COMP. REVEST. | F31: 3004.90.69 | G31: 5 | H31: 0 | I31: 48.1 | J31: 51 | K31: 51.62 | L31: 52.26 | M31: 51 | N31: 0 | O31: 66.49 | P31: 70.5 | Q31: 71.36 | R31: 72.24 | S31: 70.5 | T31: =IFERROR(VLOOKUP(B31,'TABELA 2026'!$C:$C,1,0),"DESCONTINUADO") -> DESCONTINUADO
A32: 501604301138413 | B32: 7896637022583 | C32: 2258 | D32: ETOXIN** | E32: 50 MG/ML XAROPE - FRASCO 120ML | F32: 3004.90.49 | G32: 5 | H32: 0 | I32: 30.52 | J32: 32.36 | K32: 32.75 | L32: 33.15 | M32: 32.36 | N32: 0 | O32: 42.19 | P32: 44.73 | Q32: 45.28 | R32: 45.83 | S32: 44.73 | T32: =IFERROR(VLOOKUP(B32,'TABELA 2026'!$C:$C,1,0),"DESCONTINUADO") -> 7896637022583
... A51: 501603104118411 | B51: 7896637023849 | C51: 2384 | D51: UNOPROST | E51: 4 MG CX. C/30 COMP. | F51: 3004.90.79 | G51: 5 | H51: 0 | I51: 76.69 | J51: 81.32 | K51: 82.3 | L51: 83.32 | M51: 81.32 | N51: 0 | O51: 106.01 | P51: 112.41 | Q51: 113.77 | R51: 115.17 | S51: 112.41 | T51: =IFERROR(VLOOKUP(B51,'TABELA 2026'!$C:$C,1,0),"DESCONTINUADO") -> 7896637023849
A52: Lista Negativa | T52: =IFERROR(VLOOKUP(B52,'TABELA 2026'!$C:$C,1,0),"DESCONTINUADO") -> DESCONTINUADO
A53: 501605103119313 | B53: 7896637025393 | C53: 2539 | D53: DOBEVEN | E53: 500MG CX C/5 CAPSULAS | F53: 3004.90.99 | G53: 5 | H53: 0 | I53: 6.99 | J53: 7.48 | K53: 7.583 | L53: 7.695 | M53: 6.49 | N53: 0 | O53: 9.32 | P53: 9.955 | Q53: 10.09 | R53: 10.225 | S53: 8.97 | T53: =IFERROR(VLOOKUP(B53,'TABELA 2026'!$C:$C,1,0),"DESCONTINUADO") -> DESCONTINUADO
A54: 501605105111311 | B54: 7896637025423 | C54: 2542 | D54: DOBEVEN | E54: 500MG CX C/30 CAPSULAS | F54: 3004.90.99 | G54: 5 | H54: 0 | I54: 41.96 | J54: 44.87 | K54: 45.518 | L54: 46.17 | M54: 38.99 | N54: 0 | O54: 55.95 | P54: 59.71 | Q54: 60.54 | R54: 61.37 | S54: 53.91 | T54: =IFERROR(VLOOKUP(B54,'TABELA 2026'!$C:$C,1,0),"DESCONTINUADO") -> DESCONTINUADO
A55: 501601101111312 | B55: 7896637022316 | C55: 2231 | D55: INIBINA | E55: 10 MG CX. C/20 COMP. | F55: 3004.90.39 | G55: 5 | H55: 0 | I55: 50.09 | J55: 53.59 | K55: 54.35 | L55: 55.13 | M55: 46.55 | N55: 0 | O55: 66.8 | P55: 71.31 | Q55: 72.28 | R55: 73.28 | S55: 64.35 | T55: =IFERROR(VLOOKUP(B55,'TABELA 2026'!$C:$C,1,0),"DESCONTINUADO") -> 7896637022316
A56: 501601102150311 | B56: 7896637022330 | C56: 2233 | D56: INIBINA | E56: 10 MG 2 ML CX. C/ 5 AMPOLAS | F56: 3004.90.39 | G56: 5 | H56: 0 | I56: 48.31 | J56: 51.68 | K56: 52.42 | L56: 53.17 | M56: 44.89 | N56: 0 | O56: 64.42 | P56: 68.77 | Q56: 69.71 | R56: 70.68 | S56: 62.06 | T56: =IFERROR(VLOOKUP(B56,'TABELA 2026'!$C:$C,1,0),"DESCONTINUADO") -> 7896637022330
A57: 501601103157311 | B57: 7896637022354 | C57: 2235 | D57: INIBINA | E57: 10 MG 2 ML CX. C/ 25 AMPOLAS | F57: 3004.90.39 | G57: 5 | H57: 0 | I57: 238.85 | J57: 255.51 | K57: 259.14 | L57: 262.87 | M57: 221.95 | N57: 0 | O57: 318.51 | P57: 340 | Q57: 344.65 | R57: 349.42 | S57: 306.82 | T57: =IFERROR(VLOOKUP(B57,'TABELA 2026'!$C:$C,1,0),"DESCONTINUADO") -> 7896637022354
A58: 501612080014803 | B58: 7896637024020 | C58: 2402 | D58: INIBINA | E58: 10 MG CX. C/30 COMP. | F58: 3004.90.39 | G58: 5 | H58: 0 | I58: 71.38 | J58: 76.36 | K58: 77.45 | L58: 78.56 | M58: 66.33 | N58: 0 | O58: 95.19 | P58: 101.62 | Q58: 103 | R58: 104.43 | S58: 91.7 | T58: =IFERROR(VLOOKUP(B58,'TABELA 2026'!$C:$C,1,0),"DESCONTINUADO") -> 7896637024020
A59: 501601201116413 | B59: 7896637022903 | C59: 2290 | D59: LABIRIN | E59: 16 MG CX. C/30 COMP. | F59: 3004.90.69 | G59: 5 | H59: 0 | I59: 19.73 | J59: 21.11 | K59: 21.41 | L59: 21.72 | M59: 18.34 | N59: 0 | O59: 26.31 | P59: 28.09 | Q59: 28.47 | R59: 28.87 | S59: 25.35 | T59: =IFERROR(VLOOKUP(B59,'TABELA 2026'!$C:$C,1,0),"DESCONTINUADO") -> DESCONTINUADO
A60: 501601205111319 | B60: 7896637023771 | C60: 2377 | D60: LABIRIN | E60: 24 MG CX. C/30 COMP. | F60: 3004.90.69 | G60: 5 | H60: 0 | I60: 26.42 | J60: 28.26 | K60: 28.67 | L60: 29.08 | M60: 24.55 | N60: 0 | O60: 35.23 | P60: 37.61 | Q60: 38.12 | R60: 38.65 | S60: 33.94 | T60: =IFERROR(VLOOKUP(B60,'TABELA 2026'!$C:$C,1,0),"DESCONTINUADO") -> DESCONTINUADO
A61: 501601202112411 | B61: 7896637022897 | C61: 2289 | D61: LABIRIN | E61: 8 MG CX. C/30 COMP. | F61: 3004.90.69 | G61: 5 | H61: 0 | I61: 16.35 | J61: 17.49 | K61: 17.74 | L61: 17.99 | M61: 15.19 | N61: 0 | O61: 21.8 | P61: 23.27 | Q61: 23.59 | R61: 23.91 | S61: 21 | T61: =IFERROR(VLOOKUP(B61,'TABELA 2026'!$C:$C,1,0),"DESCONTINUADO") -> DESCONTINUADO
...

Sheet TABELA 2026
F2: EM VIGOR VIGOR A PARTIR DE:
F3: 46113
F8: ICMS 12% Genérico SP-MG | H8: ICMS 17% ES, DF, MT, MS, SC, RS | J8: ICMS 18% AP, MG, SP | L8: ICMS 19% AC, PA, SE, GO | N8: ICMS 19,5% PR, RO | P8: ICMS 20% AM, CE, PB, RN, RR, TO | R8: ICMS 20,5% AL, BA, PE | T8: ICMS 22% RJ | V8: ICMS 22,5% PI | X8: ICMS 23% MA | Z8: ICMS 17% ALC | AB8: ICMS 18% ALC | AD8: ICMS 19% ALC | AF8: ICMS 19,5% ALC | AH8: ICMS 20% ALC | AJ8: ICMS 0% Isenção de ICMS convênio 162/94
A9: CÓD APSEN | B9: CONCENTRAÇÃO(ÕES) FARMACOLÓGICA(S) E APRESENTAÇÃO | C9: EAN | D9: LCCT | E9: NCM | F9: PF | G9: PMC | H9: PF | I9: PMC | J9: PF | K9: PMC | L9: PF | M9: PMC | N9: PF | O9: PMC | P9: PF | Q9: PMC | R9: PF | S9: PMC | T9: PF | U9: PMC | V9: PF | W9: PMC | X9: PF | Y9: PMC | Z9: PF | AA9: PMC | AB9: PF | AC9: PMC | AD9: PF | AE9: PMC | AF9: PF | AG9: PMC | AH9: PF | AI9: PMC | AJ9: PF | AK9: PMC
B10: ADEQUA
A11: 3801 | B11: ADEQUA 1000MG CX C/30 SACHES OR | C11: 7896637038010 | D11: NEUTRA | E11: 2106.90.30 | F11: 134.95 | G11: 226.21882 | H11: 134.95 | I11: 226.21882 | J11: 134.95 | K11: 226.21882 | L11: 134.95 | M11: 226.21882 | N11: 134.95 | O11: 226.21882 | P11: 134.95 | Q11: 226.21882 | R11: 134.95 | S11: 226.21882 | T11: 134.95 | U11: 226.21882 | V11: 134.95 | W11: 226.21882 | X11: 134.95 | Y11: 226.21882 | Z11: 134.95 | AA11: 226.21882 | AB11: 134.95 | AC11: 226.21882 | AD11: 134.95 | AE11: 226.21882 | AF11: 134.95 | AG11: 226.21882 | AH11: 134.95 | AI11: 226.21882 | AJ11: 134.95 | AK11: 226.21882
B12: ALOIS
A13: 3121 | B13: ALOIS 20MG CX C/30 CP REV (C1) | C13: 7896637031219 | D13: POSITIVA | E13: 3004.90.39 | F13: 146.09 | G13: 201.37 | H13: 154.89 | I13: 213.5 | J13: 156.78 | K13: 216.1 | L13: 158.72 | M13: 218.78 | N13: 159.71 | O13: 220.14 | P13: 160.7 | Q13: 221.51 | R13: 161.71 | S13: 222.9 | T13: 164.82 | U13: 227.19 | V13: 165.89 | W13: 228.66 | X13: 166.96 | Y13: 230.14 | Z13: 153.04 | AA13: 211.57 | AB13: 154.9 | AC13: 214.14 | AD13: 156.81 | AE13: 216.78 | AF13: 157.79 | AG13: 218.14 | AH13: 158.78 | AI13: 219.5 | AJ13: 128.56 | AK13: 177.21
A14: 2555 | B14: ALOIS 10MG CX C/120 CP REV (C1) | C14: 7896637025553 | D14: POSITIVA | E14: 3004.90.39 | F14: 216.36 | G14: 298.23 | H14: 229.39 | I14: 316.19 | J14: 232.19 | K14: 320.05 | L14: 235.06 | M14: 324.01 | N14: 236.52 | O14: 326.02 | P14: 237.99 | Q14: 328.04 | R14: 239.49 | S14: 330.11 | T14: 244.1 | U14: 336.47 | V14: 245.67 | W14: 338.63 | X14: 247.27 | Y14: 340.84 | Z14: 226.64 | AA14: 313.32 | AB14: 229.4 | AC14: 317.13 | AD14: 232.23 | AE14: 321.04 | AF14: 233.68 | AG14: 323.05 | AH14: 235.14 | AI14: 325.07 | AJ14: 190.4 | AK14: 262.45
A15: 2337 | B15: ALOIS 10MG CX C/30 CP REV (C1) | C15: 7896637023375 | D15: POSITIVA | E15: 3004.90.39 | F15: 95.99 | G15: 132.31 | H15: 101.78 | I15: 140.29 | J15: 103.02 | K15: 142 | L15: 104.29 | M15: 143.75 | N15: 104.94 | O15: 144.65 | P15: 105.59 | Q15: 145.54 | R15: 106.26 | S15: 146.47 | T15: 108.3 | U15: 149.28 | V15: 109 | W15: 150.25 | X15: 109.71 | Y15: 151.22 | Z15: 100.55 | AA15: 139 | AB15: 101.78 | AC15: 140.7 | AD15: 103.04 | AE15: 142.45 | AF15: 103.68 | AG15: 143.33 | AH15: 104.33 | AI15: 144.23 | AJ15: 84.48 | AK15: 116.45
A16: 2521 | B16: ALOIS 10MG CX C/50 CP REV (C1) | C16: 7896637025218 | D16: POSITIVA | E16: 3004.90.39 | F16: 96.25 | G16: 132.67 | H16: 102.04 | I16: 140.65 | J16: 103.29 | K16: 142.37 | L16: 104.56 | M16: 144.13 | N16: 105.21 | O16: 145.02 | P16: 105.87 | Q16: 145.93 | R16: 106.54 | S16: 146.85 | T16: 108.59 | U16: 149.68 | V16: 109.29 | W16: 150.64 | X16: 110 | Y16: 151.62 | Z16: 100.82 | AA16: 139.38 | AB16: 102.05 | AC16: 141.08 | AD16: 103.31 | AE16: 142.82 | AF16: 103.95 | AG16: 143.7 | AH16: 104.6 | AI16: 144.6 | AJ16: 84.69 | AK16: 116.74
A17: 2440 | B17: ALOIS 10MG CX C/60 CP REV (C1) | C17: 7896637024402 | D17: POSITIVA | E17: 3004.90.39 | F17: 190.12 | G17: 262.06 | H17: 201.58 | I17: 277.86 | J17: 204.03 | K17: 281.23 | L17: 206.55 | M17: 284.71 | N17: 207.84 | O17: 286.49 | P17: 209.13 | Q17: 288.26 | R17: 210.45 | S17: 290.08 | T17: 214.5 | U17: 295.67 | V17: 215.88 | W17: 297.57 | X17: 217.28 | Y17: 299.5 | Z17: 199.16 | AA17: 275.33 | AB17: 201.59 | AC17: 278.69 | AD17: 204.07 | AE17: 282.11 | AF17: 205.34 | AG17: 283.87 | AH17: 206.63 | AI17: 285.65 | AJ17: 167.31 | AK17: 230.62
A18: 3208 | B18: ALOIS DUO 10+10MG CX C/ 7 | C18: 7896637032087 | D18: NEGATIVA | E18: 3004.90.39 | F18: 32.35 | G18: 43.4 | H18: 34.3 | I18: 46.01 | J18: 34.72 | K18: 46.58 | L18: 35.15 | M18: 47.15 | N18: 35.37 | O18: 47.45 | P18: 35.59 | Q18: 47.74 | R18: 35.81 | S18: 48.04 | T18: 36.5 | U18: 48.96 | V18: 36.74 | W18: 49.29 | X18: 36.97 | Y18: 49.59 | Z18: 30.63 | AA18: 42.34 | AB18: 31 | AC18: 42.86 | AD18: 31.38 | AE18: 43.38 | AF18: 31.58 | AG18: 43.66 | AH18: 31.77 | AI18: 43.92 | AJ18: 28.47 | AK18: 38.19
A19: 3179 | B19: ALOIS DUO 10+15MG CX C/ 7 | C19: 7896637031790 | D19: NEGATIVA | E19: 3004.90.39 | F19: 37.86 | G19: 50.79 | H19: 40.14 | I19: 53.85 | J19: 40.63 | K19: 54.5 | L19: 41.14 | M19: 55.19 | N19: 41.39 | O19: 55.52 | P19: 41.65 | Q19: 55.87 | R19: 41.91 | S19: 56.22 | T19: 42.72 | U19: 57.31 | V19: 42.99 | W19: 57.67 | X19: 43.27 | Y19: 58.05 | Z19: 35.84 | AA19: 49.55 | AB19: 36.28 | AC19: 50.15 | AD19: 36.73 | AE19: 50.78 | AF19: 36.96 | AG19: 51.1 | AH19: 37.19 | AI19: 51.41 | AJ19: 33.32 | AK19: 44.7
A20: 3177 | B20: ALOIS DUO 10+20MG CX C/ 30 | C20: 7896637031776 | D20: NEGATIVA | E20: 3004.90.39 | F20: 164.97 | G20: 221.3 | H20: 174.9 | I20: 234.62 | J20: 177.04 | K20: 237.49 | L20: 179.22 | M20: 240.42 | N20: 180.34 | O20: 241.92 | P20: 181.46 | Q20: 243.42 | R20: 182.6 | S20: 244.95 | T20: 186.12 | U20: 249.67 | V20: 187.32 | W20: 251.28 | X20: 188.53 | Y20: 252.91 | Z20: 156.16 | AA20: 215.88 | AB20: 158.07 | AC20: 218.52 | AD20: 160.02 | AE20: 221.22 | AF20: 161.01 | AG20: 222.59 | AH20: 162.02 | AI20: 223.98 | AJ20: 145.17 | AK20: 194.74
A21: 3180 | B21: ALOIS DUO 10+5MG CX C/ 7 | C21: 7896637031806 | D21: NEGATIVA | E21: 3004.90.39 | F21: 26.91 | G21: 36.1 | H21: 28.53 | I21: 38.27 | J21: 28.88 | K21: 38.74 | L21: 29.23 | M21: 39.21 | N21: 29.42 | O21: 39.47 | P21: 29.6 | Q21: 39.71 | R21: 29.79 | S21: 39.96 | T21: 30.36 | U21: 40.73 | V21: 30.55 | W21: 40.98 | X21: 30.75 | Y21: 41.25 | Z21: 25.47 | AA21: 35.21 | AB21: 25.78 | AC21: 35.64 | AD21: 26.1 | AE21: 36.08 | AF21: 26.26 | AG21: 36.3 | AH21: 26.43 | AI21: 36.54 | AJ21: 23.68 | AK21: 31.77
A22: 2452 | B22: ALOIS GOTAS 10 MG FR 50 ML | C22: 7896637024525 | D22: POSITIVA | E22: 3004.90.39 | F22: 150.48 | G22: 207.42 | H22: 159.54 | I22: 219.91 | J22: 161.49 | K22: 222.6 | L22: 163.48 | M22: 225.34 | N22: 164.5 | O22: 226.75 | P22: 165.52 | Q22: 228.15 | R22: 166.56 | S22: 229.59 | T22: 169.77 | U22: 234.01 | V22: 170.86 | W22: 235.51 | X22: 171.97 | Y22: 237.04 | Z22: 157.63 | AA22: 217.91 | AB22: 159.55 | AC22: 220.57 | AD22: 161.52 | AE22: 223.29 | AF22: 162.52 | AG22: 224.67 | AH22: 163.54 | AI22: 226.08 | AJ22: 132.42 | AK22: 182.53
A23: 3385 | B23: ALOIS DUO PACK C/ 28 CP REV OR | C23: 7896637033855 | D23: NEGATIVA | E23: 3004.90.39 | F23: 83.98 | G23: 112.66 | H23: 89.04 | I23: 119.44 | J23: 90.12 | K23: 120.89 | L23: 91.23 | M23: 122.38 | N23: 91.8 | O23: 123.15 | P23: 92.38 | Q23: 123.92 | R23: 92.96 | S23: 124.7 | T23: 94.74 | U23: 127.09 | V23: 95.35 | W23: 127.91 | X23: 95.97 | Y23: 128.74 | Z23: 79.5 | AA23: 109.9 | AB23: 80.47 | AC23: 111.25 | AD23: 81.46 | AE23: 112.61 | AF23: 81.97 | AG23: 113.32 | AH23: 82.48 | AI23: 114.02 | AJ23: 73.9 | AK23: 99.13
B24: ARPADOL
A25: 3358 | B25: ARPADOL 400MG CX C/30 CP REV | C25: 7896637033589 | D25: NEGATIVA | E25: 3004.90.99 | F25: 84.14 | G25: 112.87 | H25: 89.2 | I25: 119.66 | J25: 90.29 | K25: 121.12 | L25: 91.41 | M25: 122.62 | N25: 91.98 | O25: 123.39 | P25: 92.55 | Q25: 124.15 | R25: 93.13 | S25: 124.93 | T25: 94.92 | U25: 127.33 | V25: 95.54 | W25: 128.16 | X25: 96.16 | Y25: 129 | Z25: 79.65 | AA25: 110.11 | AB25: 80.62 | AC25: 111.45 | AD25: 81.61 | AE25: 112.82 | AF25: 82.12 | AG25: 113.53 | AH25: 82.63 | AI25: 114.23 | AJ25: 74.04 | AK25: 99.32
A26: 3359 | B26: ARPADOL 400MG CX C/60 CP REV | C26: 7896637033596 | D26: NEGATIVA | E26: 3004.90.99 | F26: 163.31 | G26: 219.07 | H26: 173.14 | I26: 232.26 | J26: 175.26 | K26: 235.11 | L26: 177.42 | M26: 238 | N26: 178.52 | O26: 239.48 | P26: 179.64 | Q26: 240.98 | R26: 180.77 | S26: 242.5 | T26: 184.24 | U26: 247.15 | V26: 185.43 | W26: 248.75 | X26: 186.64 | Y26: 250.37 | Z26: 154.59 | AA26: 213.71 | AB26: 156.48 | AC26: 216.32 | AD26: 158.41 | AE26: 218.99 | AF26: 159.39 | AG26: 220.35 | AH26: 160.39 | AI26: 221.73 | AJ26: 143.71 | AK26: 192.78
A27: 3758 | B27: ARPADOL 400MG CX C/60 CP REV OR VPC | C27: 7896637033596 | D27: NEGATIVA | E27: 3004.90.99 | F27: 163.31 | G27: 219.07 | H27: 173.14 | I27: 232.26 | J27: 175.26 | K27: 235.11 | L27: 177.42 | M27: 238 | N27: 178.52 | O27: 239.48 | P27: 179.64 | Q27: 240.98 | R27: 180.77 | S27: 242.5 | T27: 184.24 | U27: 247.15 | V27: 185.43 | W27: 248.75 | X27: 186.64 | Y27: 250.37 | Z27: 154.59 | AA27: 213.71 | AB27: 156.48 | AC27: 216.32 | AD27: 158.41 | AE27: 218.99 | AF27: 159.39 | AG27: 220.35 | AH27: 160.39 | AI27: 221.73 | AJ27: 143.71 | AK27: 192.78
B28: ARTANE
A29: 1801 | B29: ARTANE 2MG CX C/30 CP (B1) | C29: 7896637018012 | D29: POSITIVA | E29: 3004.90.69 | F29: 11.09 | G29: 15.29 | H29: 11.76 | I29: 16.21 | J29: 11.9 | K29: 16.4 | L29: 12.05 | M29: 16.61 | N29: 12.12 | O29: 16.71 | P29: 12.2 | Q29: 16.82 | R29: 12.27 | S29: 16.91 | T29: 12.51 | U29: 17.24 | V29: 12.59 | W29: 17.35 | X29: 12.67 | Y29: 17.46 | Z29: 11.61 | AA29: 16.05 | AB29: 11.76 | AC29: 16.26 | AD29: 11.9 | AE29: 16.45 | AF29: 11.98 | AG29: 16.56 | AH29: 12.05 | AI29: 16.66 | AJ29: 9.75 | AK29: 13.44
A30: 1802 | B30: ARTANE 5MG CX C/ 30 CP (B1) | C30: 7896637018029 | D30: POSITIVA | E30: 3004.90.69 | F30: 12.94 | G30: 17.84 | H30: 13.72 | I30: 18.91 | J30: 13.89 | K30: 19.15 | L30: 14.06 | M30: 19.38 | N30: 14.14 | O30: 19.49 | P30: 14.23 | Q30: 19.61 | R30: 14.32 | S30: 19.74 | T30: 14.6 | U30: 20.12 | V30: 14.69 | W30: 20.25 | X30: 14.79 | Y30: 20.39 | Z30: 13.55 | AA30: 18.73 | AB30: 13.72 | AC30: 18.97 | AD30: 13.89 | AE30: 19.2 | AF30: 13.98 | AG30: 19.33 | AH30: 14.06 | AI30: 19.44 | AJ30: 11.39 | AK30: 15.7
B31: ATENTAH
A32: 3394 | B32: ATENTAH 10MG CX C/30 CAPS OR | C32: 7896637033947 | D32: NEGATIVA | E32: 3004.90.39 | F32: 23.9 | G32: 32.06 | H32: 25.34 | I32: 33.99 | J32: 25.65 | K32: 34.41 | L32: 25.96 | M32: 34.82 | N32: 26.12 | O32: 35.04 | P32: 26.29 | Q32: 35.27 | R32: 26.45 | S32: 35.48 | T32: 26.96 | U32: 36.17 | V32: 27.14 | W32: 36.41 | X32: 27.31 | Y32: 36.64 | Z32: 22.62 | AA32: 31.27 | AB32: 22.9 | AC32: 31.66 | AD32: 23.18 | AE32: 32.04 | AF32: 23.33 | AG32: 32.25 | AH32: 23.47 | AI32: 32.45 | AJ32: 21.03 | AK32: 28.21
A33: 3395 | B33: ATENTAH 18MG CX C/30 CAPS OR | C33: 7896637033954 | D33: NEGATIVA | E33: 3004.90.39 | F33: 43.01 | G33: 57.7 | H33: 45.6 | I33: 61.17 | J33: 46.16 | K33: 61.92 | L33: 46.73 | M33: 62.69 | N33: 47.02 | O33: 63.08 | P33: 47.31 | Q33: 63.46 | R33: 47.61 | S33: 63.87 | T33: 48.53 | U33: 65.1 | V33: 48.84 | W33: 65.52 | X33: 49.16 | Y33: 65.95 | Z33: 40.72 | AA33: 56.29 | AB33: 41.21 | AC33: 56.97 | AD33: 41.72 | AE33: 57.68 | AF33: 41.98 | AG33: 58.03 | AH33: 42.24 | AI33: 58.39 | AJ33: 37.85 | AK33: 50.77
A34: 3396 | B34: ATENTAH 25MG CX C/30 CAPS OR | C34: 7896637033961 | D34: NEGATIVA | E34: 3004.90.39 | F34: 59.75 | G34: 80.15 | H34: 63.35 | I34: 84.98 | J34: 64.12 | K34: 86.01 | L34: 64.91 | M34: 87.07 | N34: 65.32 | O34: 87.62 | P34: 65.73 | Q34: 88.17 | R34: 66.14 | S34: 88.72 | T34: 67.41 | U34: 90.43 | V34: 67.85 | W34: 91.02 | X34: 68.29 | Y34: 91.61 | Z34: 56.56 | AA34: 78.19 | AB34: 57.25 | AC34: 79.14 | AD34: 57.96 | AE34: 80.13 | AF34: 58.32 | AG34: 80.62 | AH34: 58.68 | AI34: 81.12 | AJ34: 52.58 | AK34: 70.53
A35: 3397 | B35: ATENTAH 40MG CX C/30 CAPS OR | C35: 7896637033978 | D35: NEGATIVA | E35: 3004.90.39 | F35: 95.6 | G35: 128.24 | H35: 101.36 | I35: 135.97 | J35: 102.6 | K35: 137.63 | L35: 103.86 | M35: 139.32 | N35: 104.51 | O35: 140.2 | P35: 105.16 | Q35: 141.07 | R35: 105.82 | S35: 141.95 | T35: 107.86 | U35: 144.69 | V35: 108.55 | W35: 145.62 | X35: 109.26 | Y35: 146.57 | Z35: 90.5 | AA35: 125.11 | AB35: 91.6 | AC35: 126.63 | AD35: 92.74 | AE35: 128.21 | AF35: 93.31 | AG35: 129 | AH35: 93.9 | AI35: 129.81 | AJ35: 84.13 | AK35: 112.86
A36: 3398 | B36: ATENTAH 60MG CX C/30 CAPS OR | C36: 7896637033985 | D36: NEGATIVA | E36: 3004.90.39 | F36: 143.42 | G36: 192.39 | H36: 152.06 | I36: 203.98 | J36: 153.91 | K36: 206.46 | L36: 155.81 | M36: 209.01 | N36: 156.78 | O36: 210.31 | P36: 157.76 | Q36: 211.63 | R36: 158.75 | S36: 212.96 | T36: 161.81 | U36: 217.06 | V36: 162.85 | W36: 218.46 | X36: 163.91 | Y36: 219.88 | Z36: 135.77 | AA36: 187.69 | AB36: 137.42 | AC36: 189.98 | AD36: 139.12 | AE36: 192.33 | AF36: 139.98 | AG36: 193.51 | AH36: 140.86 | AI36: 194.73 | AJ36: 126.21 | AK36: 169.31
A37: 3399 | B37: ATENTAH 80MG CX C/30 CAPS OR | C37: 7896637033992 | D37: NEGATIVA | E37: 3004.90.39 | F37: 191.23 | G37: 256.53 | H37: 202.75 | I37: 271.98 | J37: 205.22 | K37: 275.3 | L37: 207.75 | M37: 278.69 | N37: 209.04 | O37: 280.42 | P37: 210.35 | Q37: 282.18 | R37: 211.67 | S37: 283.95 | T37: 215.74 | U37: 289.41 | V37: 217.14 | W37: 291.29 | X37: 218.55 | Y37: 293.18 | Z37: 181.02 | AA37: 250.25 | AB37: 183.23 | AC37: 253.3 | AD37: 185.49 | AE37: 256.43 | AF37: 186.65 | AG37: 258.03 | AH37: 187.81 | AI37: 259.64 | AJ37: 168.28 | AK37: 225.74
A38: 3400 | B38: ATENTAH 100MG CX C 30 CAPS OR (C1) | C38: 7896637034005 | D38: NEGATIVA | E38: 3004.90.39 | F38: 239.02 | G38: 320.64 | H38: 253.42 | I38: 339.95 | J38: 256.51 | K38: 344.1 | L38: 259.68 | M38: 348.35 | N38: 261.29 | O38: 350.51 | P38: 262.93 | Q38: 352.71 | R38: 264.58 | S38: 354.92 | T38: 269.67 | U38: 361.75 | V38: 271.41 | W38: 364.09 | X38: 273.17 | Y38: 366.45 | Z38: 226.27 | AA38: 312.81 | AB38: 229.03 | AC38: 316.62 | AD38: 231.86 | AE38: 320.53 | AF38: 233.3 | AG38: 322.52 | AH38: 234.75 | AI38: 324.53 | AJ38: 210.34 | AK38: 282.16
B39: ATTIVS
A40: 3185 | B40: ATTIVS 30 CP REV OR | C40: 7896637031851 | D40: NEUTRA | E40: 2106.90.30 | F40: 81.42 | G40: - | H40: 81.42 | I40: - | J40: 81.42 | K40: - | L40: 81.42 | M40: - | N40: 81.42 | O40: - | P40: 81.42 | Q40: - | R40: 81.42 | S40: - | T40: 81.42 | U40: - | V40: 81.42 | W40: - | X40: 81.42 | Y40: - | Z40: 81.42 | AA40: - | AB40: 81.42 | AC40: - | AD40: 81.42 | AE40: - | AF40: 81.42 | AG40: - | AH40: 81.42 | AI40: - | AJ40: 81.42 | AK40: -
A41: 3186 | B41: ATTIVS 60 CP VER OR | C41: 7896637031868 | D41: NEUTRA | E41: 2106.90.30 | F41: 142.48 | G41: - | H41: 142.48 | I41: - | J41: 142.48 | K41: - | L41: 142.48 | M41: - | N41: 142.48 | O41: - | P41: 142.48 | Q41: - | R41: 142.48 | S41: - | T41: 142.48 | U41: - | V41: 142.48 | W41: - | X41: 142.48 | Y41: - | Z41: 142.48 | AA41: - | AB41: 142.48 | AC41: - | AD41: 142.48 | AE41: - | AF41: 142.48 | AG41: - | AH41: 142.48 | AI41: - | AJ41: 142.48 | AK41: -
B42: AZULFIN
A43: 2272 | B43: AZULFIN 500MG CX C/60 CP OR | C43: 7896637022729 | D43: POSITIVA | E43: 3004.90.79 | F43: 97.76 | G43: 134.75 | H43: 103.65 | I43: 142.87 | J43: 104.92 | K43: 144.62 | L43: 106.21 | M43: 146.4 | N43: 106.87 | O43: 147.31 | P43: 107.54 | Q43: 148.23 | R43: 108.22 | S43: 149.17 | T43: 110.3 | U43: 152.04 | V43: 111.01 | W43: 153.02 | X43: 111.73 | Y43: 154.01 | Z43: 102.41 | AA43: 141.58 | AB43: 103.66 | AC43: 143.3 | AD43: 104.94 | AE43: 145.07 | AF43: 105.59 | AG43: 145.97 | AH43: 106.25 | AI43: 146.88 | AJ43: 86.03 | AK43: 118.58
A44: 3090 | B44: AZULFIN 500MG CX C/60 CP OR | C44: 7896637022729 | D44: POSITIVA | E44: 3004.90.79 | F44: 97.76 | G44: 134.75 | H44: 103.65 | I44: 142.87 | J44: 104.92 | K44: 144.62 | L44: 106.21 | M44: 146.4 | N44: 106.87 | O44: 147.31 | P44: 107.54 | Q44: 148.23 | R44: 108.22 | S44: 149.17 | T44: 110.3 | U44: 152.04 | V44: 111.01 | W44: 153.02 | X44: 111.73 | Y44: 154.01 | Z44: 102.41 | AA44: 141.58 | AB44: 103.66 | AC44: 143.3 | AD44: 104.94 | AE44: 145.07 | AF44: 105.59 | AG44: 145.97 | AH44: 106.25 | AI44: 146.88 | AJ44: 86.03 | AK44: 118.58
B45: COBI
...

Sheet PRICE
C5: lista interna estamos praticando preço menor do que o permitido
B7: CÓD | C7: CONCENTRAÇÃO(ÕES) FARMACOLÓGICA(S) E APRESENTAÇÃO | D7: EAN
B8: APSEN
B9: 2521 | C9: ALOIS 10MG CX C/50 CP REV (C1) | D9: 7896637025218
B10: 2555 | C10: ALOIS 10MG CX C/120 CP REV (C1) | D10: 7896637025553
B11: 2436 | C11: COLCHIS 1MG CX C/30 CP OR | D11: 7896637024365
B12: 2548 | C12: DOBEVEN 500MG CX C/60 CÁPSULAS | D12: 7896637025485
B13: 2907 | C13: INSIT 50 MG CX C/ 30 CAPSULAS | D13: 7896637029070 | E13: Novos que a Marisa menciona no e-mail
B14: 2911 | C14: INSIT 75 MG CX C/ 30 CAPSULAS | D14: 7896637029117 | E14: Novos que a Marisa menciona no e-mail
B15: 2915 | C15: INSIT 150 MG CX C/ 30 CAPSULAS | D15: 7896637029155 | E15: Novos que a Marisa menciona no e-mail
B16: 2379 | C16: LEVOXIN 750Mg CX C/7 CP OR | D16: 7896637023795 | E16: Novos que a Marisa menciona no e-mail
B17: 2385 | C17: LEVOXIN 750Mg CX C/5 CP OR | D17: 7896637023856 | E17: Novos que a Marisa menciona no e-mail
B18: 3000 | C18: TRATURIL 5,631G/8G CX C/1 ENV OR | D18: 7896637030007 | E18: Novos que a Marisa menciona no e-mail
B19: 3001 | C19: TRATURIL 5,631G/8G CX C/2 ENV OR | D19: 7896637030014 | E19: Novos que a Marisa menciona no e-mail
C22: Liberados
B24: CÓD | C24: CONCENTRAÇÃO(ÕES) FARMACOLÓGICA(S) E APRESENTAÇÃO | D24: EAN
B25: APSEN
B26: 1702 | C26: ARPADOL 400MG CX C/30 CP REV | D26: 7896637017022
B27: 1704 | C27: ARPADOL 400MG CX C/60 CP REV | D27: 7896637017046
B28: 2617 | C28: DESOL 10ML | D28: 7896637026178
B29: 2618 | C29: DESOL 20ML | D29: 7896637026185
B30: 2622 | C30: DIGELIV 400 ALU CX C/30 SACHES | D30: 7896637026222
B31: 2831 | C31: EXTIMA CX C/30 SACHES OR | D31: 7896637028318
B32: 3087 | C32: EXTIMA LATA C/600G | D32: 7896637030878
B33: 1717 | C33: FITOSCAR 20G OR | D33: 7896637017176
B34: 1719 | C34: FITOSCAR 50G | D34: 7896637017190
B35: 2650 | C35: FOLINE HAIR CX C/ 60 CAP | D35: 7896637026505
B36: 2629 | C36: LACTOSIL 4.000 ALU CX C/30 SACHES | D36: 7896637026291
B37: 2630 | C37: LACTOSIL 10.000 ALU CX C/30 SACHES | D37: 7896637026307
... B48: 3082 | C48: VELUS MAG CX C/30 CP OR | D48: 7896637030823

Sheet Aliquota
B2: ICMS no Acre – 17% | C2: PF AC | D2: 0.17
B3: ICMS em Alagoas – 17% | C3: PF AL | D3: 0.17
B4: ICMS no Amazonas – 18% | C4: PF AM | D4: 0.18
B5: ICMS no Amapá – 18% | C5: PF AP | D5: 0.18
B6: ICMS na Bahia – 18% | C6: PF BA | D6: 0.18
B7: ICMS no Ceará – 18% | C7: PF CE | D7: 0.18
B8: ICMS no Distrito Federal – 18% | C8: PF DF | D8: 0.17
B9: ICMS no Espírito Santo – 17% | C9: PF ES | D9: 0.17
B10: ICMS em Goiás -17% | C10: PF GO | D10: 0.17
B11: ICMS no Maranhão – 18% | C11: PF MA | D11: 0.18
B12: ICMS no Mato Grosso – 17% | C12: PF MT | D12: 0.17
B13: ICMS no Mato Grosso do Sul – 17% | C13: PF MS | D13: 0.17
... B28: ICMS no Tocantins – 18% | C28: PF TO | D28: 0.18

Sheet BASE RESUMIDA (2)
L3: Lista de preços 2018 - em vigor a partir de 01/04/18
A9: CÓD APSEN | B9: CONCENTRAÇÃO(ÕES) FARMACOLÓGICA(S) E APRESENTAÇÃO | C9: EAN | D9: LCCT | E9: NCM | F9: ICMS 20% RJ | H9: ICMS 18% AM, AP, BA, MA, PB, PE, RN, RS, SE, TO, MG, SP, CE, PR, PI | J9: ICMS 17% AC, AL, DF, ES, GO, MT, MS, PA, RR, SC | L9: ICMS 12% Genérico SP-MG | N9: ICMS 17,5% Rondônia
F10: PF | G10: PMC | H10: PF | I10: PMC | J10: PF | K10: PMC | L10: PF | M10: PMC | N10: PF | O10: PMC
B11: ALOIS
A12: 2337 | B12: ALOIS 10MG CX C/30 CP REV (C1) | C12: 7896637023375 | D12: P | E12: 3004.90.39 | F12: =VLOOKUP($A12,#REF!,#REF!,0) -> #REF! | G12: =VLOOKUP($A12,#REF!,#REF!,0) -> #REF! | H12: =VLOOKUP($A12,#REF!,#REF!,0) -> #REF! | I12: =VLOOKUP($A12,#REF!,#REF!,0) -> #REF! | J12: =VLOOKUP($A12,#REF!,#REF!,0) -> #REF! | K12: =VLOOKUP($A12,#REF!,#REF!,0) -> #REF! | L12: =VLOOKUP($A12,#REF!,#REF!,0) -> #REF! | M12: =VLOOKUP($A12,#REF!,#REF!,0) -> #REF! | ... O12: =VLOOKUP($A12,#REF!,#REF!,0) -> #REF!
A13: 2440 | B13: ALOIS 10MG CX C/60 CP REV (C1) | C13: 7896637024402 | D13: P | E13: 3004.90.39 | F13: =VLOOKUP($A13,#REF!,#REF!,0) -> #REF! | G13: =VLOOKUP($A13,#REF!,#REF!,0) -> #REF! | H13: =VLOOKUP($A13,#REF!,#REF!,0) -> #REF! | I13: =VLOOKUP($A13,#REF!,#REF!,0) -> #REF! | J13: =VLOOKUP($A13,#REF!,#REF!,0) -> #REF! | K13: =VLOOKUP($A13,#REF!,#REF!,0) -> #REF! | L13: =VLOOKUP($A13,#REF!,#REF!,0) -> #REF! | M13: =VLOOKUP($A13,#REF!,#REF!,0) -> #REF! | ... O13: =VLOOKUP($A13,#REF!,#REF!,0) -> #REF!
A14: 2521 | B14: ALOIS 10MG CX C/50 CP REV (C1) | C14: 7896637025218 | D14: P | E14: 3004.90.39 | F14: =VLOOKUP($A14,#REF!,#REF!,0) -> #REF! | G14: =VLOOKUP($A14,#REF!,#REF!,0) -> #REF! | H14: =VLOOKUP($A14,#REF!,#REF!,0) -> #REF! | I14: =VLOOKUP($A14,#REF!,#REF!,0) -> #REF! | J14: =VLOOKUP($A14,#REF!,#REF!,0) -> #REF! | K14: =VLOOKUP($A14,#REF!,#REF!,0) -> #REF! | L14: =VLOOKUP($A14,#REF!,#REF!,0) -> #REF! | M14: =VLOOKUP($A14,#REF!,#REF!,0) -> #REF! | ... O14: =VLOOKUP($A14,#REF!,#REF!,0) -> #REF!
A15: 2555 | B15: ALOIS 10MG CX C/120 CP REV (C1) | C15: 7896637025553 | D15: P | E15: 3004.90.39 | F15: =VLOOKUP($A15,#REF!,#REF!,0) -> #REF! | G15: =VLOOKUP($A15,#REF!,#REF!,0) -> #REF! | H15: =VLOOKUP($A15,#REF!,#REF!,0) -> #REF! | I15: =VLOOKUP($A15,#REF!,#REF!,0) -> #REF! | J15: =VLOOKUP($A15,#REF!,#REF!,0) -> #REF! | K15: =VLOOKUP($A15,#REF!,#REF!,0) -> #REF! | L15: =VLOOKUP($A15,#REF!,#REF!,0) -> #REF! | M15: =VLOOKUP($A15,#REF!,#REF!,0) -> #REF! | ... O15: =VLOOKUP($A15,#REF!,#REF!,0) -> #REF!
A16: 2452 | B16: ALOIS GOTAS 10 MG FR 50 ML | C16: 7896637024525 | D16: P | E16: 3004.90.39 | F16: =VLOOKUP($A16,#REF!,#REF!,0) -> #REF! | G16: =VLOOKUP($A16,#REF!,#REF!,0) -> #REF! | H16: =VLOOKUP($A16,#REF!,#REF!,0) -> #REF! | I16: =VLOOKUP($A16,#REF!,#REF!,0) -> #REF! | J16: =VLOOKUP($A16,#REF!,#REF!,0) -> #REF! | K16: =VLOOKUP($A16,#REF!,#REF!,0) -> #REF! | L16: =VLOOKUP($A16,#REF!,#REF!,0) -> #REF! | M16: =VLOOKUP($A16,#REF!,#REF!,0) -> #REF! | ... O16: =VLOOKUP($A16,#REF!,#REF!,0) -> #REF!
B17: ARPADOL
A18: 1702 | B18: ARPADOL 400MG CX C/30 CP VER | C18: 7896637017022 | D18: N | E18: 3004.90.99 | F18: =VLOOKUP($A18,#REF!,#REF!,0) -> #REF! | G18: =VLOOKUP($A18,#REF!,#REF!,0) -> #REF! | H18: =VLOOKUP($A18,#REF!,#REF!,0) -> #REF! | I18: =VLOOKUP($A18,#REF!,#REF!,0) -> #REF! | J18: =VLOOKUP($A18,#REF!,#REF!,0) -> #REF! | K18: =VLOOKUP($A18,#REF!,#REF!,0) -> #REF! | L18: =VLOOKUP($A18,#REF!,#REF!,0) -> #REF! | M18: =VLOOKUP($A18,#REF!,#REF!,0) -> #REF! | ... O18: =VLOOKUP($A18,#REF!,#REF!,0) -> #REF!
A19: 1704 | B19: ARPADOL 400MG CX C/60 CP VER | C19: 7896637017046 | D19: N | E19: 3004.90.99 | F19: =VLOOKUP($A19,#REF!,#REF!,0) -> #REF! | G19: =VLOOKUP($A19,#REF!,#REF!,0) -> #REF! | H19: =VLOOKUP($A19,#REF!,#REF!,0) -> #REF! | I19: =VLOOKUP($A19,#REF!,#REF!,0) -> #REF! | J19: =VLOOKUP($A19,#REF!,#REF!,0) -> #REF! | K19: =VLOOKUP($A19,#REF!,#REF!,0) -> #REF! | L19: =VLOOKUP($A19,#REF!,#REF!,0) -> #REF! | M19: =VLOOKUP($A19,#REF!,#REF!,0) -> #REF! | ... O19: =VLOOKUP($A19,#REF!,#REF!,0) -> #REF!
B20: ARTANE
A21: 1801 | B21: ARTANE 2MG CX C/30 CP (B1) | C21: 7896637018012 | D21: P | E21: 3004.90.69 | F21: =VLOOKUP($A21,#REF!,#REF!,0) -> #REF! | G21: =VLOOKUP($A21,#REF!,#REF!,0) -> #REF! | H21: =VLOOKUP($A21,#REF!,#REF!,0) -> #REF! | I21: =VLOOKUP($A21,#REF!,#REF!,0) -> #REF! | J21: =VLOOKUP($A21,#REF!,#REF!,0) -> #REF! | K21: =VLOOKUP($A21,#REF!,#REF!,0) -> #REF! | L21: =VLOOKUP($A21,#REF!,#REF!,0) -> #REF! | M21: =VLOOKUP($A21,#REF!,#REF!,0) -> #REF! | ... O21: =VLOOKUP($A21,#REF!,#REF!,0) -> #REF!
A22: 1802 | B22: ARTANE 5MG CX C/ 30 CP (B1) | C22: 7896637018029 | D22: P | E22: 3004.90.69 | F22: =VLOOKUP($A22,#REF!,#REF!,0) -> #REF! | G22: =VLOOKUP($A22,#REF!,#REF!,0) -> #REF! | H22: =VLOOKUP($A22,#REF!,#REF!,0) -> #REF! | I22: =VLOOKUP($A22,#REF!,#REF!,0) -> #REF! | J22: =VLOOKUP($A22,#REF!,#REF!,0) -> #REF! | K22: =VLOOKUP($A22,#REF!,#REF!,0) -> #REF! | L22: =VLOOKUP($A22,#REF!,#REF!,0) -> #REF! | M22: =VLOOKUP($A22,#REF!,#REF!,0) -> #REF! | ... O22: =VLOOKUP($A22,#REF!,#REF!,0) -> #REF!
B23: AZULFIN
A24: 2272 | B24: AZULFIN 500MG CX C/60 CP OR | C24: 7896637022729 | D24: P | E24: 3004.90.79 | F24: =VLOOKUP($A24,#REF!,#REF!,0) -> #REF! | G24: =VLOOKUP($A24,#REF!,#REF!,0) -> #REF! | H24: =VLOOKUP($A24,#REF!,#REF!,0) -> #REF! | I24: =VLOOKUP($A24,#REF!,#REF!,0) -> #REF! | J24: =VLOOKUP($A24,#REF!,#REF!,0) -> #REF! | K24: =VLOOKUP($A24,#REF!,#REF!,0) -> #REF! | L24: =VLOOKUP($A24,#REF!,#REF!,0) -> #REF! | M24: =VLOOKUP($A24,#REF!,#REF!,0) -> #REF! | ... O24: =VLOOKUP($A24,#REF!,#REF!,0) -> #REF!
B25: COLCHIS
A26: 2292 | B26: COLCHIS 0,5MG 20 CPR | C26: 7896637022927 | D26: P | E26: 3004.90.99 | F26: =VLOOKUP($A26,#REF!,#REF!,0) -> #REF! | G26: =VLOOKUP($A26,#REF!,#REF!,0) -> #REF! | H26: =VLOOKUP($A26,#REF!,#REF!,0) -> #REF! | I26: =VLOOKUP($A26,#REF!,#REF!,0) -> #REF! | J26: =VLOOKUP($A26,#REF!,#REF!,0) -> #REF! | K26: =VLOOKUP($A26,#REF!,#REF!,0) -> #REF! | L26: =VLOOKUP($A26,#REF!,#REF!,0) -> #REF! | M26: =VLOOKUP($A26,#REF!,#REF!,0) -> #REF! | ... O26: =VLOOKUP($A26,#REF!,#REF!,0) -> #REF!
A27: 2435 | B27: COLCHIS 0,5MG CX C/30 CPOR | C27: 7896637024358 | D27: P | E27: 3004.90.99 | F27: =VLOOKUP($A27,#REF!,#REF!,0) -> #REF! | G27: =VLOOKUP($A27,#REF!,#REF!,0) -> #REF! | H27: =VLOOKUP($A27,#REF!,#REF!,0) -> #REF! | I27: =VLOOKUP($A27,#REF!,#REF!,0) -> #REF! | J27: =VLOOKUP($A27,#REF!,#REF!,0) -> #REF! | K27: =VLOOKUP($A27,#REF!,#REF!,0) -> #REF! | L27: =VLOOKUP($A27,#REF!,#REF!,0) -> #REF! | M27: =VLOOKUP($A27,#REF!,#REF!,0) -> #REF! | ... O27: =VLOOKUP($A27,#REF!,#REF!,0) -> #REF!
A28: 2436 | B28: COLCHIS 1MG CX C/30 CP OR | C28: 7896637024365 | D28: P | E28: 3004.90.99 | F28: =VLOOKUP($A28,#REF!,#REF!,0) -> #REF! | G28: =VLOOKUP($A28,#REF!,#REF!,0) -> #REF! | H28: =VLOOKUP($A28,#REF!,#REF!,0) -> #REF! | I28: =VLOOKUP($A28,#REF!,#REF!,0) -> #REF! | J28: =VLOOKUP($A28,#REF!,#REF!,0) -> #REF! | K28: =VLOOKUP($A28,#REF!,#REF!,0) -> #REF! | L28: =VLOOKUP($A28,#REF!,#REF!,0) -> #REF! | M28: =VLOOKUP($A28,#REF!,#REF!,0) -> #REF! | ... O28: =VLOOKUP($A28,#REF!,#REF!,0) -> #REF!
B29: DESOL
A30: 2617 | B30: DESOL 10ML | C30: 7896637026178 | D30: Neutra | E30: 2106.90.30 | F30: =VLOOKUP($A30,#REF!,#REF!,0) -> #REF! | G30: =VLOOKUP($A30,#REF!,#REF!,0) -> #REF! | H30: =VLOOKUP($A30,#REF!,#REF!,0) -> #REF! | I30: =VLOOKUP($A30,#REF!,#REF!,0) -> #REF! | J30: =VLOOKUP($A30,#REF!,#REF!,0) -> #REF! | K30: =VLOOKUP($A30,#REF!,#REF!,0) -> #REF! | L30: =VLOOKUP($A30,#REF!,#REF!,0) -> #REF! | M30: =VLOOKUP($A30,#REF!,#REF!,0) -> #REF! | ... O30: =VLOOKUP($A30,#REF!,#REF!,0) -> #REF!
A31: 2618 | B31: DESOL 20ML | C31: 7896637026185 | D31: Neutra | E31: 2106.90.30 | F31: =VLOOKUP($A31,#REF!,#REF!,0) -> #REF! | G31: =VLOOKUP($A31,#REF!,#REF!,0) -> #REF! | H31: =VLOOKUP($A31,#REF!,#REF!,0) -> #REF! | I31: =VLOOKUP($A31,#REF!,#REF!,0) -> #REF! | J31: =VLOOKUP($A31,#REF!,#REF!,0) -> #REF! | K31: =VLOOKUP($A31,#REF!,#REF!,0) -> #REF! | L31: =VLOOKUP($A31,#REF!,#REF!,0) -> #REF! | M31: =VLOOKUP($A31,#REF!,#REF!,0) -> #REF! | ... O31: =VLOOKUP($A31,#REF!,#REF!,0) -> #REF!
B32: DESTILBENOL
A33: 2203 | B33: DESTILBENOL 1MG CX C/50 CP OR | C33: 7896637022033 | D33: P | E33: 3004.90.95 | F33: =VLOOKUP($A33,#REF!,#REF!,0) -> #REF! | G33: =VLOOKUP($A33,#REF!,#REF!,0) -> #REF! | H33: =VLOOKUP($A33,#REF!,#REF!,0) -> #REF! | I33: =VLOOKUP($A33,#REF!,#REF!,0) -> #REF! | J33: =VLOOKUP($A33,#REF!,#REF!,0) -> #REF! | K33: =VLOOKUP($A33,#REF!,#REF!,0) -> #REF! | L33: =VLOOKUP($A33,#REF!,#REF!,0) -> #REF! | M33: =VLOOKUP($A33,#REF!,#REF!,0) -> #REF! | ... O33: =VLOOKUP($A33,#REF!,#REF!,0) -> #REF!
B34: DIGELIV
A35: 2622 | B35: DIGELIV 400 ALU CX C/30 SACHES | C35: 7896637026222 | D35: Neutra | E35: 3507.90.49 | F35: =VLOOKUP($A35,#REF!,#REF!,0) -> #REF! | G35: =VLOOKUP($A35,#REF!,#REF!,0) -> #REF! | H35: =VLOOKUP($A35,#REF!,#REF!,0) -> #REF! | I35: =VLOOKUP($A35,#REF!,#REF!,0) -> #REF! | J35: =VLOOKUP($A35,#REF!,#REF!,0) -> #REF! | K35: =VLOOKUP($A35,#REF!,#REF!,0) -> #REF! | L35: =VLOOKUP($A35,#REF!,#REF!,0) -> #REF! | M35: =VLOOKUP($A35,#REF!,#REF!,0) -> #REF! | ... O35: =VLOOKUP($A35,#REF!,#REF!,0) -> #REF!
B36: DOBEVEN
A37: 2547 | B37: DOBEVEN 500MG CXC/30 CAP | C37: 7896637025478 | D37: N | E37: 3004.90.99 | F37: =VLOOKUP($A37,#REF!,#REF!,0) -> #REF! | G37: =VLOOKUP($A37,#REF!,#REF!,0) -> #REF! | H37: =VLOOKUP($A37,#REF!,#REF!,0) -> #REF! | I37: =VLOOKUP($A37,#REF!,#REF!,0) -> #REF! | J37: =VLOOKUP($A37,#REF!,#REF!,0) -> #REF! | K37: =VLOOKUP($A37,#REF!,#REF!,0) -> #REF! | L37: =VLOOKUP($A37,#REF!,#REF!,0) -> #REF! | M37: =VLOOKUP($A37,#REF!,#REF!,0) -> #REF! | ... O37: =VLOOKUP($A37,#REF!,#REF!,0) -> #REF!
A38: 2548 | B38: DOBEVEN 500MG CX C/60 CÁPSULAS | C38: 7896637025485 | D38: N | E38: 3004.90.99 | F38: =VLOOKUP($A38,#REF!,#REF!,0) -> #REF! | G38: =VLOOKUP($A38,#REF!,#REF!,0) -> #REF! | H38: =VLOOKUP($A38,#REF!,#REF!,0) -> #REF! | I38: =VLOOKUP($A38,#REF!,#REF!,0) -> #REF! | J38: =VLOOKUP($A38,#REF!,#REF!,0) -> #REF! | K38: =VLOOKUP($A38,#REF!,#REF!,0) -> #REF! | L38: =VLOOKUP($A38,#REF!,#REF!,0) -> #REF! | M38: =VLOOKUP($A38,#REF!,#REF!,0) -> #REF! | ... O38: =VLOOKUP($A38,#REF!,#REF!,0) -> #REF!
B39: DONAREN
A40: 2276 | B40: DONAREN 50MG CX C/60 CP OR (C1) | C40: 7896637022767 | D40: P | E40: 3004.90.69 | F40: =VLOOKUP($A40,#REF!,#REF!,0) -> #REF! | G40: =VLOOKUP($A40,#REF!,#REF!,0) -> #REF! | H40: =VLOOKUP($A40,#REF!,#REF!,0) -> #REF! | I40: =VLOOKUP($A40,#REF!,#REF!,0) -> #REF! | J40: =VLOOKUP($A40,#REF!,#REF!,0) -> #REF! | K40: =VLOOKUP($A40,#REF!,#REF!,0) -> #REF! | L40: =VLOOKUP($A40,#REF!,#REF!,0) -> #REF! | M40: =VLOOKUP($A40,#REF!,#REF!,0) -> #REF! | ... O40: =VLOOKUP($A40,#REF!,#REF!,0) -> #REF!
A41: 2397 | B41: DONAREN 100MG CX C/30CP REV (C1) | C41: 7896637023979 | D41: P | E41: 3004.90.69 | F41: =VLOOKUP($A41,#REF!,#REF!,0) -> #REF! | G41: =VLOOKUP($A41,#REF!,#REF!,0) -> #REF! | H41: =VLOOKUP($A41,#REF!,#REF!,0) -> #REF! | I41: =VLOOKUP($A41,#REF!,#REF!,0) -> #REF! | J41: =VLOOKUP($A41,#REF!,#REF!,0) -> #REF! | K41: =VLOOKUP($A41,#REF!,#REF!,0) -> #REF! | L41: =VLOOKUP($A41,#REF!,#REF!,0) -> #REF! | M41: =VLOOKUP($A41,#REF!,#REF!,0) -> #REF! | ... O41: =VLOOKUP($A41,#REF!,#REF!,0) -> #REF!
A42: 2361 | B42: DONAREN 150MG RETARD CX C/20 | C42: 7896637023610 | D42: P | E42: 3004.90.69 | F42: =VLOOKUP($A42,#REF!,#REF!,0) -> #REF! | G42: =VLOOKUP($A42,#REF!,#REF!,0) -> #REF! | H42: =VLOOKUP($A42,#REF!,#REF!,0) -> #REF! | I42: =VLOOKUP($A42,#REF!,#REF!,0) -> #REF! | J42: =VLOOKUP($A42,#REF!,#REF!,0) -> #REF! | K42: =VLOOKUP($A42,#REF!,#REF!,0) -> #REF! | L42: =VLOOKUP($A42,#REF!,#REF!,0) -> #REF! | M42: =VLOOKUP($A42,#REF!,#REF!,0) -> #REF! | ... O42: =VLOOKUP($A42,#REF!,#REF!,0) -> #REF!
A43: 2362 | B43: DONAREN 150Mg Retard Cx C/30 (C1) | C43: 7896637023627 | D43: P | E43: 3004.90.69 | F43: =VLOOKUP($A43,#REF!,#REF!,0) -> #REF! | G43: =VLOOKUP($A43,#REF!,#REF!,0) -> #REF! | H43: =VLOOKUP($A43,#REF!,#REF!,0) -> #REF! | I43: =VLOOKUP($A43,#REF!,#REF!,0) -> #REF! | J43: =VLOOKUP($A43,#REF!,#REF!,0) -> #REF! | K43: =VLOOKUP($A43,#REF!,#REF!,0) -> #REF! | L43: =VLOOKUP($A43,#REF!,#REF!,0) -> #REF! | M43: =VLOOKUP($A43,#REF!,#REF!,0) -> #REF! | ... O43: =VLOOKUP($A43,#REF!,#REF!,0) -> #REF!
B44: ETOXIN
A45: 2258 | B45: ETOXIN XAROPE 50MG/ML 120ML (C1) | C45: 7896637022583 | D45: P | E45: 3004.90.49 | F45: =VLOOKUP($A45,#REF!,#REF!,0) -> #REF! | G45: =VLOOKUP($A45,#REF!,#REF!,0) -> #REF! | H45: =VLOOKUP($A45,#REF!,#REF!,0) -> #REF! | I45: =VLOOKUP($A45,#REF!,#REF!,0) -> #REF! | J45: =VLOOKUP($A45,#REF!,#REF!,0) -> #REF! | K45: =VLOOKUP($A45,#REF!,#REF!,0) -> #REF! | L45: =VLOOKUP($A45,#REF!,#REF!,0) -> #REF! | M45: =VLOOKUP($A45,#REF!,#REF!,0) -> #REF! | ... O45: =VLOOKUP($A45,#REF!,#REF!,0) -> #REF!
B46: EXTIMA
A47: 2831 | B47: EXTIMA CX C/30 SACHES OR | C47: 7896637028318 | D47: Neutra | E47: 2106.90.10 | F47: =VLOOKUP($A47,#REF!,#REF!,0) -> #REF! | G47: =VLOOKUP($A47,#REF!,#REF!,0) -> #REF! | H47: =VLOOKUP($A47,#REF!,#REF!,0) -> #REF! | I47: =VLOOKUP($A47,#REF!,#REF!,0) -> #REF! | J47: =VLOOKUP($A47,#REF!,#REF!,0) -> #REF! | K47: =VLOOKUP($A47,#REF!,#REF!,0) -> #REF! | L47: =VLOOKUP($A47,#REF!,#REF!,0) -> #REF! | M47: =VLOOKUP($A47,#REF!,#REF!,0) -> #REF! | ... O47: =VLOOKUP($A47,#REF!,#REF!,0) -> #REF!
...

Sheet Planilha1
A2: 2555 | B2: =VLOOKUP(A2,#REF!,1,0) -> #REF!
A3: 2337 | B3: =VLOOKUP(A3,#REF!,1,0) -> #REF!
A4: 2521 | B4: =VLOOKUP(A4,#REF!,1,0) -> #REF!
A5: 2440 | B5: =VLOOKUP(A5,#REF!,1,0) -> #REF!
A6: 2452 | B6: =VLOOKUP(A6,#REF!,1,0) -> #REF!
A7: 1702 | B7: =VLOOKUP(A7,#REF!,1,0) -> #REF!
A8: 1704 | B8: =VLOOKUP(A8,#REF!,1,0) -> #REF!
A9: 1801 | B9: =VLOOKUP(A9,#REF!,1,0) -> #REF!
A10: 1802 | B10: =VLOOKUP(A10,#REF!,1,0) -> #REF!
A11: 2272 | B11: =VLOOKUP(A11,#REF!,1,0) -> #REF!
A12: 1610 | B12: =VLOOKUP(A12,#REF!,1,0) -> #REF!
A13: 2292 | B13: =VLOOKUP(A13,#REF!,1,0) -> #REF!
... A93: 2264 | B93: =VLOOKUP(A93,#REF!,1,0) -> #REF!
