Workbook
Name dados: [1]dados!#REF!
Name dados: [1]dados!#REF!
Name dados: [1]dados!#REF!

Sheet LISTA 2014_2015
A1: Lista de Preços - Abril/2015
A3: Razão Social: APSEN FARMACEUTICA S/A
A4: CNPJ: 62.462.015/0001-29
A5: Contato: rodolfo.silva@apsen.com.br
A7: Novas apresentações de produtos
A8: *Produtos pertencentes a Resolução nº 13/2012
A9: ** Produtos Controlados - Port. 344/98 Lista C-1
A10: *** Produtos Controlados - Port. 344/98 Lista B-1
A12: Cod GGREM | B12: Cod EAN | C12: Cod Prod. | D12: Produto | E12: Apresentação | F12: NCM | G12: Origem | H12: Preço Fábrica 2015 | N12: Preço Máx. Consumidor 2015
H13: 0 | I13: 0.12 | J13: 0.17 | K13: 0.18 | L13: 0.19 | M13: 17% (ZF) | N13: 0 | O13: 0.12 | P13: 0.17 | Q13: 0.18 | R13: 0.19 | S13: 17% (ZF)
A14: Lista Positiva
A15: 501612090014903 | B15: 7896637024426 | C15: 2442 | D15: ALOIS** | E15: 10 MG CX. C/15 COMP. REVEST. | F15: 3004.90.39 | G15: 5 | H15: 0 | I15: 25.64 | J15: 27.19 | K15: 27.52 | L15: 27.86 | M15: 27.19 | N15: 0 | O15: 35.45 | P15: 37.59 | Q15: 38.04 | R15: 38.51 | S15: 37.59 | T15: =IFERROR(VLOOKUP(B15,'TABELA 2026'!$C:$C,1,0),"DESCONTINUADO") -> DESCONTINUADO
A16: 501603901115319 | B16: 7896637023375 | C16: 2337 | D16: ALOIS** | E16: 10 MG CX. C/30 COMP. REVEST. | F16: 3004.90.39 | G16: 5 | H16: 0 | I16: 52 | J16: 55.14 | K16: 55.81 | L16: 56.49 | M16: 55.14 | N16: 0 | O16: 71.89 | P16: 76.22 | Q16: 77.15 | R16: 78.1 | S16: 76.22 | T16: =IFERROR(VLOOKUP(B16,'TABELA 2026'!$C:$C,1,0),"DESCONTINUADO") -> 7896637023375
A17: 501612110015003 | B17: 7896637025218 | C17: 2521 | D17: ALOIS** | E17: 10 MG CX. C/50 COMP. REVEST. | F17: 3004.90.39 | G17: 5 | I17: 52.13 | J17: 55.27 | K17: 55.95 | L17: 56.63 | M17: 55.27 | O17: 72.06 | P17: 76.4 | Q17: 77.34 | R17: 78.28 | S17: 76.4 | T17: =IFERROR(VLOOKUP(B17,'TABELA 2026'!$C:$C,1,0),"DESCONTINUADO") -> 7896637025218
A18: 501603902111414 | B18: 7896637024402 | C18: 2440 | D18: ALOIS** | E18: 10 MG CX. C/60 COMP. REVEST. | F18: 3004.90.39 | G18: 5 | I18: 102.99 | J18: 109.2 | K18: 110.52 | L18: 111.88 | M18: 109.2 | O18: 142.36 | P18: 150.95 | Q18: 152.78 | R18: 154.66 | S18: 150.95 | T18: =IFERROR(VLOOKUP(B18,'TABELA 2026'!$C:$C,1,0),"DESCONTINUADO") -> 7896637024402
A19: 501612110015103 | B19: 7896637025553 | C19: 2555 | D19: ALOIS** | E19: 10 MG CX. C/120 COMP. REVEST. | F19: 3004.90.39 | G19: 5 | I19: 122.47 | J19: 129.86 | K19: 131.44 | L19: 133.05 | M19: 129.86 | O19: 169.29 | P19: 179.51 | Q19: 181.69 | R19: 183.92 | S19: 179.51 | T19: =IFERROR(VLOOKUP(B19,'TABELA 2026'!$C:$C,1,0),"DESCONTINUADO") -> 7896637025553
B20: 7896637024525 | C20: 2452 | D20: ALOIS**
A21: 501604901119312 | B21: 7896637018012 | C21: 1801 | D21: ARTANE*** | E21: 2 MG CX. C/30 COMP. | F21: 3004.90.69 | G21: 5 | H21: 0 | I21: 6.42 | J21: 6.81 | K21: 6.89 | L21: 6.97 | M21: 6.81 | N21: 0 | O21: 8.87 | P21: 9.41 | Q21: 9.52 | R21: 9.64 | S21: 9.41 | T21: =IFERROR(VLOOKUP(B21,'TABELA 2026'!$C:$C,1,0),"DESCONTINUADO") -> 7896637018012
A22: 501604902115310 | B22: 7896637018029 | C22: 1802 | D22: ARTANE*** | E22: 5 MG CX. C/30 COMP. | F22: 3004.90.69 | G22: 5 | H22: 0 | I22: 7.5 | J22: 7.96 | K22: 8.05 | L22: 8.15 | M22: 7.96 | N22: 0 | O22: 10.37 | P22: 11 | Q22: 11.13 | R22: 11.27 | S22: 11 | T22: =IFERROR(VLOOKUP(B22,'TABELA 2026'!$C:$C,1,0),"DESCONTINUADO") -> 7896637018029
A23: 501600101118319 | B23: 7896637022729 | C23: 2272 | D23: AZULFIN | E23: CX. C/60 COMP. REVEST. GASTRO-RESISTENTES | F23: 3004.90.79 | G23: 5 | H23: 0 | I23: 54.57 | J23: 57.87 | K23: 58.57 | L23: 59.29 | M23: 57.87 | N23: 0 | O23: 75.44 | P23: 79.99 | Q23: 80.96 | R23: 81.96 | S23: 79.99 | T23: =IFERROR(VLOOKUP(B23,'TABELA 2026'!$C:$C,1,0),"DESCONTINUADO") -> 7896637022729
A24: 501600304116310 | B24: 7896637024358 | C24: 2435 | D24: COLCHIS | E24: 0,5 MG CX. C/30 COMP. | F24: 3004.90.99 | G24: 5 | H24: 0 | I24: 32.07 | J24: 34 | K24: 34.42 | L24: 34.84 | M24: 34 | N24: 0 | O24: 44.33 | P24: 47 | Q24: 47.57 | R24: 48.16 | S24: 47 | T24: =IFERROR(VLOOKUP(B24,'TABELA 2026'!$C:$C,1,0),"DESCONTINUADO") -> 7896637024358
A25: 501600303111315 | B25: 7896637024365 | C25: 2436 | D25: COLCHIS | E25: 1 MG CX. C/30 COMP. | F25: 3004.90.99 | G25: 5 | H25: 0 | I25: 37.29 | J25: 39.54 | K25: 40.02 | L25: 40.51 | M25: 39.54 | N25: 0 | O25: 51.55 | P25: 54.66 | Q25: 55.32 | R25: 56 | S25: 54.66 | T25: =IFERROR(VLOOKUP(B25,'TABELA 2026'!$C:$C,1,0),"DESCONTINUADO") -> 7896637024365
A26: 501600401111311 | B26: 7896637022033 | C26: 2203 | D26: DESTILBENOL | E26: 1 MG CX. C/50 COMP. REVEST. | F26: 3004.90.95 | G26: 5 | H26: 22.11 | I26: 25.13 | J26: 26.64 | K26: 26.96 | L26: 27.3 | M26: 26.64 | N26: 0 | O26: 34.73 | P26: 36.83 | Q26: 37.27 | R26: 37.73 | S26: 36.83 | T26: =IFERROR(VLOOKUP(B26,'TABELA 2026'!$C:$C,1,0),"DESCONTINUADO") -> DESCONTINUADO
A27: 501612070014703 | B27: 7896637023634 | C27: 2363 | D27: DONAREN** | E27: 50 MG CX. C/20 COMP. REVEST. | F27: 3004.90.69 | G27: 5 | H27: 0 | I27: 16.04 | J27: 17 | K27: 17.21 | L27: 17.42 | M27: 17 | N27: 0 | O27: 22.17 | P27: 23.5 | Q27: 23.79 | R27: 24.08 | S27: 23.5 | T27: =IFERROR(VLOOKUP(B27,'TABELA 2026'!$C:$C,1,0),"DESCONTINUADO") -> DESCONTINUADO
A28: 501600601110317 | B28: 7896637022767 | C28: 2276 | D28: DONAREN** | E28: 50 MG CX. C/60 COMP. REVEST. | F28: 3004.90.69 | G28: 5 | H28: 0 | I28: 48.1 | J28: 51 | K28: 51.62 | L28: 52.26 | M28: 51 | N28: 0 | O28: 66.49 | P28: 70.5 | Q28: 71.36 | R28: 72.24 | S28: 70.5 | T28: =IFERROR(VLOOKUP(B28,'TABELA 2026'!$C:$C,1,0),"DESCONTINUADO") -> 7896637022767
A29: 501600603113313 | B29: 7896637023979 | C29: 2397 | D29: DONAREN** | E29: 100 MG CX. C/30 COMP. REVEST. | F29: 3004.90.69 | G29: 5 | H29: 0 | I29: 48.09 | J29: 50.99 | K29: 51.61 | L29: 52.24 | M29: 50.99 | N29: 0 | O29: 66.48 | P29: 70.49 | Q29: 71.34 | R29: 72.22 | S29: 70.49 | T29: =IFERROR(VLOOKUP(B29,'TABELA 2026'!$C:$C,1,0),"DESCONTINUADO") -> 7896637023979
A30: 501604701111318 | B30: 7896637023603 | C30: 2360 | D30: DONAREN RETARD** | E30: 150 MG RETARD CX. C/10 COMP. REVEST. | F30: 3004.90.69 | G30: 5 | H30: 0 | I30: 22.66 | J30: 24.03 | K30: 24.32 | L30: 24.62 | M30: 24.03 | N30: 0 | O30: 31.32 | P30: 33.21 | Q30: 33.62 | R30: 34.03 | S30: 33.21 | T30: =IFERROR(VLOOKUP(B30,'TABELA 2026'!$C:$C,1,0),"DESCONTINUADO") -> DESCONTINUADO
A31: 501604702116313 | B31: 7896637023610 | C31: 2361 | D31: DONAREN RETARD** | E31: 150 MG RETARD CX. C/20 COMP. REVEST. | F31: 3004.90.69 | G31: 5 | H31: 0 | I31: 48.1 | J31: 51 | K31: 51.62 | L31: 52.26 | M31: 51 | N31: 0 | O31: 66.49 | P31: 70.5 | Q31: 71.36 | R31: 72.24 | S31: 70.5 | T31: =IFERROR(VLOOKUP(B31,'TABELA 2026'!$C:$C,1,0),"DESCONTINUADO") -> DESCONTINUADO
A32: 501604301138413 | B32: 7896637022583 | C32: 2258 | D32: ETOXIN** | E32: 50 MG/ML XAROPE - FRASCO 120ML | F32: 3004.90.49 | G32: 5 | H32: 0 | I32: 30.52 | J32: 32.36 | K32: 32.75 | L32: 33.15 | M32: 32.36 | N32: 0 | O32: 42.19 | P32: 44.73 | Q32: 45.28 | R32: 45.83 | S32: 44.73 | T32: =IFERROR(VLOOKUP(B32,'TABELA 2026'!$C:$C,1,0),"DESCONTINUADO") -> 7896637022583
... A51: 501603104118411 | B51: 7896637023849 | C51: 2384 | D51: UNOPROST | E51: 4 MG CX. C/30 COMP. | F51: 3004.90.79 | G51: 5 | H51: 0 | I51: 76.69 | J51: 81.32 | K51: 82.3 | L51: 83.32 | M51: 81.32 | N51: 0 | O51: 106.01 | P51: 112.41 | Q51: 113.77 | R51: 115.17 | S51: 112.41 | T51: =IFERROR(VLOOKUP(B51,'TABELA 2026'!$C:$C,1,0),"DESCONTINUADO") -> 7896637023849
A52: Lista Negativa | T52: =IFERROR(VLOOKUP(B52,'TABELA 2026'!$C:$C,1,0),"DESCONTINUADO") -> DESCONTINUADO
A53: 501605103119313 | B53: 7896637025393 | C53: 2539 | D53: DOBEVEN | E53: 500MG CX C/5 CAPSULAS | F53: 3004.90.99 | G53: 5 | H53: 0 | I53: 6.99 | J53: 7.48 | K53: 7.583 | L53: 7.695 | M53: 6.49 | N53: 0 | O53: 9.32 | P53: 9.955 | Q53: 10.09 | R53: 10.225 | S53: 8.97 | T53: =IFERROR(VLOOKUP(B53,'TABELA 2026'!$C:$C,1,0),"DESCONTINUADO") -> DESCONTINUADO
A54: 501605105111311 | B54: 7896637025423 | C54: 2542 | D54: DOBEVEN | E54: 500MG CX C/30 CAPSULAS | F54: 3004.90.99 | G54: 5 | H54: 0 | I54: 41.96 | J54: 44.87 | K54: 45.518 | L54: 46.17 | M54: 38.99 | N54: 0 | O54: 55.95 | P54: 59.71 | Q54: 60.54 | R54: 61.37 | S54: 53.91 | T54: =IFERROR(VLOOKUP(B54,'TABELA 2026'!$C:$C,1,0),"DESCONTINUADO") -> DESCONTINUADO
A55: 501601101111312 | B55: 7896637022316 | C55: 2231 | D55: INIBINA | E55: 10 MG CX. C/20 COMP. | F55: 3004.90.39 | G55: 5 | H55: 0 | I55: 50.09 | J55: 53.59 | K55: 54.35 | L55: 55.13 | M55: 46.55 | N55: 0 | O55: 66.8 | P55: 71.31 | Q55: 72.28 | R55: 73.28 | S55: 64.35 | T55: =IFERROR(VLOOKUP(B55,'TABELA 2026'!$C:$C,1,0),"DESCONTINUADO") -> 7896637022316
A56: 501601102150311 | B56: 7896637022330 | C56: 2233 | D56: INIBINA | E56: 10 MG 2 ML CX. C/ 5 AMPOLAS | F56: 3004.90.39 | G56: 5 | H56: 0 | I56: 48.31 | J56: 51.68 | K56: 52.42 | L56: 53.17 | M56: 44.89 | N56: 0 | O56: 64.42 | P56: 68.77 | Q56: 69.71 | R56: 70.68 | S56: 62.06 | T56: =IFERROR(VLOOKUP(B56,'TABELA 2026'!$C:$C,1,0),"DESCONTINUADO") -> 7896637022330
A57: 501601103157311 | B57: 7896637022354 | C57: 2235 | D57: INIBINA | E57: 10 MG 2 ML CX. C/ 25 AMPOLAS | F57: 3004.90.39 | G57: 5 | H57: 0 | I57: 238.85 | J57: 255.51 | K57: 259.14 | L57: 262.87 | M57: 221.95 | N57: 0 | O57: 318.51 | P57: 340 | Q57: 344.65 | R57: 349.42 | S57: 306.82 | T57: =IFERROR(VLOOKUP(B57,'TABELA 2026'!$C:$C,1,0),"DESCONTINUADO") -> 7896637022354
A58: 501612080014803 | B58: 7896637024020 | C58: 2402 | D58: INIBINA | E58: 10 MG CX. C/30 COMP. | F58: 3004.90.39 | G58: 5 | H58: 0 | I58: 71.38 | J58: 76.36 | K58: 77.45 | L58: 78.56 | M58: 66.33 | N58: 0 | O58: 95.19 | P58: 101.62 | Q58: 103 | R58: 104.43 | S58: 91.7 | T58: =IFERROR(VLOOKUP(B58,'TABELA 2026'!$C:$C,1,0),"DESCONTINUADO") -> 7896637024020
A59: 501601201116413 | B59: 7896637022903 | C59: 2290 | D59: LABIRIN | E59: 16 MG CX. C/30 COMP. | F59: 3004.90.69 | G59: 5 | H59: 0 | I59: 19.73 | J59: 21.11 | K59: 21.41 | L59: 21.72 | M59: 18.34 | N59: 0 | O59: 26.31 | P59: 28.09 | Q59: 28.47 | R59: 28.87 | S59: 25.35 | T59: =IFERROR(VLOOKUP(B59,'TABELA 2026'!$C:$C,1,0),"DESCONTINUADO") -> DESCONTINUADO
A60: 501601205111319 | B60: 7896637023771 | C60: 2377 | D60: LABIRIN | E60: 24 MG CX. C/30 COMP. | F60: 3004.90.69 | G60: 5 | H60: 0 | I60: 26.42 | J60: 28.26 | K60: 28.67 | L60: 29.08 | M60: 24.55 | N60: 0 | O60: 35.23 | P60: 37.61 | Q60: 38.12 | R60: 38.65 | S60: 33.94 | T60: =IFERROR(VLOOKUP(B60,'TABELA 2026'!$C:$C,1,0),"DESCONTINUADO") -> DESCONTINUADO
A61: 501601202112411 | B61: 7896637022897 | C61: 2289 | D61: LABIRIN | E61: 8 MG CX. C/30 COMP. | F61: 3004.90.69 | G61: 5 | H61: 0 | I61: 16.35 | J61: 17.49 | K61: 17.74 | L61: 17.99 | M61: 15.19 | N61: 0 | O61: 21.8 | P61: 23.27 | Q61: 23.59 | R61: 23.91 | S61: 21 | T61: =IFERROR(VLOOKUP(B61,'TABELA 2026'!$C:$C,1,0),"DESCONTINUADO") -> DESCONTINUADO
A62: 501601601114310 | B62: 7896637022415 | C62: 2241 | D62: LITOCIT | E62: 10 MEQ CX. C/60 COMP. (1080MG) | F62: 3004.90.29 | G62: 0 | H62: 0 | I62: 36.28 | J62: 38.81 | K62: 39.37 | L62: 39.93 | M62: 33.72 | N62: 0 | O62: 48.38 | P62: 51.65 | Q62: 52.35 | R62: 53.08 | S62: 46.61 | T62: =IFERROR(VLOOKUP(B62,'TABELA 2026'!$C:$C,1,0),"DESCONTINUADO") -> 7896637022415
A63: 501601602110319 | B63: 7896637022408 | C63: 2240 | D63: LITOCIT | E63: 5 MEQ CX. C/60 COMP. (540 MG) | F63: 3004.90.29 | G63: 0 | H63: 0 | I63: 28.92 | J63: 30.93 | K63: 31.37 | L63: 31.83 | M63: 26.87 | N63: 0 | O63: 38.56 | P63: 41.16 | Q63: 41.73 | R63: 42.3 | S63: 37.15 | T63: =IFERROR(VLOOKUP(B63,'TABELA 2026'!$C:$C,1,0),"DESCONTINUADO") -> 7896637022408
A64: 501604103115311 | B64: 7896637023450 | C64: 2345 | D64: LONIUM | E64: 40 MG CX. C/60 COMP. REVEST. | F64: 3004.90.49 | G64: 5 | H64: 0 | I64: 58.68 | J64: 62.77 | K64: 63.66 | L64: 64.58 | M64: 54.53 | N64: 0 | O64: 78.25 | P64: 83.53 | Q64: 84.67 | R64: 85.84 | S64: 75.37 | T64: =IFERROR(VLOOKUP(B64,'TABELA 2026'!$C:$C,1,0),"DESCONTINUADO") -> 7896637023450
... A90: 501603301118317 | B90: 7896637022644 | C90: 2264 | D90: YOMAX | E90: 5,4 MG CX. C/60 COMP. | F90: 3004.90.99 | G90: 5 | H90: 0 | I90: 46.13 | J90: 49.35 | K90: 50.05 | L90: 50.77 | M90: 42.87 | N90: 0 | O90: 61.52 | P90: 65.67 | Q90: 66.57 | R90: 67.49 | S90: 59.26 | T90: =IFERROR(VLOOKUP(B90,'TABELA 2026'!$C:$C,1,0),"DESCONTINUADO") -> 7896637022644
A91: Fitorerápicos | T91: =IFERROR(VLOOKUP(B91,'TABELA 2026'!$C:$C,1,0),"DESCONTINUADO") -> DESCONTINUADO
A92: FITO | B92: 7896637017015 | C92: 1701 | D92: ARPADOL | E92: 400 MG CX. C/10 COMP. REVEST. | F92: 3004.90.99 | G92: 5 | I92: 14.83 | J92: 15.87 | K92: 16.09 | L92: 16.32 | M92: 13.78 | N92: 0 | O92: 19.78 | P92: 21.12 | Q92: 21.4 | R92: 21.69 | S92: 19.05 | T92: =IFERROR(VLOOKUP(B92,'TABELA 2026'!$C:$C,1,0),"DESCONTINUADO") -> DESCONTINUADO
A93: FITO | B93: 7896637017022 | C93: 1702 | D93: ARPADOL | E93: 400 MG CX. C/30 COMP. REVEST. | F93: 3004.90.99 | G93: 5 | I93: 44.49 | J93: 47.6 | K93: 48.27 | L93: 48.96 | M93: 41.35 | N93: 0 | O93: 59.33 | P93: 63.34 | Q93: 64.2 | R93: 65.08 | S93: 57.17 | T93: =IFERROR(VLOOKUP(B93,'TABELA 2026'!$C:$C,1,0),"DESCONTINUADO") -> DESCONTINUADO
A94: FITO | B94: 7896637017176 | C94: 1717 | D94: FITOSCAR | E94: BISNAGA C/20 G | F94: 3004.90.99 | G94: 0 | I94: 38 | J94: 40.66 | K94: 41.23 | L94: 41.82 | M94: 35.32 | N94: 0 | O94: 50.67 | P94: 54.11 | Q94: 54.83 | R94: 55.59 | S94: 48.83 | T94: =IFERROR(VLOOKUP(B94,'TABELA 2026'!$C:$C,1,0),"DESCONTINUADO") -> 7896637017176
A95: Neutra | T95: =IFERROR(VLOOKUP(B95,'TABELA 2026'!$C:$C,1,0),"DESCONTINUADO") -> DESCONTINUADO
A96: LIBERADO | B96: 7896637026178 | C96: 2617 | D96: DESOL | E96: 1 FRASCO C/ 10 ML | F96: 2106.90.30 | G96: 5 | I96: 30.78 | J96: 30.78 | K96: 30.78 | L96: 30.78 | M96: 30.78 | T96: =IFERROR(VLOOKUP(B96,'TABELA 2026'!$C:$C,1,0),"DESCONTINUADO") -> 7896637026178
A97: LIBERADO | B97: 7896637026185 | C97: 2618 | D97: DESOL | E97: 1 FRASCO C/ 20 ML | F97: 2106.90.30 | G97: 5 | I97: 52.31 | J97: 52.31 | K97: 52.31 | L97: 52.31 | M97: 52.31 | T97: =IFERROR(VLOOKUP(B97,'TABELA 2026'!$C:$C,1,0),"DESCONTINUADO") -> 7896637026185
A98: LIBERADO | B98: 7896637026222 | C98: 2622 | D98: DIGELIV | E98: Caixa com 30 sachês de 2g - 400 FCC GALu | F98: 3507.90.49 | G98: 5 | I98: 40.82 | J98: 40.82 | K98: 40.82 | L98: 40.82 | M98: 40.82 | T98: =IFERROR(VLOOKUP(B98,'TABELA 2026'!$C:$C,1,0),"DESCONTINUADO") -> 7896637026222
A99: LIBERADO | B99: 7896637026291 | C99: 2629 | D99: LACTOSIL | E99: Caixa com 30 sachês de 2g - 4.000 FCC ALU | F99: 3507.90.49 | G99: 5 | I99: 26.08 | J99: 26.08 | K99: 26.08 | L99: 26.08 | M99: 26.08 | T99: =IFERROR(VLOOKUP(B99,'TABELA 2026'!$C:$C,1,0),"DESCONTINUADO") -> DESCONTINUADO
A100: LIBERADO | B100: 7896637026307 | C100: 2630 | D100: LACTOSIL | E100: Caixa com 30 sachês de 2g - 10.000 FCC ALU | F100: 3507.90.49 | G100: 5 | I100: 52.16 | J100: 52.16 | K100: 52.16 | L100: 52.16 | M100: 52.16 | T100: =IFERROR(VLOOKUP(B100,'TABELA 2026'!$C:$C,1,0),"DESCONTINUADO") -> 7896637026307
A101: LIBERADO | B101: 7896637015011 | C101: 1501 | D101: TOMAT | E101: CX. C/ 30 CÁPSULAS | F101: 2106.90.90 | G101: 5 | I101: 25.41 | J101: 27.07 | K101: 27.43 | L101: 27.8 | M101: 25.63 | O101: 35.87 | P101: 38.26 | Q101: 38.78 | R101: 39.32 | S101: 35.43 | T101: =IFERROR(VLOOKUP(B101,'TABELA 2026'!$C:$C,1,0),"DESCONTINUADO") -> DESCONTINUADO
A102: LIBERADO | B102: 7896637026505 | C102: 2651 | D102: FOLINE | E102: CX C/60 CAPSULAS | F102: 21.06.90.90 | T102: =IFERROR(VLOOKUP(B102,'TABELA 2026'!$C:$C,1,0),"DESCONTINUADO") -> DESCONTINUADO
A103: LIBERADO | B103: 7896637026703 | C103: 2670 | D103: MOTILEX | E103: CX C/ 30 SACHES | F103: 3503.00.19 | T103: =IFERROR(VLOOKUP(B103,'TABELA 2026'!$C:$C,1,0),"DESCONTINUADO") -> DESCONTINUADO
A104: Genérico | T104: =IFERROR(VLOOKUP(B104,'TABELA 2026'!$C:$C,1,0),"DESCONTINUADO") -> DESCONTINUADO
A105: 501604502117111 | B105: 7896637016056 | C105: 1605 | D105: CLORIDRATO DE MEMANTINA** | E105: 10 MG CX. C/60 COMP. REVEST. | F105: 3004.90.39 | G105: 5 | H105: 0 | I105: 103 | J105: 109.21 | K105: 110.53 | L105: 111.89 | M105: 109.21 | N105: 0 | O105: 142.38 | P105: 150.96 | Q105: 152.8 | R105: 154.68 | S105: 150.96 | T105: =IFERROR(VLOOKUP(B105,'TABELA 2026'!$C:$C,1,0),"DESCONTINUADO") -> DESCONTINUADO

Sheet TABELA 2026
F2: EM VIGOR VIGOR A PARTIR DE:
F3: 46113
F8: ICMS 12% Genérico SP-MG | H8: ICMS 17% ES, DF, MT, MS, SC, RS | J8: ICMS 18% AP, MG, SP | L8: ICMS 19% AC, PA, SE, GO | N8: ICMS 19,5% PR, RO | P8: ICMS 20% AM, CE, PB, RN, RR, TO | R8: ICMS 20,5% AL, BA, PE | T8: ICMS 22% RJ | V8: ICMS 22,5% PI | X8: ICMS 23% MA | Z8: ICMS 17% ALC | AB8: ICMS 18% ALC | AD8: ICMS 19% ALC | AF8: ICMS 19,5% ALC | AH8: ICMS 20% ALC | AJ8: ICMS 0% Isenção de ICMS convênio 162/94
A9: CÓD APSEN | B9: CONCENTRAÇÃO(ÕES) FARMACOLÓGICA(S) E APRESENTAÇÃO | C9: EAN | D9: LCCT | E9: NCM | F9: PF | G9: PMC | H9: PF | I9: PMC | J9: PF | K9: PMC | L9: PF | M9: PMC | N9: PF | O9: PMC | P9: PF | Q9: PMC | R9: PF | S9: PMC | T9: PF | U9: PMC | V9: PF | W9: PMC | X9: PF | Y9: PMC | Z9: PF | AA9: PMC | AB9: PF | AC9: PMC | AD9: PF | AE9: PMC | AF9: PF | AG9: PMC | AH9: PF | AI9: PMC | AJ9: PF | AK9: PMC
B10: ADEQUA
A11: 3801 | B11: ADEQUA 1000MG CX C/30 SACHES OR | C11: 7896637038010 | D11: NEUTRA | E11: 2106.90.30 | F11: 134.95 | G11: 226.21882 | H11: 134.95 | I11: 226.21882 | J11: 134.95 | K11: 226.21882 | L11: 134.95 | M11: 226.21882 | N11: 134.95 | O11: 226.21882 | P11: 134.95 | Q11: 226.21882 | R11: 134.95 | S11: 226.21882 | T11: 134.95 | U11: 226.21882 | V11: 134.95 | W11: 226.21882 | X11: 134.95 | Y11: 226.21882 | Z11: 134.95 | AA11: 226.21882 | AB11: 134.95 | AC11: 226.21882 | AD11: 134.95 | AE11: 226.21882 | AF11: 134.95 | AG11: 226.21882 | AH11: 134.95 | AI11: 226.21882 | AJ11: 134.95 | AK11: 226.21882
B12: ALOIS
A13: 3121 | B13: ALOIS 20MG CX C/30 CP REV (C1) | C13: 7896637031219 | D13: POSITIVA | E13: 3004.90.39 | F13: 146.09 | G13: 201.37 | H13: 154.89 | I13: 213.5 | J13: 156.78 | K13: 216.1 | L13: 158.72 | M13: 218.78 | N13: 159.71 | O13: 220.14 | P13: 160.7 | Q13: 221.51 | R13: 161.71 | S13: 222.9 | T13: 164.82 | U13: 227.19 | V13: 165.89 | W13: 228.66 | X13: 166.96 | Y13: 230.14 | Z13: 153.04 | AA13: 211.57 | AB13: 154.9 | AC13: 214.14 | AD13: 156.81 | AE13: 216.78 | AF13: 157.79 | AG13: 218.14 | AH13: 158.78 | AI13: 219.5 | AJ13: 128.56 | AK13: 177.21
A14: 2555 | B14: ALOIS 10MG CX C/120 CP REV (C1) | C14: 7896637025553 | D14: POSITIVA | E14: 3004.90.39 | F14: 216.36 | G14: 298.23 | H14: 229.39 | I14: 316.19 | J14: 232.19 | K14: 320.05 | L14: 235.06 | M14: 324.01 | N14: 236.52 | O14: 326.02 | P14: 237.99 | Q14: 328.04 | R14: 239.49 | S14: 330.11 | T14: 244.1 | U14: 336.47 | V14: 245.67 | W14: 338.63 | X14: 247.27 | Y14: 340.84 | Z14: 226.64 | AA14: 313.32 | AB14: 229.4 | AC14: 317.13 | AD14: 232.23 | AE14: 321.04 | AF14: 233.68 | AG14: 323.05 | AH14: 235.14 | AI14: 325.07 | AJ14: 190.4 | AK14: 262.45
A15: 2337 | B15: ALOIS 10MG CX C/30 CP REV (C1) | C15: 7896637023375 | D15: POSITIVA | E15: 3004.90.39 | F15: 95.99 | G15: 132.31 | H15: 101.78 | I15: 140.29 | J15: 103.02 | K15: 142 | L15: 104.29 | M15: 143.75 | N15: 104.94 | O15: 144.65 | P15: 105.59 | Q15: 145.54 | R15: 106.26 | S15: 146.47 | T15: 108.3 | U15: 149.28 | V15: 109 | W15: 150.25 | X15: 109.71 | Y15: 151.22 | Z15: 100.55 | AA15: 139 | AB15: 101.78 | AC15: 140.7 | AD15: 103.04 | AE15: 142.45 | AF15: 103.68 | AG15: 143.33 | AH15: 104.33 | AI15: 144.23 | AJ15: 84.48 | AK15: 116.45
A16: 2521 | B16: ALOIS 10MG CX C/50 CP REV (C1) | C16: 7896637025218 | D16: POSITIVA | E16: 3004.90.39 | F16: 96.25 | G16: 132.67 | H16: 102.04 | I16: 140.65 | J16: 103.29 | K16: 142.37 | L16: 104.56 | M16: 144.13 | N16: 105.21 | O16: 145.02 | P16: 105.87 | Q16: 145.93 | R16: 106.54 | S16: 146.85 | T16: 108.59 | U16: 149.68 | V16: 109.29 | W16: 150.64 | X16: 110 | Y16: 151.62 | Z16: 100.82 | AA16: 139.38 | AB16: 102.05 | AC16: 141.08 | AD16: 103.31 | AE16: 142.82 | AF16: 103.95 | AG16: 143.7 | AH16: 104.6 | AI16: 144.6 | AJ16: 84.69 | AK16: 116.74
A17: 2440 | B17: ALOIS 10MG CX C/60 CP REV (C1) | C17: 7896637024402 | D17: POSITIVA | E17: 3004.90.39 | F17: 190.12 | G17: 262.06 | H17: 201.58 | I17: 277.86 | J17: 204.03 | K17: 281.23 | L17: 206.55 | M17: 284.71 | N17: 207.84 | O17: 286.49 | P17: 209.13 | Q17: 288.26 | R17: 210.45 | S17: 290.08 | T17: 214.5 | U17: 295.67 | V17: 215.88 | W17: 297.57 | X17: 217.28 | Y17: 299.5 | Z17: 199.16 | AA17: 275.33 | AB17: 201.59 | AC17: 278.69 | AD17: 204.07 | AE17: 282.11 | AF17: 205.34 | AG17: 283.87 | AH17: 206.63 | AI17: 285.65 | AJ17: 167.31 | AK17: 230.62
A18: 3208 | B18: ALOIS DUO 10+10MG CX C/ 7 | C18: 7896637032087 | D18: NEGATIVA | E18: 3004.90.39 | F18: 32.35 | G18: 43.4 | H18: 34.3 | I18: 46.01 | J18: 34.72 | K18: 46.58 | L18: 35.15 | M18: 47.15 | N18: 35.37 | O18: 47.45 | P18: 35.59 | Q18: 47.74 | R18: 35.81 | S18: 48.04 | T18: 36.5 | U18: 48.96 | V18: 36.74 | W18: 49.29 | X18: 36.97 | Y18: 49.59 | Z18: 30.63 | AA18: 42.34 | AB18: 31 | AC18: 42.86 | AD18: 31.38 | AE18: 43.38 | AF18: 31.58 | AG18: 43.66 | AH18: 31.77 | AI18: 43.92 | AJ18: 28.47 | AK18: 38.19
A19: 3179 | B19: ALOIS DUO 10+15MG CX C/ 7 | C19: 7896637031790 | D19: NEGATIVA | E19: 3004.90.39 | F19: 37.86 | G19: 50.79 | H19: 40.14 | I19: 53.85 | J19: 40.63 | K19: 54.5 | L19: 41.14 | M19: 55.19 | N19: 41.39 | O19: 55.52 | P19: 41.65 | Q19: 55.87 | R19: 41.91 | S19: 56.22 | T19: 42.72 | U19: 57.31 | V19: 42.99 | W19: 57.67 | X19: 43.27 | Y19: 58.05 | Z19: 35.84 | AA19: 49.55 | AB19: 36.28 | AC19: 50.15 | AD19: 36.73 | AE19: 50.78 | AF19: 36.96 | AG19: 51.1 | AH19: 37.19 | AI19: 51.41 | AJ19: 33.32 | AK19: 44.7
A20: 3177 | B20: ALOIS DUO 10+20MG CX C/ 30 | C20: 7896637031776 | D20: NEGATIVA | E20: 3004.90.39 | F20: 164.97 | G20: 221.3 | H20: 174.9 | I20: 234.62 | J20: 177.04 | K20: 237.49 | L20: 179.22 | M20: 240.42 | N20: 180.34 | O20: 241.92 | P20: 181.46 | Q20: 243.42 | R20: 182.6 | S20: 244.95 | T20: 186.12 | U20: 249.67 | V20: 187.32 | W20: 251.28 | X20: 188.53 | Y20: 252.91 | Z20: 156.16 | AA20: 215.88 | AB20: 158.07 | AC20: 218.52 | AD20: 160.02 | AE20: 221.22 | AF20: 161.01 | AG20: 222.59 | AH20: 162.02 | AI20: 223.98 | AJ20: 145.17 | AK20: 194.74
A21: 3180 | B21: ALOIS DUO 10+5MG CX C/ 7 | C21: 7896637031806 | D21: NEGATIVA | E21: 3004.90.39 | F21: 26.91 | G21: 36.1 | H21: 28.53 | I21: 38.27 | J21: 28.88 | K21: 38.74 | L21: 29.23 | M21: 39.21 | N21: 29.42 | O21: 39.47 | P21: 29.6 | Q21: 39.71 | R21: 29.79 | S21: 39.96 | T21: 30.36 | U21: 40.73 | V21: 30.55 | W21: 40.98 | X21: 30.75 | Y21: 41.25 | Z21: 25.47 | AA21: 35.21 | AB21: 25.78 | AC21: 35.64 | AD21: 26.1 | AE21: 36.08 | AF21: 26.26 | AG21: 36.3 | AH21: 26.43 | AI21: 36.54 | AJ21: 23.68 | AK21: 31.77
A22: 2452 | B22: ALOIS GOTAS 10 MG FR 50 ML | C22: 7896637024525 | D22: POSITIVA | E22: 3004.90.39 | F22: 150.48 | G22: 207.42 | H22: 159.54 | I22: 219.91 | J22: 161.49 | K22: 222.6 | L22: 163.48 | M22: 225.34 | N22: 164.5 | O22: 226.75 | P22: 165.52 | Q22: 228.15 | R22: 166.56 | S22: 229.59 | T22: 169.77 | U22: 234.01 | V22: 170.86 | W22: 235.51 | X22: 171.97 | Y22: 237.04 | Z22: 157.63 | AA22: 217.91 | AB22: 159.55 | AC22: 220.57 | AD22: 161.52 | AE22: 223.29 | AF22: 162.52 | AG22: 224.67 | AH22: 163.54 | AI22: 226.08 | AJ22: 132.42 | AK22: 182.53
A23: 3385 | B23: ALOIS DUO PACK C/ 28 CP REV OR | C23: 7896637033855 | D23: NEGATIVA | E23: 3004.90.39 | F23: 83.98 | G23: 112.66 | H23: 89.04 | I23: 119.44 | J23: 90.12 | K23: 120.89 | L23: 91.23 | M23: 122.38 | N23: 91.8 | O23: 123.15 | P23: 92.38 | Q23: 123.92 | R23: 92.96 | S23: 124.7 | T23: 94.74 | U23: 127.09 | V23: 95.35 | W23: 127.91 | X23: 95.97 | Y23: 128.74 | Z23: 79.5 | AA23: 109.9 | AB23: 80.47 | AC23: 111.25 | AD23: 81.46 | AE23: 112.61 | AF23: 81.97 | AG23: 113.32 | AH23: 82.48 | AI23: 114.02 | AJ23: 73.9 | AK23: 99.13
B24: ARPADOL
A25: 3358 | B25: ARPADOL 400MG CX C/30 CP REV | C25: 7896637033589 | D25: NEGATIVA | E25: 3004.90.99 | F25: 84.14 | G25: 112.87 | H25: 89.2 | I25: 119.66 | J25: 90.29 | K25: 121.12 | L25: 91.41 | M25: 122.62 | N25: 91.98 | O25: 123.39 | P25: 92.55 | Q25: 124.15 | R25: 93.13 | S25: 124.93 | T25: 94.92 | U25: 127.33 | V25: 95.54 | W25: 128.16 | X25: 96.16 | Y25: 129 | Z25: 79.65 | AA25: 110.11 | AB25: 80.62 | AC25: 111.45 | AD25: 81.61 | AE25: 112.82 | AF25: 82.12 | AG25: 113.53 | AH25: 82.63 | AI25: 114.23 | AJ25: 74.04 | AK25: 99.32
A26: 3359 | B26: ARPADOL 400MG CX C/60 CP REV | C26: 7896637033596 | D26: NEGATIVA | E26: 3004.90.99 | F26: 163.31 | G26: 219.07 | H26: 173.14 | I26: 232.26 | J26: 175.26 | K26: 235.11 | L26: 177.42 | M26: 238 | N26: 178.52 | O26: 239.48 | P26: 179.64 | Q26: 240.98 | R26: 180.77 | S26: 242.5 | T26: 184.24 | U26: 247.15 | V26: 185.43 | W26: 248.75 | X26: 186.64 | Y26: 250.37 | Z26: 154.59 | AA26: 213.71 | AB26: 156.48 | AC26: 216.32 | AD26: 158.41 | AE26: 218.99 | AF26: 159.39 | AG26: 220.35 | AH26: 160.39 | AI26: 221.73 | AJ26: 143.71 | AK26: 192.78
A27: 3758 | B27: ARPADOL 400MG CX C/60 CP REV OR VPC | C27: 7896637033596 | D27: NEGATIVA | E27: 3004.90.99 | F27: 163.31 | G27: 219.07 | H27: 173.14 | I27: 232.26 | J27: 175.26 | K27: 235.11 | L27: 177.42 | M27: 238 | N27: 178.52 | O27: 239.48 | P27: 179.64 | Q27: 240.98 | R27: 180.77 | S27: 242.5 | T27: 184.24 | U27: 247.15 | V27: 185.43 | W27: 248.75 | X27: 186.64 | Y27: 250.37 | Z27: 154.59 | AA27: 213.71 | AB27: 156.48 | AC27: 216.32 | AD27: 158.41 | AE27: 218.99 | AF27: 159.39 | AG27: 220.35 | AH27: 160.39 | AI27: 221.73 | AJ27: 143.71 | AK27: 192.78
B28: ARTANE
A29: 1801 | B29: ARTANE 2MG CX C/30 CP (B1) | C29: 7896637018012 | D29: POSITIVA | E29: 3004.90.69 | F29: 11.09 | G29: 15.29 | H29: 11.76 | I29: 16.21 | J29: 11.9 | K29: 16.4 | L29: 12.05 | M29: 16.61 | N29: 12.12 | O29: 16.71 | P29: 12.2 | Q29: 16.82 | R29: 12.27 | S29: 16.91 | T29: 12.51 | U29: 17.24 | V29: 12.59 | W29: 17.35 | X29: 12.67 | Y29: 17.46 | Z29: 11.61 | AA29: 16.05 | AB29: 11.76 | AC29: 16.26 | AD29: 11.9 | AE29: 16.45 | AF29: 11.98 | AG29: 16.56 | AH29: 12.05 | AI29: 16.66 | AJ29: 9.75 | AK29: 13.44
A30: 1802 | B30: ARTANE 5MG CX C/ 30 CP (B1) | C30: 7896637018029 | D30: POSITIVA | E30: 3004.90.69 | F30: 12.94 | G30: 17.84 | H30: 13.72 | I30: 18.91 | J30: 13.89 | K30: 19.15 | L30: 14.06 | M30: 19.38 | N30: 14.14 | O30: 19.49 | P30: 14.23 | Q30: 19.61 | R30: 14.32 | S30: 19.74 | T30: 14.6 | U30: 20.12 | V30: 14.69 | W30: 20.25 | X30: 14.79 | Y30: 20.39 | Z30: 13.55 | AA30: 18.73 | AB30: 13.72 | AC30: 18.97 | AD30: 13.89 | AE30: 19.2 | AF30: 13.98 | AG30: 19.33 | AH30: 14.06 | AI30: 19.44 | AJ30: 11.39 | AK30: 15.7
B31: ATENTAH
A32: 3394 | B32: ATENTAH 10MG CX C/30 CAPS OR | C32: 7896637033947 | D32: NEGATIVA | E32: 3004.90.39 | F32: 23.9 | G32: 32.06 | H32: 25.34 | I32: 33.99 | J32: 25.65 | K32: 34.41 | L32: 25.96 | M32: 34.82 | N32: 26.12 | O32: 35.04 | P32: 26.29 | Q32: 35.27 | R32: 26.45 | S32: 35.48 | T32: 26.96 | U32: 36.17 | V32: 27.14 | W32: 36.41 | X32: 27.31 | Y32: 36.64 | Z32: 22.62 | AA32: 31.27 | AB32: 22.9 | AC32: 31.66 | AD32: 23.18 | AE32: 32.04 | AF32: 23.33 | AG32: 32.25 | AH32: 23.47 | AI32: 32.45 | AJ32: 21.03 | AK32: 28.21
A33: 3395 | B33: ATENTAH 18MG CX C/30 CAPS OR | C33: 7896637033954 | D33: NEGATIVA | E33: 3004.90.39 | F33: 43.01 | G33: 57.7 | H33: 45.6 | I33: 61.17 | J33: 46.16 | K33: 61.92 | L33: 46.73 | M33: 62.69 | N33: 47.02 | O33: 63.08 | P33: 47.31 | Q33: 63.46 | R33: 47.61 | S33: 63.87 | T33: 48.53 | U33: 65.1 | V33: 48.84 | W33: 65.52 | X33: 49.16 | Y33: 65.95 | Z33: 40.72 | AA33: 56.29 | AB33: 41.21 | AC33: 56.97 | AD33: 41.72 | AE33: 57.68 | AF33: 41.98 | AG33: 58.03 | AH33: 42.24 | AI33: 58.39 | AJ33: 37.85 | AK33: 50.77
A34: 3396 | B34: ATENTAH 25MG CX C/30 CAPS OR | C34: 7896637033961 | D34: NEGATIVA | E34: 3004.90.39 | F34: 59.75 | G34: 80.15 | H34: 63.35 | I34: 84.98 | J34: 64.12 | K34: 86.01 | L34: 64.91 | M34: 87.07 | N34: 65.32 | O34: 87.62 | P34: 65.73 | Q34: 88.17 | R34: 66.14 | S34: 88.72 | T34: 67.41 | U34: 90.43 | V34: 67.85 | W34: 91.02 | X34: 68.29 | Y34: 91.61 | Z34: 56.56 | AA34: 78.19 | AB34: 57.25 | AC34: 79.14 | AD34: 57.96 | AE34: 80.13 | AF34: 58.32 | AG34: 80.62 | AH34: 58.68 | AI34: 81.12 | AJ34: 52.58 | AK34: 70.53
A35: 3397 | B35: ATENTAH 40MG CX C/30 CAPS OR | C35: 7896637033978 | D35: NEGATIVA | E35: 3004.90.39 | F35: 95.6 | G35: 128.24 | H35: 101.36 | I35: 135.97 | J35: 102.6 | K35: 137.63 | L35: 103.86 | M35: 139.32 | N35: 104.51 | O35: 140.2 | P35: 105.16 | Q35: 141.07 | R35: 105.82 | S35: 141.95 | T35: 107.86 | U35: 144.69 | V35: 108.55 | W35: 145.62 | X35: 109.26 | Y35: 146.57 | Z35: 90.5 | AA35: 125.11 | AB35: 91.6 | AC35: 126.63 | AD35: 92.74 | AE35: 128.21 | AF35: 93.31 | AG35: 129 | AH35: 93.9 | AI35: 129.81 | AJ35: 84.13 | AK35: 112.86
A36: 3398 | B36: ATENTAH 60MG CX C/30 CAPS OR | C36: 7896637033985 | D36: NEGATIVA | E36: 3004.90.39 | F36: 143.42 | G36: 192.39 | H36: 152.06 | I36: 203.98 | J36: 153.91 | K36: 206.46 | L36: 155.81 | M36: 209.01 | N36: 156.78 | O36: 210.31 | P36: 157.76 | Q36: 211.63 | R36: 158.75 | S36: 212.96 | T36: 161.81 | U36: 217.06 | V36: 162.85 | W36: 218.46 | X36: 163.91 | Y36: 219.88 | Z36: 135.77 | AA36: 187.69 | AB36: 137.42 | AC36: 189.98 | AD36: 139.12 | AE36: 192.33 | AF36: 139.98 | AG36: 193.51 | AH36: 140.86 | AI36: 194.73 | AJ36: 126.21 | AK36: 169.31
A37: 3399 | B37: ATENTAH 80MG CX C/30 CAPS OR | C37: 7896637033992 | D37: NEGATIVA | E37: 3004.90.39 | F37: 191.23 | G37: 256.53 | H37: 202.75 | I37: 271.98 | J37: 205.22 | K37: 275.3 | L37: 207.75 | M37: 278.69 | N37: 209.04 | O37: 280.42 | P37: 210.35 | Q37: 282.18 | R37: 211.67 | S37: 283.95 | T37: 215.74 | U37: 289.41 | V37: 217.14 | W37: 291.29 | X37: 218.55 | Y37: 293.18 | Z37: 181.02 | AA37: 250.25 | AB37: 183.23 | AC37: 253.3 | AD37: 185.49 | AE37: 256.43 | AF37: 186.65 | AG37: 258.03 | AH37: 187.81 | AI37: 259.64 | AJ37: 168.28 | AK37: 225.74
A38: 3400 | B38: ATENTAH 100MG CX C 30 CAPS OR (C1) | C38: 7896637034005 | D38: NEGATIVA | E38: 3004.90.39 | F38: 239.02 | G38: 320.64 | H38: 253.42 | I38: 339.95 | J38: 256.51 | K38: 344.1 | L38: 259.68 | M38: 348.35 | N38: 261.29 | O38: 350.51 | P38: 262.93 | Q38: 352.71 | R38: 264.58 | S38: 354.92 | T38: 269.67 | U38: 361.75 | V38: 271.41 | W38: 364.09 | X38: 273.17 | Y38: 366.45 | Z38: 226.27 | AA38: 312.81 | AB38: 229.03 | AC38: 316.62 | AD38: 231.86 | AE38: 320.53 | AF38: 233.3 | AG38: 322.52 | AH38: 234.75 | AI38: 324.53 | AJ38: 210.34 | AK38: 282.16
B39: ATTIVS
A40: 3185 | B40: ATTIVS 30 CP REV OR | C40: 7896637031851 | D40: NEUTRA | E40: 2106.90.30 | F40: 81.42 | G40: - | H40: 81.42 | I40: - | J40: 81.42 | K40: - | L40: 81.42 | M40: - | N40: 81.42 | O40: - | P40: 81.42 | Q40: - | R40: 81.42 | S40: - | T40: 81.42 | U40: - | V40: 81.42 | W40: - | X40: 81.42 | Y40: - | Z40: 81.42 | AA40: - | AB40: 81.42 | AC40: - | AD40: 81.42 | AE40: - | AF40: 81.42 | AG40: - | AH40: 81.42 | AI40: - | AJ40: 81.42 | AK40: -
A41: 3186 | B41: ATTIVS 60 CP VER OR | C41: 7896637031868 | D41: NEUTRA | E41: 2106.90.30 | F41: 142.48 | G41: - | H41: 142.48 | I41: - | J41: 142.48 | K41: - | L41: 142.48 | M41: - | N41: 142.48 | O41: - | P41: 142.48 | Q41: - | R41: 142.48 | S41: - | T41: 142.48 | U41: - | V41: 142.48 | W41: - | X41: 142.48 | Y41: - | Z41: 142.48 | AA41: - | AB41: 142.48 | AC41: - | AD41: 142.48 | AE41: - | AF41: 142.48 | AG41: - | AH41: 142.48 | AI41: - | AJ41: 142.48 | AK41: -
B42: AZULFIN
A43: 2272 | B43: AZULFIN 500MG CX C/60 CP OR | C43: 7896637022729 | D43: POSITIVA | E43: 3004.90.79 | F43: 97.76 | G43: 134.75 | H43: 103.65 | I43: 142.87 | J43: 104.92 | K43: 144.62 | L43: 106.21 | M43: 146.4 | N43: 106.87 | O43: 147.31 | P43: 107.54 | Q43: 148.23 | R43: 108.22 | S43: 149.17 | T43: 110.3 | U43: 152.04 | V43: 111.01 | W43: 153.02 | X43: 111.73 | Y43: 154.01 | Z43: 102.41 | AA43: 141.58 | AB43: 103.66 | AC43: 143.3 | AD43: 104.94 | AE43: 145.07 | AF43: 105.59 | AG43: 145.97 | AH43: 106.25 | AI43: 146.88 | AJ43: 86.03 | AK43: 118.58
A44: 3090 | B44: AZULFIN 500MG CX C/60 CP OR | C44: 7896637022729 | D44: POSITIVA | E44: 3004.90.79 | F44: 97.76 | G44: 134.75 | H44: 103.65 | I44: 142.87 | J44: 104.92 | K44: 144.62 | L44: 106.21 | M44: 146.4 | N44: 106.87 | O44: 147.31 | P44: 107.54 | Q44: 148.23 | R44: 108.22 | S44: 149.17 | T44: 110.3 | U44: 152.04 | V44: 111.01 | W44: 153.02 | X44: 111.73 | Y44: 154.01 | Z44: 102.41 | AA44: 141.58 | AB44: 103.66 | AC44: 143.3 | AD44: 104.94 | AE44: 145.07 | AF44: 105.59 | AG44: 145.97 | AH44: 106.25 | AI44: 146.88 | AJ44: 86.03 | AK44: 118.58
B45: COBI
A46: 3573 | B46: COBI-12 1000MCG CX C/30 CP SUB OR | C46: 7896637035736 | D46: NEGATIVA | E46: 3004.50.90 | F46: 24.34 | G46: 32.65 | H46: 25.81 | I46: 34.62 | J46: 26.12 | K46: 35.04 | L46: 26.44 | M46: 35.47 | N46: 26.61 | O46: 35.7 | P46: 26.78 | Q46: 35.92 | R46: 26.94 | S46: 36.14 | T46: 27.46 | U46: 36.84 | V46: 27.64 | W46: 37.08 | X46: 27.82 | Y46: 37.32 | Z46: 23.04 | AA46: 31.85 | AB46: 23.32 | AC46: 32.24 | AD46: 23.61 | AE46: 32.64 | AF46: 23.76 | AG46: 32.85 | AH46: 23.91 | AI46: 33.05 | AJ46: 21.42 | AK46: 28.73
A47: 3574 | B47: COBI-12 1000MCG CX C/60 CP SUB OR | C47: 7896637035743 | D47: NEGATIVA | E47: 3004.50.90 | F47: 43.81 | G47: 58.77 | H47: 46.45 | I47: 62.31 | J47: 47.01 | K47: 63.06 | L47: 47.59 | M47: 63.84 | N47: 47.89 | O47: 64.24 | P47: 48.19 | Q47: 64.65 | R47: 48.49 | S47: 65.05 | T47: 49.42 | U47: 66.3 | V47: 49.74 | W47: 66.72 | X47: 50.06 | Y47: 67.15 | Z47: 41.47 | AA47: 57.33 | AB47: 41.98 | AC47: 58.03 | AD47: 42.49 | AE47: 58.74 | AF47: 42.76 | AG47: 59.11 | AH47: 43.02 | AI47: 59.47 | AJ47: 38.55 | AK47: 51.71
B48: COLCHIS
A49: 2292 | B49: COLCHIS 0,5MG 20 CPR | C49: 7896637022927 | D49: POSITIVA | E49: 3004.49.90 | F49: 39.43 | G49: 54.35 | H49: 41.8 | I49: 57.62 | J49: 42.31 | K49: 58.32 | L49: 42.84 | M49: 59.05 | N49: 43.1 | O49: 59.41 | P49: 43.37 | Q49: 59.78 | R49: 43.64 | S49: 60.15 | T49: 44.48 | U49: 61.31 | V49: 44.77 | W49: 61.71 | X49: 45.06 | Y49: 62.11 | Z49: 41.3 | AA49: 57.09 | AB49: 41.8 | AC49: 57.79 | AD49: 42.32 | AE49: 58.5 | AF49: 42.58 | AG49: 58.86 | AH49: 42.85 | AI49: 59.24 | AJ49: 34.7 | AK49: 47.83
A50: 2435 | B50: COLCHIS 0,5MG CX C/30 CP OR | C50: 7896637024358 | D50: POSITIVA | E50: 3004.49.90 | F50: 59.2 | G50: 81.6 | H50: 62.77 | I50: 86.52 | J50: 63.53 | K50: 87.57 | L50: 64.32 | M50: 88.66 | N50: 64.71 | O50: 89.2 | P50: 65.12 | Q50: 89.76 | R50: 65.53 | S50: 90.33 | T50: 66.79 | U50: 92.06 | V50: 67.22 | W50: 92.66 | X50: 67.66 | Y50: 93.26 | Z50: 62.01 | AA50: 85.73 | AB50: 62.77 | AC50: 86.78 | AD50: 63.54 | AE50: 87.84 | AF50: 63.94 | AG50: 88.39 | AH50: 64.34 | AI50: 88.95 | AJ50: 52.1 | AK50: 71.81
A51: 2436 | B51: COLCHIS 1MG CX C/30 CP OR | C51: 7896637024365 | D51: POSITIVA | E51: 3004.49.90 | F51: 68.83 | G51: 94.87 | H51: 72.97 | I51: 100.58 | J51: 73.86 | K51: 101.81 | L51: 74.77 | M51: 103.06 | N51: 75.24 | O51: 103.71 | P51: 75.71 | Q51: 104.36 | R51: 76.18 | S51: 105.01 | T51: 77.65 | U51: 107.03 | V51: 78.15 | W51: 107.72 | X51: 78.66 | Y51: 108.42 | Z51: 72.1 | AA51: 99.67 | AB51: 72.98 | AC51: 100.89 | AD51: 73.88 | AE51: 102.13 | AF51: 74.34 | AG51: 102.77 | AH51: 74.8 | AI51: 103.41 | AJ51: 60.57 | AK51: 83.49
B52: DESOL
A53: 2617 | B53: DESOL 10ML | C53: 7896637026178 | D53: NEUTRA | E53: 2106.90.30 | F53: 50.99 | G53: 37.571579 | H53: 50.99 | I53: 37.571579 | J53: 50.99 | K53: 37.571579 | L53: 50.99 | M53: 37.571579 | N53: 50.99 | O53: 37.571579 | P53: 50.99 | Q53: 37.571579 | R53: 50.99 | S53: 37.571579 | T53: 50.99 | U53: 37.571579 | V53: 50.99 | W53: 37.571579 | X53: 50.99 | Y53: 37.571579 | Z53: 50.99 | AA53: 37.571579 | AB53: 50.99 | AC53: 37.571579 | AD53: 50.99 | AE53: 37.571579 | AF53: 50.99 | AG53: 37.571579 | AH53: 50.99 | AI53: 37.571579 | AJ53: 50.99 | AK53: 37.571579
A54: 2618 | B54: DESOL 20ML | C54: 7896637026185 | D54: NEUTRA | E54: 2106.90.30 | F54: 89.3 | G54: 65.8 | H54: 89.3 | I54: 65.8 | J54: 89.3 | K54: 65.8 | L54: 89.3 | M54: 65.8 | N54: 89.3 | O54: 65.8 | P54: 89.3 | Q54: 65.8 | R54: 89.3 | S54: 65.8 | T54: 89.3 | U54: 65.8 | V54: 89.3 | W54: 65.8 | X54: 89.3 | Y54: 65.8 | Z54: 89.3 | AA54: 65.8 | AB54: 89.3 | AC54: 65.8 | AD54: 89.3 | AE54: 65.8 | AF54: 89.3 | AG54: 65.8 | AH54: 89.3 | AI54: 65.8 | AJ54: 89.3 | AK54: 65.8
B55: DIGELIV
A56: 2622 | B56: DIGELIV 400 ALU CX C/30 SACHES | C56: 7896637026222 | D56: NEUTRA | E56: 2106.90.30 | F56: 70.83 | G56: - | H56: 70.83 | I56: - | J56: 70.83 | K56: - | L56: 70.83 | M56: - | N56: 70.83 | O56: - | P56: 70.83 | Q56: - | R56: 70.83 | S56: - | T56: 70.83 | U56: - | V56: 70.83 | W56: - | X56: 70.83 | Y56: - | Z56: 70.83 | AA56: - | AB56: 70.83 | AC56: - | AD56: 70.83 | AE56: - | AF56: 70.83 | AG56: - | AH56: 70.83 | AI56: - | AJ56: 70.83 | AK56: -
A57: 3356 | B57: DIGELIV 400FCC GALU CX C/15 CP MAST OR | C57: 7896637032735 | D57: NEUTRA | E57: 2106.90.30 | F57: 38.14 | G57: 57.611474 | H57: 38.14 | I57: 57.611474 | J57: 38.14 | K57: 57.611474 | L57: 38.14 | M57: 57.611474 | N57: 38.14 | O57: 57.611474 | P57: 38.14 | Q57: 57.611474 | R57: 38.14 | S57: 57.611474 | T57: 38.14 | U57: 57.611474 | V57: 38.14 | W57: 57.611474 | X57: 38.14 | Y57: 57.611474 | Z57: 38.14 | AA57: 57.611474 | AB57: 38.14 | AC57: 57.611474 | AD57: 38.14 | AE57: 57.611474 | AF57: 38.14 | AG57: 57.611474 | AH57: 38.14 | AI57: 57.611474 | AJ57: 38.14 | AK57: 57.611474
A58: 3272 | B58: DIGELIV 400FCC GALU CX C/30 CP MAST OR | C58: 7896637032728 | D58: NEUTRA | E58: 2106.90.30 | F58: 70.83 | G58: 106.99058 | H58: 70.83 | I58: 106.99058 | J58: 70.83 | K58: 106.99058 | L58: 70.83 | M58: 106.99058 | N58: 70.83 | O58: 106.99058 | P58: 70.83 | Q58: 106.99058 | R58: 70.83 | S58: 106.99058 | T58: 70.83 | U58: 106.99058 | V58: 70.83 | W58: 106.99058 | X58: 70.83 | Y58: 106.99058 | Z58: 70.83 | AA58: 106.99058 | AB58: 70.83 | AC58: 106.99058 | AD58: 70.83 | AE58: 106.99058 | AF58: 70.83 | AG58: 106.99058 | AH58: 70.83 | AI58: 106.99058 | AJ58: 70.83 | AK58: 106.99058
B59: DOBEVEN
A60: 3545 | B60: DOBEVEN 500MG CX C/30 CAP | C60: 7896637035453 | D60: NEGATIVA | E60: 3004.90.99 | F60: 74.86 | G60: 100.42 | H60: 79.37 | I60: 106.47 | J60: 80.34 | K60: 107.77 | L60: 81.33 | M60: 109.1 | N60: 81.84 | O60: 109.79 | P60: 82.35 | Q60: 110.47 | R60: 82.87 | S60: 111.17 | T60: 84.46 | U60: 113.3 | V60: 85.01 | W60: 114.04 | X60: 85.56 | Y60: 114.78 | Z60: 70.87 | AA60: 97.97 | AB60: 71.73 | AC60: 99.16 | AD60: 72.62 | AE60: 100.39 | AF60: 73.07 | AG60: 101.01 | AH60: 73.53 | AI60: 101.65 | AJ60: 65.88 | AK60: 88.38
A61: 3546 | B61: DOBEVEN 500MG CX C/60 CAP | C61: 7896637035460 | D61: NEGATIVA | E61: 3004.90.99 | F61: 134.78 | G61: 180.8 | H61: 142.9 | I61: 191.7 | J61: 144.65 | K61: 194.04 | L61: 146.43 | M61: 196.43 | N61: 147.34 | O61: 197.65 | P61: 148.26 | Q61: 198.89 | R61: 149.2 | S61: 200.15 | T61: 152.06 | U61: 203.98 | V61: 153.05 | W61: 205.31 | X61: 154.04 | Y61: 206.64 | Z61: 127.59 | AA61: 176.39 | AB61: 129.15 | AC61: 178.54 | AD61: 130.74 | AE61: 180.74 | AF61: 131.55 | AG61: 181.86 | AH61: 132.38 | AI61: 183.01 | AJ61: 118.61 | AK61: 159.11
B62: DONAREN
A63: 2397 | B63: DONAREN 100MG CX C/30CP REV (C1) | C63: 7896637023979 | D63: POSITIVA | E63: 3004.90.69 | F63: 95.14 | G63: 131.14 | H63: 100.87 | I63: 139.04 | J63: 102.1 | K63: 140.73 | L63: 103.36 | M63: 142.47 | N63: 104.01 | O63: 143.37 | P63: 104.66 | Q63: 144.26 | R63: 105.31 | S63: 145.16 | T63: 107.34 | U63: 147.96 | V63: 108.03 | W63: 148.91 | X63: 108.73 | Y63: 149.87 | Z63: 99.66 | AA63: 137.77 | AB63: 100.88 | AC63: 139.46 | AD63: 102.12 | AE63: 141.17 | AF63: 102.76 | AG63: 142.06 | AH63: 103.4 | AI63: 142.94 | AJ63: 83.72 | AK63: 115.4
A64: 3170 | B64: DONAREN 150Mg RETARD Cx C/30 | C64: 7896637023627 | D64: POSITIVA | E64: 3004.90.69 | F64: 142.72 | G64: 196.72 | H64: 151.32 | I64: 208.58 | J64: 153.17 | K64: 211.13 | L64: 155.06 | M64: 213.73 | N64: 156.02 | O64: 215.06 | P64: 157 | Q64: 216.41 | R64: 157.98 | S64: 217.76 | T64: 161.02 | U64: 221.95 | V64: 162.06 | W64: 223.38 | X64: 163.11 | Y64: 224.83 | Z64: 149.51 | AA64: 206.69 | AB64: 151.33 | AC64: 209.2 | AD64: 153.2 | AE64: 211.79 | AF64: 154.15 | AG64: 213.1 | AH64: 155.11 | AI64: 214.43 | AJ64: 125.6 | AK64: 173.13
A65: 2276 | B65: DONAREN 50MG CX C/60 CP OR (C1) | C65: 7896637022767 | D65: POSITIVA | E65: 3004.90.69 | F65: 43.82 | G65: 60.4 | H65: 46.46 | I65: 64.04 | J65: 47.03 | K65: 64.83 | L65: 47.61 | M65: 65.63 | N65: 47.9 | O65: 66.03 | P65: 48.2 | Q65: 66.44 | R65: 48.51 | S65: 66.87 | T65: 49.44 | U65: 68.15 | V65: 49.76 | W65: 68.59 | X65: 50.08 | Y65: 69.03 | Z65: 45.9 | AA65: 63.45 | AB65: 46.46 | AC65: 64.23 | AD65: 47.04 | AE65: 65.03 | AF65: 47.33 | AG65: 65.43 | AH65: 47.63 | AI65: 65.85 | AJ65: 38.56 | AK65: 53.15
A66: 3599 | B66: DONAREN 150MG RETARD CX C/60 | C66: 7896637035996 | D66: POSITIVA | E66: 3004.90.69 | F66: 210.03 | G66: 289.5 | H66: 222.68 | I66: 306.94 | J66: 225.4 | K66: 310.69 | L66: 228.18 | M66: 314.52 | N66: 229.6 | O66: 316.48 | P66: 231.03 | Q66: 318.45 | R66: 232.49 | S66: 320.46 | T66: 236.96 | U66: 326.62 | V66: 238.49 | W66: 328.73 | X66: 240.04 | Y66: 330.87 | Z66: 220.01 | AA66: 304.15 | AB66: 222.7 | AC66: 307.87 | AD66: 225.44 | AE66: 311.66 | AF66: 226.84 | AG66: 313.59 | AH66: 228.26 | AI66: 315.56 | AJ66: 184.83 | AK66: 254.77
B67: DUEPOLI
A68: 3553 | B68: DUEPOLI 250MG CX C30 CP REV OR (C1) | C68: 7896637035538 | D68: POSITIVA | E68: 3004.90.99 | F68: 24.83 | G68: 34.23 | H68: 26.33 | I68: 36.29 | J68: 26.65 | K68: 36.73 | L68: 26.98 | M68: 37.19 | N68: 27.15 | O68: 37.42 | P68: 27.32 | Q68: 37.66 | R68: 27.49 | S68: 37.89 | T68: 28.02 | U68: 38.62 | V68: 28.2 | W68: 38.87 | X68: 28.38 | Y68: 39.12 | Z68: 26.01 | AA68: 35.96 | AB68: 26.33 | AC68: 36.4 | AD68: 26.65 | AE68: 36.84 | AF68: 26.82 | AG68: 37.08 | AH68: 26.99 | AI68: 37.31 | AJ68: 21.85 | AK68: 30.12
A69: 3830 | B69: DUEPOLI ER 250MG CX C/60 CP REV OR (C1) | C69: 7896637035552 | D69: POSITIVA | E69: 3004.90.99 | F69: 49.69 | G69: 68.49 | H69: 52.68 | I69: 72.61 | J69: 53.32 | K69: 73.5 | L69: 53.98 | M69: 74.41 | N69: 54.32 | O69: 74.87 | P69: 54.66 | Q69: 75.34 | R69: 55 | S69: 75.81 | T69: 56.06 | U69: 77.27 | V69: 56.42 | W69: 77.77 | X69: 56.79 | Y69: 78.28 | Z69: 52.05 | AA69: 71.96 | AB69: 52.68 | AC69: 72.83 | AD69: 53.33 | AE69: 73.73 | AF69: 53.66 | AG69: 74.18 | AH69: 54 | AI69: 74.65 | AJ69: 43.72 | AK69: 60.26
A70: 3832 | B70: DUEPOLI ER 500MG CX C/30 CP REV OR (C1) | C70: 7896637035637 | D70: POSITIVA | E70: 3004.90.99 | F70: 41.74 | G70: 57.53 | H70: 44.25 | I70: 60.99 | J70: 44.79 | K70: 61.74 | L70: 45.35 | M70: 62.51 | N70: 45.63 | O70: 62.9 | P70: 45.91 | Q70: 63.28 | R70: 46.2 | S70: 63.68 | T70: 47.09 | U70: 64.91 | V70: 47.39 | W70: 65.32 | X70: 47.7 | Y70: 65.75 | Z70: 43.72 | AA70: 60.44 | AB70: 44.26 | AC70: 61.19 | AD70: 44.8 | AE70: 61.93 | AF70: 45.08 | AG70: 62.32 | AH70: 45.36 | AI70: 62.71 | AJ70: 36.73 | AK70: 50.63
A71: 3833 | B71: DUEPOLI ER 500MG CX C/60 CP REV OR (C1) | C71: 7896637035651 | D71: POSITIVA | E71: 3004.90.99 | F71: 72 | G71: 99.24 | H71: 76.34 | I71: 105.23 | J71: 77.27 | K71: 106.51 | L71: 78.22 | M71: 107.82 | N71: 78.71 | O71: 108.49 | P71: 79.2 | Q71: 109.17 | R71: 79.7 | S71: 109.86 | T71: 81.23 | U71: 111.97 | V71: 81.76 | W71: 112.7 | X71: 82.29 | Y71: 113.43 | Z71: 75.42 | AA71: 104.26 | AB71: 76.34 | AC71: 105.54 | AD71: 77.28 | AE71: 106.84 | AF71: 77.76 | AG71: 107.5 | AH71: 78.25 | AI71: 108.18 | AJ71: 63.36 | AK71: 87.34
B72: ENIAGOR
A73: 3250 | B73: ENIAGOR 50M G/ML SOLUÇÃO CAPILAR 50ML OR | C73: 7896637032506 | D73: NEGATIVA | E73: 3004.90.69 | F73: 61.93 | G73: 83.08 | H73: 65.66 | I73: 88.08 | J73: 66.46 | K73: 89.15 | L73: 67.28 | M73: 90.25 | N73: 67.7 | O73: 90.82 | P73: 68.13 | Q73: 91.39 | R73: 68.55 | S73: 91.96 | T73: 69.87 | U73: 93.73 | V73: 70.32 | W73: 94.33 | X73: 70.78 | Y73: 94.95 | Z73: 58.63 | AA73: 81.05 | AB73: 59.34 | AC73: 82.03 | AD73: 60.07 | AE73: 83.04 | AF73: 60.45 | AG73: 83.57 | AH73: 60.83 | AI73: 84.09 | AJ73: 54.5 | AK73: 73.11
A74: 3279 | B74: ENIAGOR 50MG/ML SOL CAP 1FRX50ML REFIL OR | C74: 7896637032797 | D74: NEGATIVA | E74: 3004.90.69 | F74: 39.4 | G74: 52.85 | H74: 41.77 | I74: 56.03 | J74: 42.28 | K74: 56.72 | L74: 42.8 | M74: 57.41 | N74: 43.07 | O74: 57.78 | P74: 43.34 | Q74: 58.14 | R74: 43.61 | S74: 58.5 | T74: 44.45 | U74: 59.63 | V74: 44.74 | W74: 60.02 | X74: 45.03 | Y74: 60.41 | Z74: 37.3 | AA74: 51.57 | AB74: 37.75 | AC74: 52.19 | AD74: 38.22 | AE74: 52.84 | AF74: 38.45 | AG74: 53.15 | AH74: 38.69 | AI74: 53.49 | AJ74: 34.67 | AK74: 46.51
A75: 3280 | B75: ENIAGOR 50MG/ML SOL CAP 2FRX50ML OR | C75: 7896637032803 | D75: NEGATIVA | E75: 3004.90.69 | F75: 79.22 | G75: 106.27 | H75: 83.99 | I75: 112.67 | J75: 85.01 | K75: 114.04 | L75: 86.06 | M75: 115.45 | N75: 86.6 | O75: 116.17 | P75: 87.14 | Q75: 116.9 | R75: 87.69 | S75: 117.63 | T75: 89.37 | U75: 119.89 | V75: 89.95 | W75: 120.66 | X75: 90.53 | Y75: 121.44 | Z75: 74.99 | AA75: 103.67 | AB75: 75.9 | AC75: 104.93 | AD75: 76.84 | AE75: 106.23 | AF75: 77.32 | AG75: 106.89 | AH75: 77.8 | AI75: 107.55 | AJ75: 69.71 | AK75: 93.51
A76: 3281 | B76: ENIAGOR 50MG/ML SOL CAP 3FRX50ML OR | C76: 7896637032810 | D76: NEGATIVA | E76: 3004.90.69 | F76: 112.07 | G76: 150.34 | H76: 118.82 | I76: 159.39 | J76: 120.27 | K76: 161.34 | L76: 121.75 | M76: 163.32 | N76: 122.51 | O76: 164.34 | P76: 123.28 | Q76: 165.38 | R76: 124.05 | S76: 166.41 | T76: 126.44 | U76: 169.61 | V76: 127.25 | W76: 170.7 | X76: 128.08 | Y76: 171.81 | Z76: 106.09 | AA76: 146.66 | AB76: 107.38 | AC76: 148.45 | AD76: 108.71 | AE76: 150.29 | AF76: 109.38 | AG76: 151.21 | AH76: 110.07 | AI76: 152.17 | AJ76: 98.62 | AK76: 132.3
A77: 3784 | B77: ENIAGOR 50MG/ML SOL CAP 100ML C/GOTEJ OR | C77: 7896637037846 | D77: NEGATIVA | E77: 3004.90.69 | F77: 79.22 | G77: 106.27 | H77: 83.99 | I77: 112.67 | J77: 85.01 | K77: 114.04 | L77: 86.06 | M77: 115.45 | N77: 86.6 | O77: 116.17 | P77: 87.14 | Q77: 116.9 | R77: 87.69 | S77: 117.63 | T77: 89.37 | U77: 119.89 | V77: 89.95 | W77: 120.66 | X77: 90.53 | Y77: 121.44 | Z77: 74.99 | AA77: 103.67 | AB77: 75.9 | AC77: 104.93 | AD77: 76.84 | AE77: 106.23 | AF77: 77.32 | AG77: 106.89 | AH77: 77.8 | AI77: 107.55 | AJ77: 69.71 | AK77: 93.51
A78: 3785 | B78: ENIAGOR 50MG/ML SOL CAP 50ML C/GOTEJ OR | C78: 7896637037853 | D78: NEGATIVA | E78: 3004.90.69 | F78: 61.93 | G78: 83.08 | H78: 65.66 | I78: 88.08 | J78: 66.46 | K78: 89.15 | L78: 67.28 | M78: 90.25 | N78: 67.7 | O78: 90.82 | P78: 68.13 | Q78: 91.39 | R78: 68.55 | S78: 91.96 | T78: 69.87 | U78: 93.73 | V78: 70.32 | W78: 94.33 | X78: 70.78 | Y78: 94.95 | Z78: 58.63 | AA78: 81.05 | AB78: 59.34 | AC78: 82.03 | AD78: 60.07 | AE78: 83.04 | AF78: 60.45 | AG78: 83.57 | AH78: 60.83 | AI78: 84.09 | AJ78: 54.5 | AK78: 73.11
B79: ETOXIN
A80: 2258 | B80: ETOXIN XAROPE 50MG/ML 120ML (C1) | C80: 7896637022583 | D80: POSITIVA | E80: 3004.90.49 | F80: 60.35 | G80: 83.19 | H80: 63.98 | I80: 88.19 | J80: 64.76 | K80: 89.26 | L80: 65.56 | M80: 90.37 | N80: 65.97 | O80: 90.93 | P80: 66.38 | Q80: 91.5 | R80: 66.8 | S80: 92.08 | T80: 68.09 | U80: 93.85 | V80: 68.53 | W80: 94.46 | X80: 68.97 | Y80: 95.07 | Z80: 63.22 | AA80: 87.4 | AB80: 63.99 | AC80: 88.46 | AD80: 64.78 | AE80: 89.55 | AF80: 65.18 | AG80: 90.11 | AH80: 65.59 | AI80: 90.67 | AJ80: 53.1 | AK80: 73.19
A81: 3759 | B81: ETOXIN XAROPE 50MG/ML 120ML VPC | C81: 7896637022583 | D81: POSITIVA | E81: 3004.90.49 | F81: 60.35 | G81: 83.19 | H81: 63.98 | I81: 88.19 | J81: 64.76 | K81: 89.26 | L81: 65.56 | M81: 90.37 | N81: 65.97 | O81: 90.93 | P81: 66.38 | Q81: 91.5 | R81: 66.8 | S81: 92.08 | T81: 68.09 | U81: 93.85 | V81: 68.53 | W81: 94.46 | X81: 68.97 | Y81: 95.07 | Z81: 63.22 | AA81: 87.4 | AB81: 63.99 | AC81: 88.46 | AD81: 64.78 | AE81: 89.55 | AF81: 65.18 | AG81: 90.11 | AH81: 65.59 | AI81: 90.67 | AJ81: 53.1 | AK81: 73.19
B82: EXTIMA
A83: 3253 | B83: EXTIMA BAUNILHA LATA C/600G | C83: 7896637032537 | D83: NEUTRA | E83: 2106.90.30 | F83: 218.73 | G83: - | H83: 218.73 | I83: - | J83: 218.73 | K83: - | L83: 218.73 | M83: - | N83: 218.73 | O83: - | P83: 218.73 | Q83: - | R83: 218.73 | S83: - | T83: 218.73 | U83: - | V83: 218.73 | W83: - | X83: 218.73 | Y83: - | Z83: 218.73 | AA83: - | AB83: 218.73 | AC83: - | AD83: 218.73 | AE83: - | AF83: 218.73 | AG83: - | AH83: 218.73 | AI83: - | AJ83: 218.73 | AK83: -
A84: 3254 | B84: EXTIMA CX C/30 SACHES OR | C84: 7896637032544 | D84: NEUTRA | E84: 2106.90.30 | F84: 288.51 | G84: - | H84: 288.51 | I84: - | J84: 288.51 | K84: - | L84: 288.51 | M84: - | N84: 288.51 | O84: - | P84: 288.51 | Q84: - | R84: 288.51 | S84: - | T84: 288.51 | U84: - | V84: 288.51 | W84: - | X84: 288.51 | Y84: - | Z84: 288.51 | AA84: - | AB84: 288.51 | AC84: - | AD84: 288.51 | AE84: - | AF84: 288.51 | AG84: - | AH84: 288.51 | AI84: - | AJ84: 288.51 | AK84: -
A85: 3251 | B85: EXTIMA LATA BANANA C/600G | C85: 7896637032513 | D85: NEUTRA | E85: 2106.90.30 | F85: 218.73 | G85: - | H85: 218.73 | I85: - | J85: 218.73 | K85: - | L85: 218.73 | M85: - | N85: 218.73 | O85: - | P85: 218.73 | Q85: - | R85: 218.73 | S85: - | T85: 218.73 | U85: - | V85: 218.73 | W85: - | X85: 218.73 | Y85: - | Z85: 218.73 | AA85: - | AB85: 218.73 | AC85: - | AD85: 218.73 | AE85: - | AF85: 218.73 | AG85: - | AH85: 218.73 | AI85: - | AJ85: 218.73 | AK85: -
A86: 3252 | B86: EXTIMA LATA CHOCOLATE C/600G | C86: 7896637032520 | D86: NEUTRA | E86: 2106.90.30 | F86: 218.73 | G86: - | H86: 218.73 | I86: - | J86: 218.73 | K86: - | L86: 218.73 | M86: - | N86: 218.73 | O86: - | P86: 218.73 | Q86: - | R86: 218.73 | S86: - | T86: 218.73 | U86: - | V86: 218.73 | W86: - | X86: 218.73 | Y86: - | Z86: 218.73 | AA86: - | AB86: 218.73 | AC86: - | AD86: 218.73 | AE86: - | AF86: 218.73 | AG86: - | AH86: 218.73 | AI86: - | AJ86: 218.73 | AK86: -
B87: FITOSCAR
A88: 1717 | B88: FITOSCAR 20G OR | C88: 7896637017176 | D88: NEGATIVA | E88: 3004.90.99 | F88: 68.89 | G88: 92.41 | H88: 73.04 | I88: 97.98 | J88: 73.93 | K88: 99.17 | L88: 74.84 | M88: 100.4 | N88: 75.3 | O88: 101.01 | P88: 75.78 | Q88: 101.66 | R88: 76.25 | S88: 102.29 | T88: 77.72 | U88: 104.26 | V88: 78.22 | W88: 104.93 | X88: 78.73 | Y88: 105.61 | Z88: 65.21 | AA88: 90.15 | AB88: 66.01 | AC88: 91.25 | AD88: 66.82 | AE88: 92.37 | AF88: 67.24 | AG88: 92.96 | AH88: 67.66 | AI88: 93.54 | AJ88: 60.62 | AK88: 81.32
A89: 1719 | B89: FITOSCAR 50G | C89: 7896637017190 | D89: NEGATIVA | E89: 3004.90.99 | F89: 172.27 | G89: 231.09 | H89: 182.65 | I89: 245.02 | J89: 184.88 | K89: 248.01 | L89: 187.16 | M89: 251.07 | N89: 188.32 | O89: 252.62 | P89: 189.5 | Q89: 254.21 | R89: 190.69 | S89: 255.8 | T89: 194.36 | U89: 260.73 | V89: 195.61 | W89: 262.4 | X89: 196.88 | Y89: 264.11 | Z89: 163.08 | AA89: 225.45 | AB89: 165.07 | AC89: 228.2 | AD89: 167.11 | AE89: 231.02 | AF89: 168.15 | AG89: 232.46 | AH89: 169.2 | AI89: 233.91 | AJ89: 151.6 | AK89: 203.37
B90: FLANCOX
A91: 2314 | B91: FLANCOX 300MG C/14 CP REV | C91: 7896637023146 | D91: POSITIVA | E91: 3004.90.79 | F91: 23.11 | G91: 31.85 | H91: 24.5 | I91: 33.77 | J91: 24.8 | K91: 34.18 | L91: 25.1 | M91: 34.6 | N91: 25.26 | O91: 34.82 | P91: 25.42 | Q91: 35.04 | R91: 25.58 | S91: 35.26 | T91: 26.07 | U91: 35.93 | V91: 26.24 | W91: 36.17 | X91: 26.41 | Y91: 36.4 | Z91: 24.2 | AA91: 33.46 | AB91: 24.5 | AC91: 33.87 | AD91: 24.8 | AE91: 34.28 | AF91: 24.96 | AG91: 34.51 | AH91: 25.11 | AI91: 34.71 | AJ91: 20.33 | AK91: 28.02
A92: 2313 | B92: FLANCOX 300MG CX C/30 CP REV | C92: 7896637023139 | D92: POSITIVA | E92: 3004.90.79 | F92: 48.47 | G92: 66.81 | H92: 51.39 | I92: 70.84 | J92: 52.01 | K92: 71.69 | L92: 52.66 | M92: 72.59 | N92: 52.98 | O92: 73.03 | P92: 53.31 | Q92: 73.48 | R92: 53.65 | S92: 73.95 | T92: 54.68 | U92: 75.37 | V92: 55.03 | W92: 75.85 | X92: 55.39 | Y92: 76.35 | Z92: 50.77 | AA92: 70.19 | AB92: 51.39 | AC92: 71.04 | AD92: 52.02 | AE92: 71.91 | AF92: 52.35 | AG92: 72.37 | AH92: 52.68 | AI92: 72.83 | AJ92: 42.65 | AK92: 58.79
A93: 2334 | B93: FLANCOX 400MG C/10 CP REV | C93: 7896637023344 | D93: POSITIVA | E93: 3004.90.79 | F93: 21.99 | G93: 30.31 | H93: 23.32 | I93: 32.14 | J93: 23.6 | K93: 32.53 | L93: 23.89 | M93: 32.93 | N93: 24.04 | O93: 33.14 | P93: 24.19 | Q93: 33.34 | R93: 24.34 | S93: 33.55 | T93: 24.81 | U93: 34.2 | V93: 24.97 | W93: 34.42 | X93: 25.13 | Y93: 34.64 | Z93: 23.04 | AA93: 31.85 | AB93: 23.32 | AC93: 32.24 | AD93: 23.6 | AE93: 32.63 | AF93: 23.75 | AG93: 32.83 | AH93: 23.9 | AI93: 33.04 | AJ93: 19.35 | AK93: 26.67
A94: 2244 | B94: FLANCOX 400MG CX C/ 20 CP REV | C94: 7896637022446 | D94: POSITIVA | E94: 3004.90.79 | F94: 44.1 | G94: 60.79 | H94: 46.75 | I94: 64.44 | J94: 47.32 | K94: 65.23 | L94: 47.91 | M94: 66.04 | N94: 48.21 | O94: 66.45 | P94: 48.51 | Q94: 66.87 | R94: 48.81 | S94: 67.28 | T94: 49.75 | U94: 68.58 | V94: 50.07 | W94: 69.02 | X94: 50.4 | Y94: 69.47 | Z94: 46.19 | AA94: 63.85 | AB94: 46.76 | AC94: 64.64 | AD94: 47.33 | AE94: 65.43 | AF94: 47.63 | AG94: 65.85 | AH94: 47.93 | AI94: 66.26 | AJ94: 38.8 | AK94: 53.48
A95: 2323 | B95: FLANCOX 500Mg Cx C/14 CP REV | C95: 7896637023238 | D95: POSITIVA | E95: 3004.90.79 | F95: 36.92 | G95: 50.89 | H95: 39.14 | I95: 53.95 | J95: 39.62 | K95: 54.61 | L95: 40.11 | M95: 55.29 | N95: 40.36 | O95: 55.63 | P95: 40.61 | Q95: 55.98 | R95: 40.87 | S95: 56.34 | T95: 41.65 | U95: 57.41 | V95: 41.92 | W95: 57.78 | X95: 42.19 | Y95: 58.15 | Z95: 38.67 | AA95: 53.46 | AB95: 39.15 | AC95: 54.12 | AD95: 39.63 | AE95: 54.79 | AF95: 39.88 | AG95: 55.13 | AH95: 40.13 | AI95: 55.48 | AJ95: 32.49 | AK95: 44.78
A96: 3194 | B96: FLANCOX 600MG CX C/14 REV OR | C96: 7896637031943 | D96: POSITIVA | E96: 3004.90.79 | F96: 46.24 | G96: 63.74 | H96: 49.02 | I96: 67.57 | J96: 49.62 | K96: 68.4 | L96: 50.23 | M96: 69.24 | N96: 50.54 | O96: 69.66 | P96: 50.86 | Q96: 70.11 | R96: 51.18 | S96: 70.55 | T96: 52.16 | U96: 71.9 | V96: 52.5 | W96: 72.37 | X96: 52.84 | Y96: 72.83 | Z96: 48.43 | AA96: 66.95 | AB96: 49.02 | AC96: 67.77 | AD96: 49.63 | AE96: 68.61 | AF96: 49.94 | AG96: 69.04 | AH96: 50.25 | AI96: 69.47 | AJ96: 40.69 | AK96: 56.09
B97: FLORACOL
A98: 3766 | B98: FLORACOL CX C/30 SACHES OR | C98: 7896637037662 | D98: NEUTRA | E98: 2106.90.30 | F98: 131.55 | G98: - | H98: 131.55 | I98: - | J98: 131.55 | K98: - | L98: 131.55 | M98: - | N98: 131.55 | O98: - | P98: 131.55 | Q98: - | R98: 131.55 | S98: - | T98: 131.55 | U98: - | V98: 131.55 | W98: - | X98: 131.55 | Y98: - | Z98: 131.55 | AA98: - | AB98: 131.55 | AC98: - | AD98: 131.55 | AE98: - | AF98: 131.55 | AG98: - | AH98: 131.55 | AI98: - | AJ98: 131.55 | AK98: -
A99: 3771 | B99: FLORACOL CX C/5 SACHES OR | C99: 7896637037716 | D99: NEUTRA | E99: 2106.90.30 | F99: 25.22 | G99: - | H99: 25.22 | I99: - | J99: 25.22 | K99: - | L99: 25.22 | M99: - | N99: 25.22 | O99: - | P99: 25.22 | Q99: - | R99: 25.22 | S99: - | T99: 25.22 | U99: - | V99: 25.22 | W99: - | X99: 25.22 | Y99: - | Z99: 25.22 | AA99: - | AB99: 25.22 | AC99: - | AD99: 25.22 | AE99: - | AF99: 25.22 | AG99: - | AH99: 25.22 | AI99: - | AJ99: 25.22 | AK99: -
B100: INIBINA
A101: 2231 | B101: INIBINA 10MG CX C/20 CP OR | C101: 7896637022316 | D101: NEGATIVA | E101: 3004.90.39 | F101: 83.77 | G101: 112.37 | H101: 88.82 | I101: 119.15 | J101: 89.9 | K101: 120.6 | L101: 91.01 | M101: 122.09 | N101: 91.58 | O101: 122.85 | P101: 92.15 | Q101: 123.62 | R101: 92.73 | S101: 124.39 | T101: 94.51 | U101: 126.78 | V101: 95.12 | W101: 127.6 | X101: 95.74 | Y101: 128.43 | Z101: 79.3 | AA101: 109.63 | AB101: 80.27 | AC101: 110.97 | AD101: 81.26 | AE101: 112.34 | AF101: 81.77 | AG101: 113.04 | AH101: 82.28 | AI101: 113.75 | AJ101: 73.72 | AK101: 98.89
A102: 2235 | B102: INIBINA 10MG CX C/25 AMP X 2ML | C102: 7896637022354 | D102: NEGATIVA | E102: 3004.90.39 | F102: 399.5 | G102: 535.92 | H102: 423.57 | I102: 568.2 | J102: 428.73 | K102: 575.13 | L102: 434.02 | M102: 582.22 | N102: 436.72 | O102: 585.84 | P102: 439.45 | Q102: 589.51 | R102: 442.21 | S102: 593.21 | T102: 450.72 | U102: 604.62 | V102: 453.63 | W102: 608.53 | X102: 456.57 | Y102: 612.47 | Z102: 378.18 | AA102: 522.81 | AB102: 382.8 | AC102: 529.2 | AD102: 387.52 | AE102: 535.72 | AF102: 389.93 | AG102: 539.06 | AH102: 392.37 | AI102: 542.43 | AJ102: 351.56 | AK102: 471.61
A103: 2402 | B103: INIBINA 10MG CX C/30 CP OR | C103: 7896637024020 | D103: NEGATIVA | E103: 3004.90.39 | F103: 119.39 | G103: 160.16 | H103: 126.58 | I103: 169.8 | J103: 128.12 | K103: 171.87 | L103: 129.7 | M103: 173.99 | N103: 130.51 | O103: 175.07 | P103: 131.33 | Q103: 176.17 | R103: 132.15 | S103: 177.27 | T103: 134.69 | U103: 180.68 | V103: 135.56 | W103: 181.85 | X103: 136.44 | Y103: 183.03 | Z103: 113.02 | AA103: 156.24 | AB103: 114.39 | AC103: 158.14 | AD103: 115.81 | AE103: 160.1 | AF103: 116.53 | AG103: 161.1 | AH103: 117.25 | AI103: 162.09 | AJ103: 105.06 | AK103: 140.93
A104: 2233 | B104: INIBINA 10MG CX C/5 AMP 2ML | C104: 7896637022330 | D104: NEGATIVA | E104: 3004.90.39 | F104: 80.8 | G104: 108.39 | H104: 85.66 | I104: 114.91 | J104: 86.71 | K104: 116.32 | L104: 87.78 | M104: 117.75 | N104: 88.32 | O104: 118.48 | P104: 88.88 | Q104: 119.23 | R104: 89.43 | S104: 119.97 | T104: 91.15 | U104: 122.27 | V104: 91.74 | W104: 123.07 | X104: 92.34 | Y104: 123.87 | Z104: 76.48 | AA104: 105.73 | AB104: 77.42 | AC104: 107.03 | AD104: 78.37 | AE104: 108.34 | AF104: 78.86 | AG104: 109.02 | AH104: 79.35 | AI104: 109.7 | AJ104: 71.1 | AK104: 95.38
A105: 3730 | B105: INIBINA 10MG CX C/25 FR AMP X 2ML | C105: 7896637037303 | D105: NEGATIVA | E105: 3004.90.39 | F105: 399.5 | G105: 535.92 | H105: 423.57 | I105: 568.2 | J105: 428.73 | K105: 575.13 | L105: 434.02 | M105: 582.22 | N105: 436.72 | O105: 585.84 | P105: 439.45 | Q105: 589.51 | R105: 442.21 | S105: 593.21 | T105: 450.72 | U105: 604.62 | V105: 453.63 | W105: 608.53 | X105: 456.57 | Y105: 612.47 | Z105: 378.18 | AA105: 522.81 | AB105: 382.8 | AC105: 529.2 | AD105: 387.52 | AE105: 535.72 | AF105: 389.93 | AG105: 539.06 | AH105: 392.37 | AI105: 542.43 | AJ105: 351.56 | AK105: 471.61
...

Sheet PRICE
C5: lista interna estamos praticando preço menor do que o permitido
B7: CÓD | C7: CONCENTRAÇÃO(ÕES) FARMACOLÓGICA(S) E APRESENTAÇÃO | D7: EAN
B8: APSEN
B9: 2521 | C9: ALOIS 10MG CX C/50 CP REV (C1) | D9: 7896637025218
B10: 2555 | C10: ALOIS 10MG CX C/120 CP REV (C1) | D10: 7896637025553
B11: 2436 | C11: COLCHIS 1MG CX C/30 CP OR | D11: 7896637024365
B12: 2548 | C12: DOBEVEN 500MG CX C/60 CÁPSULAS | D12: 7896637025485
B13: 2907 | C13: INSIT 50 MG CX C/ 30 CAPSULAS | D13: 7896637029070 | E13: Novos que a Marisa menciona no e-mail
B14: 2911 | C14: INSIT 75 MG CX C/ 30 CAPSULAS | D14: 7896637029117 | E14: Novos que a Marisa menciona no e-mail
B15: 2915 | C15: INSIT 150 MG CX C/ 30 CAPSULAS | D15: 7896637029155 | E15: Novos que a Marisa menciona no e-mail
B16: 2379 | C16: LEVOXIN 750Mg CX C/7 CP OR | D16: 7896637023795 | E16: Novos que a Marisa menciona no e-mail
B17: 2385 | C17: LEVOXIN 750Mg CX C/5 CP OR | D17: 7896637023856 | E17: Novos que a Marisa menciona no e-mail
B18: 3000 | C18: TRATURIL 5,631G/8G CX C/1 ENV OR | D18: 7896637030007 | E18: Novos que a Marisa menciona no e-mail
B19: 3001 | C19: TRATURIL 5,631G/8G CX C/2 ENV OR | D19: 7896637030014 | E19: Novos que a Marisa menciona no e-mail
C22: Liberados
B24: CÓD | C24: CONCENTRAÇÃO(ÕES) FARMACOLÓGICA(S) E APRESENTAÇÃO | D24: EAN
B25: APSEN
B26: 1702 | C26: ARPADOL 400MG CX C/30 CP REV | D26: 7896637017022
B27: 1704 | C27: ARPADOL 400MG CX C/60 CP REV | D27: 7896637017046
B28: 2617 | C28: DESOL 10ML | D28: 7896637026178
B29: 2618 | C29: DESOL 20ML | D29: 7896637026185
B30: 2622 | C30: DIGELIV 400 ALU CX C/30 SACHES | D30: 7896637026222
B31: 2831 | C31: EXTIMA CX C/30 SACHES OR | D31: 7896637028318
B32: 3087 | C32: EXTIMA LATA C/600G | D32: 7896637030878
B33: 1717 | C33: FITOSCAR 20G OR | D33: 7896637017176
B34: 1719 | C34: FITOSCAR 50G | D34: 7896637017190
B35: 2650 | C35: FOLINE HAIR CX C/ 60 CAP | D35: 7896637026505
B36: 2629 | C36: LACTOSIL 4.000 ALU CX C/30 SACHES | D36: 7896637026291
B37: 2630 | C37: LACTOSIL 10.000 ALU CX C/30 SACHES | D37: 7896637026307
... B48: 3082 | C48: VELUS MAG CX C/30 CP OR | D48: 7896637030823

Sheet Aliquota
B2: ICMS no Acre – 17% | C2: PF AC | D2: 0.17
B3: ICMS em Alagoas – 17% | C3: PF AL | D3: 0.17
B4: ICMS no Amazonas – 18% | C4: PF AM | D4: 0.18
B5: ICMS no Amapá – 18% | C5: PF AP | D5: 0.18
B6: ICMS na Bahia – 18% | C6: PF BA | D6: 0.18
B7: ICMS no Ceará – 18% | C7: PF CE | D7: 0.18
B8: ICMS no Distrito Federal – 18% | C8: PF DF | D8: 0.17
B9: ICMS no Espírito Santo – 17% | C9: PF ES | D9: 0.17
B10: ICMS em Goiás -17% | C10: PF GO | D10: 0.17
B11: ICMS no Maranhão – 18% | C11: PF MA | D11: 0.18
B12: ICMS no Mato Grosso – 17% | C12: PF MT | D12: 0.17
B13: ICMS no Mato Grosso do Sul – 17% | C13: PF MS | D13: 0.17
... B28: ICMS no Tocantins – 18% | C28: PF TO | D28: 0.18

Sheet BASE RESUMIDA (2)
L3: Lista de preços 2018 - em vigor a partir de 01/04/18
A9: CÓD APSEN | B9: CONCENTRAÇÃO(ÕES) FARMACOLÓGICA(S) E APRESENTAÇÃO | C9: EAN | D9: LCCT | E9: NCM | F9: ICMS 20% RJ | H9: ICMS 18% AM, AP, BA, MA, PB, PE, RN, RS, SE, TO, MG, SP, CE, PR, PI | J9: ICMS 17% AC, AL, DF, ES, GO, MT, MS, PA, RR, SC | L9: ICMS 12% Genérico SP-MG | N9: ICMS 17,5% Rondônia
F10: PF | G10: PMC | H10: PF | I10: PMC | J10: PF | K10: PMC | L10: PF | M10: PMC | N10: PF | O10: PMC
B11: ALOIS
A12: 2337 | B12: ALOIS 10MG CX C/30 CP REV (C1) | C12: 7896637023375 | D12: P | E12: 3004.90.39 | F12: =VLOOKUP($A12,#REF!,#REF!,0) -> #REF! | G12: =VLOOKUP($A12,#REF!,#REF!,0) -> #REF! | H12: =VLOOKUP($A12,#REF!,#REF!,0) -> #REF! | I12: =VLOOKUP($A12,#REF!,#REF!,0) -> #REF! | J12: =VLOOKUP($A12,#REF!,#REF!,0) -> #REF! | K12: =VLOOKUP($A12,#REF!,#REF!,0) -> #REF! | L12: =VLOOKUP($A12,#REF!,#REF!,0) -> #REF! | M12: =VLOOKUP($A12,#REF!,#REF!,0) -> #REF! | ... O12: =VLOOKUP($A12,#REF!,#REF!,0) -> #REF!
A13: 2440 | B13: ALOIS 10MG CX C/60 CP REV (C1) | C13: 7896637024402 | D13: P | E13: 3004.90.39 | F13: =VLOOKUP($A13,#REF!,#REF!,0) -> #REF! | G13: =VLOOKUP($A13,#REF!,#REF!,0) -> #REF! | H13: =VLOOKUP($A13,#REF!,#REF!,0) -> #REF! | I13: =VLOOKUP($A13,#REF!,#REF!,0) -> #REF! | J13: =VLOOKUP($A13,#REF!,#REF!,0) -> #REF! | K13: =VLOOKUP($A13,#REF!,#REF!,0) -> #REF! | L13: =VLOOKUP($A13,#REF!,#REF!,0) -> #REF! | M13: =VLOOKUP($A13,#REF!,#REF!,0) -> #REF! | ... O13: =VLOOKUP($A13,#REF!,#REF!,0) -> #REF!
A14: 2521 | B14: ALOIS 10MG CX C/50 CP REV (C1) | C14: 7896637025218 | D14: P | E14: 3004.90.39 | F14: =VLOOKUP($A14,#REF!,#REF!,0) -> #REF! | G14: =VLOOKUP($A14,#REF!,#REF!,0) -> #REF! | H14: =VLOOKUP($A14,#REF!,#REF!,0) -> #REF! | I14: =VLOOKUP($A14,#REF!,#REF!,0) -> #REF! | J14: =VLOOKUP($A14,#REF!,#REF!,0) -> #REF! | K14: =VLOOKUP($A14,#REF!,#REF!,0) -> #REF! | L14: =VLOOKUP($A14,#REF!,#REF!,0) -> #REF! | M14: =VLOOKUP($A14,#REF!,#REF!,0) -> #REF! | ... O14: =VLOOKUP($A14,#REF!,#REF!,0) -> #REF!
A15: 2555 | B15: ALOIS 10MG CX C/120 CP REV (C1) | C15: 7896637025553 | D15: P | E15: 3004.90.39 | F15: =VLOOKUP($A15,#REF!,#REF!,0) -> #REF! | G15: =VLOOKUP($A15,#REF!,#REF!,0) -> #REF! | H15: =VLOOKUP($A15,#REF!,#REF!,0) -> #REF! | I15: =VLOOKUP($A15,#REF!,#REF!,0) -> #REF! | J15: =VLOOKUP($A15,#REF!,#REF!,0) -> #REF! | K15: =VLOOKUP($A15,#REF!,#REF!,0) -> #REF! | L15: =VLOOKUP($A15,#REF!,#REF!,0) -> #REF! | M15: =VLOOKUP($A15,#REF!,#REF!,0) -> #REF! | ... O15: =VLOOKUP($A15,#REF!,#REF!,0) -> #REF!
A16: 2452 | B16: ALOIS GOTAS 10 MG FR 50 ML | C16: 7896637024525 | D16: P | E16: 3004.90.39 | F16: =VLOOKUP($A16,#REF!,#REF!,0) -> #REF! | G16: =VLOOKUP($A16,#REF!,#REF!,0) -> #REF! | H16: =VLOOKUP($A16,#REF!,#REF!,0) -> #REF! | I16: =VLOOKUP($A16,#REF!,#REF!,0) -> #REF! | J16: =VLOOKUP($A16,#REF!,#REF!,0) -> #REF! | K16: =VLOOKUP($A16,#REF!,#REF!,0) -> #REF! | L16: =VLOOKUP($A16,#REF!,#REF!,0) -> #REF! | M16: =VLOOKUP($A16,#REF!,#REF!,0) -> #REF! | ... O16: =VLOOKUP($A16,#REF!,#REF!,0) -> #REF!
B17: ARPADOL
A18: 1702 | B18: ARPADOL 400MG CX C/30 CP VER | C18: 7896637017022 | D18: N | E18: 3004.90.99 | F18: =VLOOKUP($A18,#REF!,#REF!,0) -> #REF! | G18: =VLOOKUP($A18,#REF!,#REF!,0) -> #REF! | H18: =VLOOKUP($A18,#REF!,#REF!,0) -> #REF! | I18: =VLOOKUP($A18,#REF!,#REF!,0) -> #REF! | J18: =VLOOKUP($A18,#REF!,#REF!,0) -> #REF! | K18: =VLOOKUP($A18,#REF!,#REF!,0) -> #REF! | L18: =VLOOKUP($A18,#REF!,#REF!,0) -> #REF! | M18: =VLOOKUP($A18,#REF!,#REF!,0) -> #REF! | ... O18: =VLOOKUP($A18,#REF!,#REF!,0) -> #REF!
A19: 1704 | B19: ARPADOL 400MG CX C/60 CP VER | C19: 7896637017046 | D19: N | E19: 3004.90.99 | F19: =VLOOKUP($A19,#REF!,#REF!,0) -> #REF! | G19: =VLOOKUP($A19,#REF!,#REF!,0) -> #REF! | H19: =VLOOKUP($A19,#REF!,#REF!,0) -> #REF! | I19: =VLOOKUP($A19,#REF!,#REF!,0) -> #REF! | J19: =VLOOKUP($A19,#REF!,#REF!,0) -> #REF! | K19: =VLOOKUP($A19,#REF!,#REF!,0) -> #REF! | L19: =VLOOKUP($A19,#REF!,#REF!,0) -> #REF! | M19: =VLOOKUP($A19,#REF!,#REF!,0) -> #REF! | ... O19: =VLOOKUP($A19,#REF!,#REF!,0) -> #REF!
B20: ARTANE
A21: 1801 | B21: ARTANE 2MG CX C/30 CP (B1) | C21: 7896637018012 | D21: P | E21: 3004.90.69 | F21: =VLOOKUP($A21,#REF!,#REF!,0) -> #REF! | G21: =VLOOKUP($A21,#REF!,#REF!,0) -> #REF! | H21: =VLOOKUP($A21,#REF!,#REF!,0) -> #REF! | I21: =VLOOKUP($A21,#REF!,#REF!,0) -> #REF! | J21: =VLOOKUP($A21,#REF!,#REF!,0) -> #REF! | K21: =VLOOKUP($A21,#REF!,#REF!,0) -> #REF! | L21: =VLOOKUP($A21,#REF!,#REF!,0) -> #REF! | M21: =VLOOKUP($A21,#REF!,#REF!,0) -> #REF! | ... O21: =VLOOKUP($A21,#REF!,#REF!,0) -> #REF!
A22: 1802 | B22: ARTANE 5MG CX C/ 30 CP (B1) | C22: 7896637018029 | D22: P | E22: 3004.90.69 | F22: =VLOOKUP($A22,#REF!,#REF!,0) -> #REF! | G22: =VLOOKUP($A22,#REF!,#REF!,0) -> #REF! | H22: =VLOOKUP($A22,#REF!,#REF!,0) -> #REF! | I22: =VLOOKUP($A22,#REF!,#REF!,0) -> #REF! | J22: =VLOOKUP($A22,#REF!,#REF!,0) -> #REF! | K22: =VLOOKUP($A22,#REF!,#REF!,0) -> #REF! | L22: =VLOOKUP($A22,#REF!,#REF!,0) -> #REF! | M22: =VLOOKUP($A22,#REF!,#REF!,0) -> #REF! | ... O22: =VLOOKUP($A22,#REF!,#REF!,0) -> #REF!
B23: AZULFIN
A24: 2272 | B24: AZULFIN 500MG CX C/60 CP OR | C24: 7896637022729 | D24: P | E24: 3004.90.79 | F24: =VLOOKUP($A24,#REF!,#REF!,0) -> #REF! | G24: =VLOOKUP($A24,#REF!,#REF!,0) -> #REF! | H24: =VLOOKUP($A24,#REF!,#REF!,0) -> #REF! | I24: =VLOOKUP($A24,#REF!,#REF!,0) -> #REF! | J24: =VLOOKUP($A24,#REF!,#REF!,0) -> #REF! | K24: =VLOOKUP($A24,#REF!,#REF!,0) -> #REF! | L24: =VLOOKUP($A24,#REF!,#REF!,0) -> #REF! | M24: =VLOOKUP($A24,#REF!,#REF!,0) -> #REF! | ... O24: =VLOOKUP($A24,#REF!,#REF!,0) -> #REF!
B25: COLCHIS
A26: 2292 | B26: COLCHIS 0,5MG 20 CPR | C26: 7896637022927 | D26: P | E26: 3004.90.99 | F26: =VLOOKUP($A26,#REF!,#REF!,0) -> #REF! | G26: =VLOOKUP($A26,#REF!,#REF!,0) -> #REF! | H26: =VLOOKUP($A26,#REF!,#REF!,0) -> #REF! | I26: =VLOOKUP($A26,#REF!,#REF!,0) -> #REF! | J26: =VLOOKUP($A26,#REF!,#REF!,0) -> #REF! | K26: =VLOOKUP($A26,#REF!,#REF!,0) -> #REF! | L26: =VLOOKUP($A26,#REF!,#REF!,0) -> #REF! | M26: =VLOOKUP($A26,#REF!,#REF!,0) -> #REF! | ... O26: =VLOOKUP($A26,#REF!,#REF!,0) -> #REF!
A27: 2435 | B27: COLCHIS 0,5MG CX C/30 CPOR | C27: 7896637024358 | D27: P | E27: 3004.90.99 | F27: =VLOOKUP($A27,#REF!,#REF!,0) -> #REF! | G27: =VLOOKUP($A27,#REF!,#REF!,0) -> #REF! | H27: =VLOOKUP($A27,#REF!,#REF!,0) -> #REF! | I27: =VLOOKUP($A27,#REF!,#REF!,0) -> #REF! | J27: =VLOOKUP($A27,#REF!,#REF!,0) -> #REF! | K27: =VLOOKUP($A27,#REF!,#REF!,0) -> #REF! | L27: =VLOOKUP($A27,#REF!,#REF!,0) -> #REF! | M27: =VLOOKUP($A27,#REF!,#REF!,0) -> #REF! | ... O27: =VLOOKUP($A27,#REF!,#REF!,0) -> #REF!
A28: 2436 | B28: COLCHIS 1MG CX C/30 CP OR | C28: 7896637024365 | D28: P | E28: 3004.90.99 | F28: =VLOOKUP($A28,#REF!,#REF!,0) -> #REF! | G28: =VLOOKUP($A28,#REF!,#REF!,0) -> #REF! | H28: =VLOOKUP($A28,#REF!,#REF!,0) -> #REF! | I28: =VLOOKUP($A28,#REF!,#REF!,0) -> #REF! | J28: =VLOOKUP($A28,#REF!,#REF!,0) -> #REF! | K28: =VLOOKUP($A28,#REF!,#REF!,0) -> #REF! | L28: =VLOOKUP($A28,#REF!,#REF!,0) -> #REF! | M28: =VLOOKUP($A28,#REF!,#REF!,0) -> #REF! | ... O28: =VLOOKUP($A28,#REF!,#REF!,0) -> #REF!
B29: DESOL
A30: 2617 | B30: DESOL 10ML | C30: 7896637026178 | D30: Neutra | E30: 2106.90.30 | F30: =VLOOKUP($A30,#REF!,#REF!,0) -> #REF! | G30: =VLOOKUP($A30,#REF!,#REF!,0) -> #REF! | H30: =VLOOKUP($A30,#REF!,#REF!,0) -> #REF! | I30: =VLOOKUP($A30,#REF!,#REF!,0) -> #REF! | J30: =VLOOKUP($A30,#REF!,#REF!,0) -> #REF! | K30: =VLOOKUP($A30,#REF!,#REF!,0) -> #REF! | L30: =VLOOKUP($A30,#REF!,#REF!,0) -> #REF! | M30: =VLOOKUP($A30,#REF!,#REF!,0) -> #REF! | ... O30: =VLOOKUP($A30,#REF!,#REF!,0) -> #REF!
A31: 2618 | B31: DESOL 20ML | C31: 7896637026185 | D31: Neutra | E31: 2106.90.30 | F31: =VLOOKUP($A31,#REF!,#REF!,0) -> #REF! | G31: =VLOOKUP($A31,#REF!,#REF!,0) -> #REF! | H31: =VLOOKUP($A31,#REF!,#REF!,0) -> #REF! | I31: =VLOOKUP($A31,#REF!,#REF!,0) -> #REF! | J31: =VLOOKUP($A31,#REF!,#REF!,0) -> #REF! | K31: =VLOOKUP($A31,#REF!,#REF!,0) -> #REF! | L31: =VLOOKUP($A31,#REF!,#REF!,0) -> #REF! | M31: =VLOOKUP($A31,#REF!,#REF!,0) -> #REF! | ... O31: =VLOOKUP($A31,#REF!,#REF!,0) -> #REF!
B32: DESTILBENOL
A33: 2203 | B33: DESTILBENOL 1MG CX C/50 CP OR | C33: 7896637022033 | D33: P | E33: 3004.90.95 | F33: =VLOOKUP($A33,#REF!,#REF!,0) -> #REF! | G33: =VLOOKUP($A33,#REF!,#REF!,0) -> #REF! | H33: =VLOOKUP($A33,#REF!,#REF!,0) -> #REF! | I33: =VLOOKUP($A33,#REF!,#REF!,0) -> #REF! | J33: =VLOOKUP($A33,#REF!,#REF!,0) -> #REF! | K33: =VLOOKUP($A33,#REF!,#REF!,0) -> #REF! | L33: =VLOOKUP($A33,#REF!,#REF!,0) -> #REF! | M33: =VLOOKUP($A33,#REF!,#REF!,0) -> #REF! | ... O33: =VLOOKUP($A33,#REF!,#REF!,0) -> #REF!
B34: DIGELIV
A35: 2622 | B35: DIGELIV 400 ALU CX C/30 SACHES | C35: 7896637026222 | D35: Neutra | E35: 3507.90.49 | F35: =VLOOKUP($A35,#REF!,#REF!,0) -> #REF! | G35: =VLOOKUP($A35,#REF!,#REF!,0) -> #REF! | H35: =VLOOKUP($A35,#REF!,#REF!,0) -> #REF! | I35: =VLOOKUP($A35,#REF!,#REF!,0) -> #REF! | J35: =VLOOKUP($A35,#REF!,#REF!,0) -> #REF! | K35: =VLOOKUP($A35,#REF!,#REF!,0) -> #REF! | L35: =VLOOKUP($A35,#REF!,#REF!,0) -> #REF! | M35: =VLOOKUP($A35,#REF!,#REF!,0) -> #REF! | ... O35: =VLOOKUP($A35,#REF!,#REF!,0) -> #REF!
B36: DOBEVEN
A37: 2547 | B37: DOBEVEN 500MG CXC/30 CAP | C37: 7896637025478 | D37: N | E37: 3004.90.99 | F37: =VLOOKUP($A37,#REF!,#REF!,0) -> #REF! | G37: =VLOOKUP($A37,#REF!,#REF!,0) -> #REF! | H37: =VLOOKUP($A37,#REF!,#REF!,0) -> #REF! | I37: =VLOOKUP($A37,#REF!,#REF!,0) -> #REF! | J37: =VLOOKUP($A37,#REF!,#REF!,0) -> #REF! | K37: =VLOOKUP($A37,#REF!,#REF!,0) -> #REF! | L37: =VLOOKUP($A37,#REF!,#REF!,0) -> #REF! | M37: =VLOOKUP($A37,#REF!,#REF!,0) -> #REF! | ... O37: =VLOOKUP($A37,#REF!,#REF!,0) -> #REF!
A38: 2548 | B38: DOBEVEN 500MG CX C/60 CÁPSULAS | C38: 7896637025485 | D38: N | E38: 3004.90.99 | F38: =VLOOKUP($A38,#REF!,#REF!,0) -> #REF! | G38: =VLOOKUP($A38,#REF!,#REF!,0) -> #REF! | H38: =VLOOKUP($A38,#REF!,#REF!,0) -> #REF! | I38: =VLOOKUP($A38,#REF!,#REF!,0) -> #REF! | J38: =VLOOKUP($A38,#REF!,#REF!,0) -> #REF! | K38: =VLOOKUP($A38,#REF!,#REF!,0) -> #REF! | L38: =VLOOKUP($A38,#REF!,#REF!,0) -> #REF! | M38: =VLOOKUP($A38,#REF!,#REF!,0) -> #REF! | ... O38: =VLOOKUP($A38,#REF!,#REF!,0) -> #REF!
B39: DONAREN
A40: 2276 | B40: DONAREN 50MG CX C/60 CP OR (C1) | C40: 7896637022767 | D40: P | E40: 3004.90.69 | F40: =VLOOKUP($A40,#REF!,#REF!,0) -> #REF! | G40: =VLOOKUP($A40,#REF!,#REF!,0) -> #REF! | H40: =VLOOKUP($A40,#REF!,#REF!,0) -> #REF! | I40: =VLOOKUP($A40,#REF!,#REF!,0) -> #REF! | J40: =VLOOKUP($A40,#REF!,#REF!,0) -> #REF! | K40: =VLOOKUP($A40,#REF!,#REF!,0) -> #REF! | L40: =VLOOKUP($A40,#REF!,#REF!,0) -> #REF! | M40: =VLOOKUP($A40,#REF!,#REF!,0) -> #REF! | ... O40: =VLOOKUP($A40,#REF!,#REF!,0) -> #REF!
A41: 2397 | B41: DONAREN 100MG CX C/30CP REV (C1) | C41: 7896637023979 | D41: P | E41: 3004.90.69 | F41: =VLOOKUP($A41,#REF!,#REF!,0) -> #REF! | G41: =VLOOKUP($A41,#REF!,#REF!,0) -> #REF! | H41: =VLOOKUP($A41,#REF!,#REF!,0) -> #REF! | I41: =VLOOKUP($A41,#REF!,#REF!,0) -> #REF! | J41: =VLOOKUP($A41,#REF!,#REF!,0) -> #REF! | K41: =VLOOKUP($A41,#REF!,#REF!,0) -> #REF! | L41: =VLOOKUP($A41,#REF!,#REF!,0) -> #REF! | M41: =VLOOKUP($A41,#REF!,#REF!,0) -> #REF! | ... O41: =VLOOKUP($A41,#REF!,#REF!,0) -> #REF!
A42: 2361 | B42: DONAREN 150MG RETARD CX C/20 | C42: 7896637023610 | D42: P | E42: 3004.90.69 | F42: =VLOOKUP($A42,#REF!,#REF!,0) -> #REF! | G42: =VLOOKUP($A42,#REF!,#REF!,0) -> #REF! | H42: =VLOOKUP($A42,#REF!,#REF!,0) -> #REF! | I42: =VLOOKUP($A42,#REF!,#REF!,0) -> #REF! | J42: =VLOOKUP($A42,#REF!,#REF!,0) -> #REF! | K42: =VLOOKUP($A42,#REF!,#REF!,0) -> #REF! | L42: =VLOOKUP($A42,#REF!,#REF!,0) -> #REF! | M42: =VLOOKUP($A42,#REF!,#REF!,0) -> #REF! | ... O42: =VLOOKUP($A42,#REF!,#REF!,0) -> #REF!
A43: 2362 | B43: DONAREN 150Mg Retard Cx C/30 (C1) | C43: 7896637023627 | D43: P | E43: 3004.90.69 | F43: =VLOOKUP($A43,#REF!,#REF!,0) -> #REF! | G43: =VLOOKUP($A43,#REF!,#REF!,0) -> #REF! | H43: =VLOOKUP($A43,#REF!,#REF!,0) -> #REF! | I43: =VLOOKUP($A43,#REF!,#REF!,0) -> #REF! | J43: =VLOOKUP($A43,#REF!,#REF!,0) -> #REF! | K43: =VLOOKUP($A43,#REF!,#REF!,0) -> #REF! | L43: =VLOOKUP($A43,#REF!,#REF!,0) -> #REF! | M43: =VLOOKUP($A43,#REF!,#REF!,0) -> #REF! | ... O43: =VLOOKUP($A43,#REF!,#REF!,0) -> #REF!
B44: ETOXIN
A45: 2258 | B45: ETOXIN XAROPE 50MG/ML 120ML (C1) | C45: 7896637022583 | D45: P | E45: 3004.90.49 | F45: =VLOOKUP($A45,#REF!,#REF!,0) -> #REF! | G45: =VLOOKUP($A45,#REF!,#REF!,0) -> #REF! | H45: =VLOOKUP($A45,#REF!,#REF!,0) -> #REF! | I45: =VLOOKUP($A45,#REF!,#REF!,0) -> #REF! | J45: =VLOOKUP($A45,#REF!,#REF!,0) -> #REF! | K45: =VLOOKUP($A45,#REF!,#REF!,0) -> #REF! | L45: =VLOOKUP($A45,#REF!,#REF!,0) -> #REF! | M45: =VLOOKUP($A45,#REF!,#REF!,0) -> #REF! | ... O45: =VLOOKUP($A45,#REF!,#REF!,0) -> #REF!
B46: EXTIMA
A47: 2831 | B47: EXTIMA CX C/30 SACHES OR | C47: 7896637028318 | D47: Neutra | E47: 2106.90.10 | F47: =VLOOKUP($A47,#REF!,#REF!,0) -> #REF! | G47: =VLOOKUP($A47,#REF!,#REF!,0) -> #REF! | H47: =VLOOKUP($A47,#REF!,#REF!,0) -> #REF! | I47: =VLOOKUP($A47,#REF!,#REF!,0) -> #REF! | J47: =VLOOKUP($A47,#REF!,#REF!,0) -> #REF! | K47: =VLOOKUP($A47,#REF!,#REF!,0) -> #REF! | L47: =VLOOKUP($A47,#REF!,#REF!,0) -> #REF! | M47: =VLOOKUP($A47,#REF!,#REF!,0) -> #REF! | ... O47: =VLOOKUP($A47,#REF!,#REF!,0) -> #REF!
B48: FITOSCAR
A49: 1717 | B49: FITOSCAR 20G OR | C49: 7896637017176 | D49: N | E49: 3004.90.99 | F49: =VLOOKUP($A49,#REF!,#REF!,0) -> #REF! | G49: =VLOOKUP($A49,#REF!,#REF!,0) -> #REF! | H49: =VLOOKUP($A49,#REF!,#REF!,0) -> #REF! | I49: =VLOOKUP($A49,#REF!,#REF!,0) -> #REF! | J49: =VLOOKUP($A49,#REF!,#REF!,0) -> #REF! | K49: =VLOOKUP($A49,#REF!,#REF!,0) -> #REF! | L49: =VLOOKUP($A49,#REF!,#REF!,0) -> #REF! | M49: =VLOOKUP($A49,#REF!,#REF!,0) -> #REF! | ... O49: =VLOOKUP($A49,#REF!,#REF!,0) -> #REF!
A50: 1719 | B50: FITOSCAR 50G | C50: 7896637017190 | D50: N | E50: 3004.90.99 | F50: =VLOOKUP($A50,#REF!,#REF!,0) -> #REF! | G50: =VLOOKUP($A50,#REF!,#REF!,0) -> #REF! | H50: =VLOOKUP($A50,#REF!,#REF!,0) -> #REF! | I50: =VLOOKUP($A50,#REF!,#REF!,0) -> #REF! | J50: =VLOOKUP($A50,#REF!,#REF!,0) -> #REF! | K50: =VLOOKUP($A50,#REF!,#REF!,0) -> #REF! | L50: =VLOOKUP($A50,#REF!,#REF!,0) -> #REF! | M50: =VLOOKUP($A50,#REF!,#REF!,0) -> #REF! | ... O50: =VLOOKUP($A50,#REF!,#REF!,0) -> #REF!
B51: FLANCOX
A52: 2244 | B52: FLANCOX 400MG CX C/ 20 CP VER | C52: 7896637022446 | D52: P | E52: 3004.90.79 | F52: =VLOOKUP($A52,#REF!,#REF!,0) -> #REF! | G52: =VLOOKUP($A52,#REF!,#REF!,0) -> #REF! | H52: =VLOOKUP($A52,#REF!,#REF!,0) -> #REF! | I52: =VLOOKUP($A52,#REF!,#REF!,0) -> #REF! | J52: =VLOOKUP($A52,#REF!,#REF!,0) -> #REF! | K52: =VLOOKUP($A52,#REF!,#REF!,0) -> #REF! | L52: =VLOOKUP($A52,#REF!,#REF!,0) -> #REF! | M52: =VLOOKUP($A52,#REF!,#REF!,0) -> #REF! | ... O52: =VLOOKUP($A52,#REF!,#REF!,0) -> #REF!
A53: 2313 | B53: FLANCOX 300MG CX C/30 CP VER | C53: 7896637023139 | D53: P | E53: 3004.90.79 | F53: =VLOOKUP($A53,#REF!,#REF!,0) -> #REF! | G53: =VLOOKUP($A53,#REF!,#REF!,0) -> #REF! | H53: =VLOOKUP($A53,#REF!,#REF!,0) -> #REF! | I53: =VLOOKUP($A53,#REF!,#REF!,0) -> #REF! | J53: =VLOOKUP($A53,#REF!,#REF!,0) -> #REF! | K53: =VLOOKUP($A53,#REF!,#REF!,0) -> #REF! | L53: =VLOOKUP($A53,#REF!,#REF!,0) -> #REF! | M53: =VLOOKUP($A53,#REF!,#REF!,0) -> #REF! | ... O53: =VLOOKUP($A53,#REF!,#REF!,0) -> #REF!
A54: 2314 | B54: FLANCOX 300MG C/14 CP REV OR | C54: 7896637023146 | D54: P | E54: 3004.90.79 | F54: =VLOOKUP($A54,#REF!,#REF!,0) -> #REF! | G54: =VLOOKUP($A54,#REF!,#REF!,0) -> #REF! | H54: =VLOOKUP($A54,#REF!,#REF!,0) -> #REF! | I54: =VLOOKUP($A54,#REF!,#REF!,0) -> #REF! | J54: =VLOOKUP($A54,#REF!,#REF!,0) -> #REF! | K54: =VLOOKUP($A54,#REF!,#REF!,0) -> #REF! | L54: =VLOOKUP($A54,#REF!,#REF!,0) -> #REF! | M54: =VLOOKUP($A54,#REF!,#REF!,0) -> #REF! | ... O54: =VLOOKUP($A54,#REF!,#REF!,0) -> #REF!
A55: 2323 | B55: FLANCOX 500Mg Cx C/14 Cp Ver | C55: 7896637023238 | D55: P | E55: 3004.90.79 | F55: =VLOOKUP($A55,#REF!,#REF!,0) -> #REF! | G55: =VLOOKUP($A55,#REF!,#REF!,0) -> #REF! | H55: =VLOOKUP($A55,#REF!,#REF!,0) -> #REF! | I55: =VLOOKUP($A55,#REF!,#REF!,0) -> #REF! | J55: =VLOOKUP($A55,#REF!,#REF!,0) -> #REF! | K55: =VLOOKUP($A55,#REF!,#REF!,0) -> #REF! | L55: =VLOOKUP($A55,#REF!,#REF!,0) -> #REF! | M55: =VLOOKUP($A55,#REF!,#REF!,0) -> #REF! | ... O55: =VLOOKUP($A55,#REF!,#REF!,0) -> #REF!
A56: 2334 | B56: FLANCOX 400MG C/10 CP REV OR | C56: 7896637023344 | D56: P | E56: 3004.90.79 | F56: =VLOOKUP($A56,#REF!,#REF!,0) -> #REF! | G56: =VLOOKUP($A56,#REF!,#REF!,0) -> #REF! | H56: =VLOOKUP($A56,#REF!,#REF!,0) -> #REF! | I56: =VLOOKUP($A56,#REF!,#REF!,0) -> #REF! | J56: =VLOOKUP($A56,#REF!,#REF!,0) -> #REF! | K56: =VLOOKUP($A56,#REF!,#REF!,0) -> #REF! | L56: =VLOOKUP($A56,#REF!,#REF!,0) -> #REF! | M56: =VLOOKUP($A56,#REF!,#REF!,0) -> #REF! | ... O56: =VLOOKUP($A56,#REF!,#REF!,0) -> #REF!
B57: FOLINE
A58: 2650 | B58: FOLINE HAIR CX C/ 60 CAP | C58: 7896637026505 | D58: Neutra | E58: 21.06.90.90 | F58: =VLOOKUP($A58,#REF!,#REF!,0) -> #REF! | G58: =VLOOKUP($A58,#REF!,#REF!,0) -> #REF! | H58: =VLOOKUP($A58,#REF!,#REF!,0) -> #REF! | I58: =VLOOKUP($A58,#REF!,#REF!,0) -> #REF! | J58: =VLOOKUP($A58,#REF!,#REF!,0) -> #REF! | K58: =VLOOKUP($A58,#REF!,#REF!,0) -> #REF! | L58: =VLOOKUP($A58,#REF!,#REF!,0) -> #REF! | M58: =VLOOKUP($A58,#REF!,#REF!,0) -> #REF! | ... O58: =VLOOKUP($A58,#REF!,#REF!,0) -> #REF!
B59: INIBINA
A60: 2231 | B60: INIBINA 10MG CX C/20 CP OR | C60: 7896637022316 | D60: N | E60: 3004.90.39 | F60: =VLOOKUP($A60,#REF!,#REF!,0) -> #REF! | G60: =VLOOKUP($A60,#REF!,#REF!,0) -> #REF! | H60: =VLOOKUP($A60,#REF!,#REF!,0) -> #REF! | I60: =VLOOKUP($A60,#REF!,#REF!,0) -> #REF! | J60: =VLOOKUP($A60,#REF!,#REF!,0) -> #REF! | K60: =VLOOKUP($A60,#REF!,#REF!,0) -> #REF! | L60: =VLOOKUP($A60,#REF!,#REF!,0) -> #REF! | M60: =VLOOKUP($A60,#REF!,#REF!,0) -> #REF! | ... O60: =VLOOKUP($A60,#REF!,#REF!,0) -> #REF!
A61: 2233 | B61: INIBINA 10MG CX C/5 AMP 2ML | C61: 7896637022330 | D61: N | E61: 3004.90.39 | F61: =VLOOKUP($A61,#REF!,#REF!,0) -> #REF! | G61: =VLOOKUP($A61,#REF!,#REF!,0) -> #REF! | H61: =VLOOKUP($A61,#REF!,#REF!,0) -> #REF! | I61: =VLOOKUP($A61,#REF!,#REF!,0) -> #REF! | J61: =VLOOKUP($A61,#REF!,#REF!,0) -> #REF! | K61: =VLOOKUP($A61,#REF!,#REF!,0) -> #REF! | L61: =VLOOKUP($A61,#REF!,#REF!,0) -> #REF! | M61: =VLOOKUP($A61,#REF!,#REF!,0) -> #REF! | ... O61: =VLOOKUP($A61,#REF!,#REF!,0) -> #REF!
A62: 2235 | B62: INIBINA 10MG CX C/25 AMP X 2ML | C62: 7896637022354 | D62: N | E62: 3004.90.39 | F62: =VLOOKUP($A62,#REF!,#REF!,0) -> #REF! | G62: =VLOOKUP($A62,#REF!,#REF!,0) -> #REF! | H62: =VLOOKUP($A62,#REF!,#REF!,0) -> #REF! | I62: =VLOOKUP($A62,#REF!,#REF!,0) -> #REF! | J62: =VLOOKUP($A62,#REF!,#REF!,0) -> #REF! | K62: =VLOOKUP($A62,#REF!,#REF!,0) -> #REF! | L62: =VLOOKUP($A62,#REF!,#REF!,0) -> #REF! | M62: =VLOOKUP($A62,#REF!,#REF!,0) -> #REF! | ... O62: =VLOOKUP($A62,#REF!,#REF!,0) -> #REF!
A63: 2402 | B63: INIBINA 10MG CX C/30 CP OR | C63: 7896637024020 | D63: N | E63: 3004.90.39 | F63: =VLOOKUP($A63,#REF!,#REF!,0) -> #REF! | G63: =VLOOKUP($A63,#REF!,#REF!,0) -> #REF! | H63: =VLOOKUP($A63,#REF!,#REF!,0) -> #REF! | I63: =VLOOKUP($A63,#REF!,#REF!,0) -> #REF! | J63: =VLOOKUP($A63,#REF!,#REF!,0) -> #REF! | K63: =VLOOKUP($A63,#REF!,#REF!,0) -> #REF! | L63: =VLOOKUP($A63,#REF!,#REF!,0) -> #REF! | M63: =VLOOKUP($A63,#REF!,#REF!,0) -> #REF! | ... O63: =VLOOKUP($A63,#REF!,#REF!,0) -> #REF!
B64: LABIRIN
A65: 2841 | B65: LABIRIN 8MG CX C/30 CP OR | C65: 7896637028417 | D65: N | E65: 3004.90.69 | F65: =VLOOKUP($A65,#REF!,#REF!,0) -> #REF! | G65: =VLOOKUP($A65,#REF!,#REF!,0) -> #REF! | H65: =VLOOKUP($A65,#REF!,#REF!,0) -> #REF! | I65: =VLOOKUP($A65,#REF!,#REF!,0) -> #REF! | J65: =VLOOKUP($A65,#REF!,#REF!,0) -> #REF! | K65: =VLOOKUP($A65,#REF!,#REF!,0) -> #REF! | L65: =VLOOKUP($A65,#REF!,#REF!,0) -> #REF! | M65: =VLOOKUP($A65,#REF!,#REF!,0) -> #REF! | ... O65: =VLOOKUP($A65,#REF!,#REF!,0) -> #REF!
A66: 2847 | B66: LABIRIN 16MG CX C/30 CP OR | C66: 7896637028479 | D66: N | E66: 3004.90.69 | F66: =VLOOKUP($A66,#REF!,#REF!,0) -> #REF! | G66: =VLOOKUP($A66,#REF!,#REF!,0) -> #REF! | H66: =VLOOKUP($A66,#REF!,#REF!,0) -> #REF! | I66: =VLOOKUP($A66,#REF!,#REF!,0) -> #REF! | J66: =VLOOKUP($A66,#REF!,#REF!,0) -> #REF! | K66: =VLOOKUP($A66,#REF!,#REF!,0) -> #REF! | L66: =VLOOKUP($A66,#REF!,#REF!,0) -> #REF! | M66: =VLOOKUP($A66,#REF!,#REF!,0) -> #REF! | ... O66: =VLOOKUP($A66,#REF!,#REF!,0) -> #REF!
A67: 2852 | B67: LABIRIN 24MG CX C/30 CP OR | C67: 7896637028523 | D67: N | E67: 3004.90.69 | F67: =VLOOKUP($A67,#REF!,#REF!,0) -> #REF! | G67: =VLOOKUP($A67,#REF!,#REF!,0) -> #REF! | H67: =VLOOKUP($A67,#REF!,#REF!,0) -> #REF! | I67: =VLOOKUP($A67,#REF!,#REF!,0) -> #REF! | J67: =VLOOKUP($A67,#REF!,#REF!,0) -> #REF! | K67: =VLOOKUP($A67,#REF!,#REF!,0) -> #REF! | L67: =VLOOKUP($A67,#REF!,#REF!,0) -> #REF! | M67: =VLOOKUP($A67,#REF!,#REF!,0) -> #REF! | ... O67: =VLOOKUP($A67,#REF!,#REF!,0) -> #REF!
A68: 2853 | B68: LABIRIN 24MG 60 CPR | C68: 7896637028530 | D68: N | E68: 3004.90.69 | F68: =VLOOKUP($A68,#REF!,#REF!,0) -> #REF! | G68: =VLOOKUP($A68,#REF!,#REF!,0) -> #REF! | H68: =VLOOKUP($A68,#REF!,#REF!,0) -> #REF! | I68: =VLOOKUP($A68,#REF!,#REF!,0) -> #REF! | J68: =VLOOKUP($A68,#REF!,#REF!,0) -> #REF! | K68: =VLOOKUP($A68,#REF!,#REF!,0) -> #REF! | L68: =VLOOKUP($A68,#REF!,#REF!,0) -> #REF! | M68: =VLOOKUP($A68,#REF!,#REF!,0) -> #REF! | ... O68: =VLOOKUP($A68,#REF!,#REF!,0) -> #REF!
B69: LACTOSIL
A70: 2629 | B70: LACTOSIL 4.000 ALU CX C/30 SACHES | C70: 7896637026291 | D70: Neutra | E70: 3507.90.49 | F70: =VLOOKUP($A70,#REF!,#REF!,0) -> #REF! | G70: =VLOOKUP($A70,#REF!,#REF!,0) -> #REF! | H70: =VLOOKUP($A70,#REF!,#REF!,0) -> #REF! | I70: =VLOOKUP($A70,#REF!,#REF!,0) -> #REF! | J70: =VLOOKUP($A70,#REF!,#REF!,0) -> #REF! | K70: =VLOOKUP($A70,#REF!,#REF!,0) -> #REF! | L70: =VLOOKUP($A70,#REF!,#REF!,0) -> #REF! | M70: =VLOOKUP($A70,#REF!,#REF!,0) -> #REF! | ... O70: =VLOOKUP($A70,#REF!,#REF!,0) -> #REF!
A71: 2630 | B71: LACTOSIL 10.000 ALU CX C/30 SACHES | C71: 7896637026307 | D71: Neutra | E71: 3507.90.49 | F71: =VLOOKUP($A71,#REF!,#REF!,0) -> #REF! | G71: =VLOOKUP($A71,#REF!,#REF!,0) -> #REF! | H71: =VLOOKUP($A71,#REF!,#REF!,0) -> #REF! | I71: =VLOOKUP($A71,#REF!,#REF!,0) -> #REF! | J71: =VLOOKUP($A71,#REF!,#REF!,0) -> #REF! | K71: =VLOOKUP($A71,#REF!,#REF!,0) -> #REF! | L71: =VLOOKUP($A71,#REF!,#REF!,0) -> #REF! | M71: =VLOOKUP($A71,#REF!,#REF!,0) -> #REF! | ... O71: =VLOOKUP($A71,#REF!,#REF!,0) -> #REF!
A72: 2680 | B72: LACTOSIL 10.000 FCC ALU CX C/30 TAB | C72: 7896637026802 | D72: Neutra | E72: 3507.90.49 | F72: =VLOOKUP($A72,#REF!,#REF!,0) -> #REF! | G72: =VLOOKUP($A72,#REF!,#REF!,0) -> #REF! | H72: =VLOOKUP($A72,#REF!,#REF!,0) -> #REF! | I72: =VLOOKUP($A72,#REF!,#REF!,0) -> #REF! | J72: =VLOOKUP($A72,#REF!,#REF!,0) -> #REF! | K72: =VLOOKUP($A72,#REF!,#REF!,0) -> #REF! | L72: =VLOOKUP($A72,#REF!,#REF!,0) -> #REF! | M72: =VLOOKUP($A72,#REF!,#REF!,0) -> #REF! | ... O72: =VLOOKUP($A72,#REF!,#REF!,0) -> #REF!
A73: 2690 | B73: LACTOSIL 4.000 FCC ALU CX C/30 TAB | C73: 7896637026901 | D73: Neutra | E73: 3507.90.49 | F73: =VLOOKUP($A73,#REF!,#REF!,0) -> #REF! | G73: =VLOOKUP($A73,#REF!,#REF!,0) -> #REF! | H73: =VLOOKUP($A73,#REF!,#REF!,0) -> #REF! | I73: =VLOOKUP($A73,#REF!,#REF!,0) -> #REF! | J73: =VLOOKUP($A73,#REF!,#REF!,0) -> #REF! | K73: =VLOOKUP($A73,#REF!,#REF!,0) -> #REF! | L73: =VLOOKUP($A73,#REF!,#REF!,0) -> #REF! | M73: =VLOOKUP($A73,#REF!,#REF!,0) -> #REF! | ... O73: =VLOOKUP($A73,#REF!,#REF!,0) -> #REF!
B74: LEVOXIN
A75: 2298 | B75: LEVOXIN 250MG CX C/3 CP REV OR | C75: 7896637022989 | D75: P | E75: 3004.90.79 | F75: =VLOOKUP($A75,#REF!,#REF!,0) -> #REF! | G75: =VLOOKUP($A75,#REF!,#REF!,0) -> #REF! | H75: =VLOOKUP($A75,#REF!,#REF!,0) -> #REF! | I75: =VLOOKUP($A75,#REF!,#REF!,0) -> #REF! | J75: =VLOOKUP($A75,#REF!,#REF!,0) -> #REF! | K75: =VLOOKUP($A75,#REF!,#REF!,0) -> #REF! | L75: =VLOOKUP($A75,#REF!,#REF!,0) -> #REF! | M75: =VLOOKUP($A75,#REF!,#REF!,0) -> #REF! | ... O75: =VLOOKUP($A75,#REF!,#REF!,0) -> #REF!
A76: 2299 | B76: LEVOXIN 250MG CX C/7 CP REV OR | C76: 7896637022996 | D76: P | E76: 3004.90.79 | F76: =VLOOKUP($A76,#REF!,#REF!,0) -> #REF! | G76: =VLOOKUP($A76,#REF!,#REF!,0) -> #REF! | H76: =VLOOKUP($A76,#REF!,#REF!,0) -> #REF! | I76: =VLOOKUP($A76,#REF!,#REF!,0) -> #REF! | J76: =VLOOKUP($A76,#REF!,#REF!,0) -> #REF! | K76: =VLOOKUP($A76,#REF!,#REF!,0) -> #REF! | L76: =VLOOKUP($A76,#REF!,#REF!,0) -> #REF! | M76: =VLOOKUP($A76,#REF!,#REF!,0) -> #REF! | ... O76: =VLOOKUP($A76,#REF!,#REF!,0) -> #REF!
A77: 2300 | B77: LEVOXIN 500MG CX C/7 CP REV OR | C77: 7896637023009 | D77: P | E77: 3004.90.79 | F77: =VLOOKUP($A77,#REF!,#REF!,0) -> #REF! | G77: =VLOOKUP($A77,#REF!,#REF!,0) -> #REF! | H77: =VLOOKUP($A77,#REF!,#REF!,0) -> #REF! | I77: =VLOOKUP($A77,#REF!,#REF!,0) -> #REF! | J77: =VLOOKUP($A77,#REF!,#REF!,0) -> #REF! | K77: =VLOOKUP($A77,#REF!,#REF!,0) -> #REF! | L77: =VLOOKUP($A77,#REF!,#REF!,0) -> #REF! | M77: =VLOOKUP($A77,#REF!,#REF!,0) -> #REF! | ... O77: =VLOOKUP($A77,#REF!,#REF!,0) -> #REF!
A78: 2309 | B78: LEVOXIN 500MG CX C/3 CP VER | C78: 7896637023092 | D78: P | E78: 3004.90.79 | F78: =VLOOKUP($A78,#REF!,#REF!,0) -> #REF! | G78: =VLOOKUP($A78,#REF!,#REF!,0) -> #REF! | H78: =VLOOKUP($A78,#REF!,#REF!,0) -> #REF! | I78: =VLOOKUP($A78,#REF!,#REF!,0) -> #REF! | J78: =VLOOKUP($A78,#REF!,#REF!,0) -> #REF! | K78: =VLOOKUP($A78,#REF!,#REF!,0) -> #REF! | L78: =VLOOKUP($A78,#REF!,#REF!,0) -> #REF! | M78: =VLOOKUP($A78,#REF!,#REF!,0) -> #REF! | ... O78: =VLOOKUP($A78,#REF!,#REF!,0) -> #REF!
A79: 2310 | B79: LEVOXIN 500MG CX C/10 CP VER | C79: 7896637023108 | D79: P | E79: 3004.90.79 | F79: =VLOOKUP($A79,#REF!,#REF!,0) -> #REF! | G79: =VLOOKUP($A79,#REF!,#REF!,0) -> #REF! | H79: =VLOOKUP($A79,#REF!,#REF!,0) -> #REF! | I79: =VLOOKUP($A79,#REF!,#REF!,0) -> #REF! | J79: =VLOOKUP($A79,#REF!,#REF!,0) -> #REF! | K79: =VLOOKUP($A79,#REF!,#REF!,0) -> #REF! | L79: =VLOOKUP($A79,#REF!,#REF!,0) -> #REF! | M79: =VLOOKUP($A79,#REF!,#REF!,0) -> #REF! | ... O79: =VLOOKUP($A79,#REF!,#REF!,0) -> #REF!
A80: 2376 | B80: LEVOXIN 500MG CX C/14CP REV OR | C80: 7896637023764 | D80: P | E80: 3004.90.79 | F80: =VLOOKUP($A80,#REF!,#REF!,0) -> #REF! | G80: =VLOOKUP($A80,#REF!,#REF!,0) -> #REF! | H80: =VLOOKUP($A80,#REF!,#REF!,0) -> #REF! | I80: =VLOOKUP($A80,#REF!,#REF!,0) -> #REF! | J80: =VLOOKUP($A80,#REF!,#REF!,0) -> #REF! | K80: =VLOOKUP($A80,#REF!,#REF!,0) -> #REF! | L80: =VLOOKUP($A80,#REF!,#REF!,0) -> #REF! | M80: =VLOOKUP($A80,#REF!,#REF!,0) -> #REF! | ... O80: =VLOOKUP($A80,#REF!,#REF!,0) -> #REF!
A81: 2379 | B81: LEVOXIN 750Mg CX C/7 CP OR | C81: 7896637023795 | D81: P | E81: 3004.90.79 | F81: =VLOOKUP($A81,#REF!,#REF!,0) -> #REF! | G81: =VLOOKUP($A81,#REF!,#REF!,0) -> #REF! | H81: =VLOOKUP($A81,#REF!,#REF!,0) -> #REF! | I81: =VLOOKUP($A81,#REF!,#REF!,0) -> #REF! | J81: =VLOOKUP($A81,#REF!,#REF!,0) -> #REF! | K81: =VLOOKUP($A81,#REF!,#REF!,0) -> #REF! | L81: =VLOOKUP($A81,#REF!,#REF!,0) -> #REF! | M81: =VLOOKUP($A81,#REF!,#REF!,0) -> #REF! | ... O81: =VLOOKUP($A81,#REF!,#REF!,0) -> #REF!
A82: 2385 | B82: LEVOXIN 750Mg CX C/5 CP OR | C82: 7896637023856 | D82: P | E82: 3004.90.79 | F82: =VLOOKUP($A82,#REF!,#REF!,0) -> #REF! | G82: =VLOOKUP($A82,#REF!,#REF!,0) -> #REF! | H82: =VLOOKUP($A82,#REF!,#REF!,0) -> #REF! | I82: =VLOOKUP($A82,#REF!,#REF!,0) -> #REF! | J82: =VLOOKUP($A82,#REF!,#REF!,0) -> #REF! | K82: =VLOOKUP($A82,#REF!,#REF!,0) -> #REF! | L82: =VLOOKUP($A82,#REF!,#REF!,0) -> #REF! | M82: =VLOOKUP($A82,#REF!,#REF!,0) -> #REF! | ... O82: =VLOOKUP($A82,#REF!,#REF!,0) -> #REF!
B83: LITOCIT
A84: 2240 | B84: LITOCIT 5MEQ CX C/60 CP OR | C84: 7896637022408 | D84: N | E84: 3004.90.29 | F84: =VLOOKUP($A84,#REF!,#REF!,0) -> #REF! | G84: =VLOOKUP($A84,#REF!,#REF!,0) -> #REF! | H84: =VLOOKUP($A84,#REF!,#REF!,0) -> #REF! | I84: =VLOOKUP($A84,#REF!,#REF!,0) -> #REF! | J84: =VLOOKUP($A84,#REF!,#REF!,0) -> #REF! | K84: =VLOOKUP($A84,#REF!,#REF!,0) -> #REF! | L84: =VLOOKUP($A84,#REF!,#REF!,0) -> #REF! | M84: =VLOOKUP($A84,#REF!,#REF!,0) -> #REF! | ... O84: =VLOOKUP($A84,#REF!,#REF!,0) -> #REF!
A85: 2241 | B85: LITOCIT 10MEQ CX C/60 CP OR | C85: 7896637022415 | D85: N | E85: 3004.90.29 | F85: =VLOOKUP($A85,#REF!,#REF!,0) -> #REF! | G85: =VLOOKUP($A85,#REF!,#REF!,0) -> #REF! | H85: =VLOOKUP($A85,#REF!,#REF!,0) -> #REF! | I85: =VLOOKUP($A85,#REF!,#REF!,0) -> #REF! | J85: =VLOOKUP($A85,#REF!,#REF!,0) -> #REF! | K85: =VLOOKUP($A85,#REF!,#REF!,0) -> #REF! | L85: =VLOOKUP($A85,#REF!,#REF!,0) -> #REF! | M85: =VLOOKUP($A85,#REF!,#REF!,0) -> #REF! | ... O85: =VLOOKUP($A85,#REF!,#REF!,0) -> #REF!
B86: LONIUM
A87: 2344 | B87: LONIUM 40MG CX C/30CP REV OR | C87: 7896637023443 | D87: N | E87: 3004.90.49 | F87: =VLOOKUP($A87,#REF!,#REF!,0) -> #REF! | G87: =VLOOKUP($A87,#REF!,#REF!,0) -> #REF! | H87: =VLOOKUP($A87,#REF!,#REF!,0) -> #REF! | I87: =VLOOKUP($A87,#REF!,#REF!,0) -> #REF! | J87: =VLOOKUP($A87,#REF!,#REF!,0) -> #REF! | K87: =VLOOKUP($A87,#REF!,#REF!,0) -> #REF! | L87: =VLOOKUP($A87,#REF!,#REF!,0) -> #REF! | M87: =VLOOKUP($A87,#REF!,#REF!,0) -> #REF! | ... O87: =VLOOKUP($A87,#REF!,#REF!,0) -> #REF!
A88: 2345 | B88: LONIUM 40MG CX C/60 CP VER | C88: 7896637023450 | D88: N | E88: 3004.90.49 | F88: =VLOOKUP($A88,#REF!,#REF!,0) -> #REF! | G88: =VLOOKUP($A88,#REF!,#REF!,0) -> #REF! | H88: =VLOOKUP($A88,#REF!,#REF!,0) -> #REF! | I88: =VLOOKUP($A88,#REF!,#REF!,0) -> #REF! | J88: =VLOOKUP($A88,#REF!,#REF!,0) -> #REF! | K88: =VLOOKUP($A88,#REF!,#REF!,0) -> #REF! | L88: =VLOOKUP($A88,#REF!,#REF!,0) -> #REF! | M88: =VLOOKUP($A88,#REF!,#REF!,0) -> #REF! | ... O88: =VLOOKUP($A88,#REF!,#REF!,0) -> #REF!
B89: MECLIN
A90: 2311 | B90: MECLIN 25MG CX C/15 CP OR | C90: 7896637023115 | D90: N | E90: 3004.90.69 | F90: =VLOOKUP($A90,#REF!,#REF!,0) -> #REF! | G90: =VLOOKUP($A90,#REF!,#REF!,0) -> #REF! | H90: =VLOOKUP($A90,#REF!,#REF!,0) -> #REF! | I90: =VLOOKUP($A90,#REF!,#REF!,0) -> #REF! | J90: =VLOOKUP($A90,#REF!,#REF!,0) -> #REF! | K90: =VLOOKUP($A90,#REF!,#REF!,0) -> #REF! | L90: =VLOOKUP($A90,#REF!,#REF!,0) -> #REF! | M90: =VLOOKUP($A90,#REF!,#REF!,0) -> #REF! | ... O90: =VLOOKUP($A90,#REF!,#REF!,0) -> #REF!
A91: 2364 | B91: MECLIN 50MG CX C/15 CP OR | C91: 7896637023641 | D91: N | E91: 3004.90.69 | F91: =VLOOKUP($A91,#REF!,#REF!,0) -> #REF! | G91: =VLOOKUP($A91,#REF!,#REF!,0) -> #REF! | H91: =VLOOKUP($A91,#REF!,#REF!,0) -> #REF! | I91: =VLOOKUP($A91,#REF!,#REF!,0) -> #REF! | J91: =VLOOKUP($A91,#REF!,#REF!,0) -> #REF! | K91: =VLOOKUP($A91,#REF!,#REF!,0) -> #REF! | L91: =VLOOKUP($A91,#REF!,#REF!,0) -> #REF! | M91: =VLOOKUP($A91,#REF!,#REF!,0) -> #REF! | ... O91: =VLOOKUP($A91,#REF!,#REF!,0) -> #REF!
A92: 2367 | B92: MECLIN 25MG CX C/10 CP OR | C92: 7896637023672 | D92: N | E92: 3004.90.69 | F92: =VLOOKUP($A92,#REF!,#REF!,0) -> #REF! | G92: =VLOOKUP($A92,#REF!,#REF!,0) -> #REF! | H92: =VLOOKUP($A92,#REF!,#REF!,0) -> #REF! | I92: =VLOOKUP($A92,#REF!,#REF!,0) -> #REF! | J92: =VLOOKUP($A92,#REF!,#REF!,0) -> #REF! | K92: =VLOOKUP($A92,#REF!,#REF!,0) -> #REF! | L92: =VLOOKUP($A92,#REF!,#REF!,0) -> #REF! | M92: =VLOOKUP($A92,#REF!,#REF!,0) -> #REF! | ... O92: =VLOOKUP($A92,#REF!,#REF!,0) -> #REF!
A93: 2368 | B93: MECLIN 50MG CX C/10 CP OR | C93: 7896637023689 | D93: N | E93: 3004.90.69 | F93: =VLOOKUP($A93,#REF!,#REF!,0) -> #REF! | G93: =VLOOKUP($A93,#REF!,#REF!,0) -> #REF! | H93: =VLOOKUP($A93,#REF!,#REF!,0) -> #REF! | I93: =VLOOKUP($A93,#REF!,#REF!,0) -> #REF! | J93: =VLOOKUP($A93,#REF!,#REF!,0) -> #REF! | K93: =VLOOKUP($A93,#REF!,#REF!,0) -> #REF! | L93: =VLOOKUP($A93,#REF!,#REF!,0) -> #REF! | M93: =VLOOKUP($A93,#REF!,#REF!,0) -> #REF! | ... O93: =VLOOKUP($A93,#REF!,#REF!,0) -> #REF!
B94: MEMANTINA
A95: 1610 | B95: CLOR MEMANTINA 10MG CX C/60 (C1) | C95: 7896637016100 | D95: P | E95: 3004.90.39 | F95: =VLOOKUP($A95,#REF!,#REF!,0) -> #REF! | G95: =VLOOKUP($A95,#REF!,#REF!,0) -> #REF! | H95: =VLOOKUP($A95,#REF!,#REF!,0) -> #REF! | I95: =VLOOKUP($A95,#REF!,#REF!,0) -> #REF! | J95: =VLOOKUP($A95,#REF!,#REF!,0) -> #REF! | K95: =VLOOKUP($A95,#REF!,#REF!,0) -> #REF! | L95: =VLOOKUP($A95,#REF!,#REF!,0) -> #REF! | M95: =VLOOKUP($A95,#REF!,#REF!,0) -> #REF! | ... O95: =VLOOKUP($A95,#REF!,#REF!,0) -> #REF!
B96: MIOSAN
A97: 2283 | B97: MIOSAN 5MG CX C/30 CP OR | C97: 7896637022835 | D97: N | E97: 3004.90.39 | F97: =VLOOKUP($A97,#REF!,#REF!,0) -> #REF! | G97: =VLOOKUP($A97,#REF!,#REF!,0) -> #REF! | H97: =VLOOKUP($A97,#REF!,#REF!,0) -> #REF! | I97: =VLOOKUP($A97,#REF!,#REF!,0) -> #REF! | J97: =VLOOKUP($A97,#REF!,#REF!,0) -> #REF! | K97: =VLOOKUP($A97,#REF!,#REF!,0) -> #REF! | L97: =VLOOKUP($A97,#REF!,#REF!,0) -> #REF! | M97: =VLOOKUP($A97,#REF!,#REF!,0) -> #REF! | ... O97: =VLOOKUP($A97,#REF!,#REF!,0) -> #REF!
A98: 2284 | B98: MIOSAN 10MG CX C/30 CP OR | C98: 7896637022842 | D98: N | E98: 3004.90.39 | F98: =VLOOKUP($A98,#REF!,#REF!,0) -> #REF! | G98: =VLOOKUP($A98,#REF!,#REF!,0) -> #REF! | H98: =VLOOKUP($A98,#REF!,#REF!,0) -> #REF! | I98: =VLOOKUP($A98,#REF!,#REF!,0) -> #REF! | J98: =VLOOKUP($A98,#REF!,#REF!,0) -> #REF! | K98: =VLOOKUP($A98,#REF!,#REF!,0) -> #REF! | L98: =VLOOKUP($A98,#REF!,#REF!,0) -> #REF! | M98: =VLOOKUP($A98,#REF!,#REF!,0) -> #REF! | ... O98: =VLOOKUP($A98,#REF!,#REF!,0) -> #REF!
A99: 2365 | B99: MIOSAN 5MG CX C/10 CP OR | C99: 7896637023658 | D99: N | E99: 3004.90.39 | F99: =VLOOKUP($A99,#REF!,#REF!,0) -> #REF! | G99: =VLOOKUP($A99,#REF!,#REF!,0) -> #REF! | H99: =VLOOKUP($A99,#REF!,#REF!,0) -> #REF! | I99: =VLOOKUP($A99,#REF!,#REF!,0) -> #REF! | J99: =VLOOKUP($A99,#REF!,#REF!,0) -> #REF! | K99: =VLOOKUP($A99,#REF!,#REF!,0) -> #REF! | L99: =VLOOKUP($A99,#REF!,#REF!,0) -> #REF! | M99: =VLOOKUP($A99,#REF!,#REF!,0) -> #REF! | ... O99: =VLOOKUP($A99,#REF!,#REF!,0) -> #REF!
A100: 2366 | B100: MIOSAN 10MG CX C/10 CP OR | C100: 7896637023665 | D100: N | E100: 3004.90.39 | F100: =VLOOKUP($A100,#REF!,#REF!,0) -> #REF! | G100: =VLOOKUP($A100,#REF!,#REF!,0) -> #REF! | H100: =VLOOKUP($A100,#REF!,#REF!,0) -> #REF! | I100: =VLOOKUP($A100,#REF!,#REF!,0) -> #REF! | J100: =VLOOKUP($A100,#REF!,#REF!,0) -> #REF! | K100: =VLOOKUP($A100,#REF!,#REF!,0) -> #REF! | L100: =VLOOKUP($A100,#REF!,#REF!,0) -> #REF! | M100: =VLOOKUP($A100,#REF!,#REF!,0) -> #REF! | ... O100: =VLOOKUP($A100,#REF!,#REF!,0) -> #REF!
A101: 2509 | B101: MIOSAN CAF 5/30 MG CX C/15 CP REV OR | C101: 7896637025096 | D101: N | E101: 3004.90.39 | F101: =VLOOKUP($A101,#REF!,#REF!,0) -> #REF! | G101: =VLOOKUP($A101,#REF!,#REF!,0) -> #REF! | H101: =VLOOKUP($A101,#REF!,#REF!,0) -> #REF! | I101: =VLOOKUP($A101,#REF!,#REF!,0) -> #REF! | J101: =VLOOKUP($A101,#REF!,#REF!,0) -> #REF! | K101: =VLOOKUP($A101,#REF!,#REF!,0) -> #REF! | L101: =VLOOKUP($A101,#REF!,#REF!,0) -> #REF! | M101: =VLOOKUP($A101,#REF!,#REF!,0) -> #REF! | ... O101: =VLOOKUP($A101,#REF!,#REF!,0) -> #REF!
A102: 2510 | B102: MIOSAN CAF 10/60 MG CX C/15 CP REV OR | C102: 7896637025102 | D102: N | E102: 3004.90.39 | F102: =VLOOKUP($A102,#REF!,#REF!,0) -> #REF! | G102: =VLOOKUP($A102,#REF!,#REF!,0) -> #REF! | H102: =VLOOKUP($A102,#REF!,#REF!,0) -> #REF! | I102: =VLOOKUP($A102,#REF!,#REF!,0) -> #REF! | J102: =VLOOKUP($A102,#REF!,#REF!,0) -> #REF! | K102: =VLOOKUP($A102,#REF!,#REF!,0) -> #REF! | L102: =VLOOKUP($A102,#REF!,#REF!,0) -> #REF! | M102: =VLOOKUP($A102,#REF!,#REF!,0) -> #REF! | ... O102: =VLOOKUP($A102,#REF!,#REF!,0) -> #REF!
B103: MOMENT
A104: 2277 | B104: MOMENT 0,025% CREME TOPICO 50G | C104: 7896637022774 | D104: N | E104: 3004.90.99 | F104: =VLOOKUP($A104,#REF!,#REF!,0) -> #REF! | G104: =VLOOKUP($A104,#REF!,#REF!,0) -> #REF! | H104: =VLOOKUP($A104,#REF!,#REF!,0) -> #REF! | I104: =VLOOKUP($A104,#REF!,#REF!,0) -> #REF! | J104: =VLOOKUP($A104,#REF!,#REF!,0) -> #REF! | K104: =VLOOKUP($A104,#REF!,#REF!,0) -> #REF! | L104: =VLOOKUP($A104,#REF!,#REF!,0) -> #REF! | M104: =VLOOKUP($A104,#REF!,#REF!,0) -> #REF! | ... O104: =VLOOKUP($A104,#REF!,#REF!,0) -> #REF!
A105: 2278 | B105: MOMENT 0,075% CREME TOPICO 50G | C105: 7896637022781 | D105: N | E105: 3004.90.99 | F105: =VLOOKUP($A105,#REF!,#REF!,0) -> #REF! | G105: =VLOOKUP($A105,#REF!,#REF!,0) -> #REF! | H105: =VLOOKUP($A105,#REF!,#REF!,0) -> #REF! | I105: =VLOOKUP($A105,#REF!,#REF!,0) -> #REF! | J105: =VLOOKUP($A105,#REF!,#REF!,0) -> #REF! | K105: =VLOOKUP($A105,#REF!,#REF!,0) -> #REF! | L105: =VLOOKUP($A105,#REF!,#REF!,0) -> #REF! | M105: =VLOOKUP($A105,#REF!,#REF!,0) -> #REF! | ... O105: =VLOOKUP($A105,#REF!,#REF!,0) -> #REF!
A106: 2312 | B106: MOMENT LOCAO 0,025% 60ML | C106: 7896637023122 | D106: N | E106: 3004.90.99 | F106: =VLOOKUP($A106,#REF!,#REF!,0) -> #REF! | G106: =VLOOKUP($A106,#REF!,#REF!,0) -> #REF! | H106: =VLOOKUP($A106,#REF!,#REF!,0) -> #REF! | I106: =VLOOKUP($A106,#REF!,#REF!,0) -> #REF! | J106: =VLOOKUP($A106,#REF!,#REF!,0) -> #REF! | K106: =VLOOKUP($A106,#REF!,#REF!,0) -> #REF! | L106: =VLOOKUP($A106,#REF!,#REF!,0) -> #REF! | M106: =VLOOKUP($A106,#REF!,#REF!,0) -> #REF! | ... O106: =VLOOKUP($A106,#REF!,#REF!,0) -> #REF!
B107: MOTILEX
...

Sheet Planilha1
A2: 2555 | B2: =VLOOKUP(A2,#REF!,1,0) -> #REF!
A3: 2337 | B3: =VLOOKUP(A3,#REF!,1,0) -> #REF!
A4: 2521 | B4: =VLOOKUP(A4,#REF!,1,0) -> #REF!
A5: 2440 | B5: =VLOOKUP(A5,#REF!,1,0) -> #REF!
A6: 2452 | B6: =VLOOKUP(A6,#REF!,1,0) -> #REF!
A7: 1702 | B7: =VLOOKUP(A7,#REF!,1,0) -> #REF!
A8: 1704 | B8: =VLOOKUP(A8,#REF!,1,0) -> #REF!
A9: 1801 | B9: =VLOOKUP(A9,#REF!,1,0) -> #REF!
A10: 1802 | B10: =VLOOKUP(A10,#REF!,1,0) -> #REF!
A11: 2272 | B11: =VLOOKUP(A11,#REF!,1,0) -> #REF!
A12: 1610 | B12: =VLOOKUP(A12,#REF!,1,0) -> #REF!
A13: 2292 | B13: =VLOOKUP(A13,#REF!,1,0) -> #REF!
... A93: 2264 | B93: =VLOOKUP(A93,#REF!,1,0) -> #REF!
