Workbook
Name _200_MG_25_COM_CT_BL_AL_PLAS_INC: #REF!
Name _200_MG_25_COM_CT_BL_AL_PLAS_INC: #REF!
Name Locator: #REF!
Name Locator: #REF!

Sheet Histórico CMED
B2: Ordem | C2: Descrição | D2: Dispositivo Legal | E2: Link
B3: 1 | C3: Estabelece os índices de conversão PF e PMC. | D3: RESOLUÇÃO CM-CMED Nº 1, DE 30 DE MARÇO DE 2023 | E3: https://www.gov.br/anvisa/pt-br/assuntos/medicamentos/cmed/ajuste-anual-de-precos-de-medicamentos/2023/resolucao-cm-cmed-no-1-de-30-de-marco-de-2023-resolucao-cm-cmed-no-1-de-30-de-marco-de-2023-dou-imprensa-nacional.pdf/view
B4: 2 | C4: Retificação da tabela de PMC. | D4: RETIFICAÇÃO do Anexo II da RESOLUÇÃO CM-CMED Nº 1, DE 30 DE MARÇO DE 2023 | E4: https://www.gov.br/anvisa/pt-br/assuntos/medicamentos/cmed/ajuste-anual-de-precos-de-medicamentos/2023/retificacao-anexo-ii-resolucao-cm-cmed-01-30-de-marco-de-2023.pdf/view
B5: 3 | C5: Republicação dos anexos da Resolução CM-CMED 1/2023. | D5: REPUBLICAÇÃO dos Anexos da RESOLUÇÃO CM-CMED Nº 1, DE 30 DE MARÇO DE 2023 | E5: https://www.gov.br/anvisa/pt-br/assuntos/medicamentos/cmed/ajuste-anual-de-precos-de-medicamentos/2023/Planilha_HHI_NveisFatorZ_ajustedepreos2024_PDF.pdf/view
B6: 4 | C6: Inclusão de fatores de conversão para as novas cargas tributárias de 19,5% e 20,5% | D6: INSTRUÇÃO NORMATIVA - IN Nº 1, de 28 de dezembro de 2023 | E6: https://www.gov.br/anvisa/pt-br/assuntos/medicamentos/cmed/legislacao/IN_1_2023.pdf
B7: 5 | C7: Estabelece novos fatores de PF e PMC, com a exclusão do ICMS da base de cálculo para fins de incidência do PIS e da COFINS. (Foi adiada para 01/04/2025) | D7: RESOLUÇÃO CM-CMED Nº 2, DE 12 DE AGOSTO DE 2024 | E7: https://www.gov.br/anvisa/pt-br/assuntos/medicamentos/cmed/legislacao/RESCM_2_2024.pdf
B8: 6 | C8: Inclusão de fatores de conversão para as novas cargas tributárias de 22,5% e 23%, tanto da metodologia anterior, com o ICMS na BC do PIS e da COFINS, quanto para a nova metodologia, sem o imposto na base de cálculo das contribuições. | D8: INSTRUÇÃO NORMATIVA - IN Nº 1, DE 4 DE FEVEREIRO DE 2025 | E8: https://www.in.gov.br/en/web/dou/-/instrucao-normativa-in-n-1-de-4-de-fevereiro-de-2025-610832936
B9: 7 | C9: Estabelece novos fatores de PF e PMC, com a exclusão do ICMS da base de cálculo para fins de incidência do PIS e da COFINS. (Início vigência 01/04/2025) | D9: RESOLUÇÃO CM-CMED Nº 2, DE 12 DE AGOSTO DE 2024 | E9: https://www.gov.br/anvisa/pt-br/assuntos/medicamentos/cmed/legislacao/RESCM_2_2024.pdf

Sheet Preços 18% (alterção fatores)
A2: BU | B2: Cód. SAP | C2: Descrição | D2: EAN | E2: Registro | F2: Regime de preço | G2: Preço 18% | H2: Preço 18% CMED | J2: Lista | K2: PF 0% | L2: Reajuste | M2: Valor após reajuste | N2: Conversão 18% novo Fator | O2: Valor se não fosse o novo fator | P2: Dif.
A3: CIRÚRGICA | B3: 100134628 | C3: ANESTALCON 5ML | D3: 7896548197158 | E3: 1006810870015 | F3: Regulado | G3: 9.16 | H3: 9.16 | J3: Positiva | K3: 7.5112 | L3: 0.02601 | M3: 7.71 | N3: 9.4 | O3: 9.3982516 | P3: 0.0017484
A4: CIRÚRGICA | B4: 100185949 | C4: MYDRIACYL 5ML | D4: 7896548112229 | E4: 1006811070012 | F4: Regulado | G4: 16.75 | H4: 16.75 | J4: Negativa | K4: 13.366734 | L4: 0.02601 | M4: 13.71 | N4: 16.72 | O4: 17.185668 | P4: -0.4656675
A5: CLC | B5: 100101086 | C5: OF REPLENISH PROMOCIONAL (300ML + 120ML) | D5: 0300650356459 | E5: --- | F5: --- | G5: 90.7 | H5: --- | J5: Negativa
A6: CLC | B6: 100101258 | C6: OF PUREMOIST PROMOCIONAL (300ML + 120ML) | D6: 0300651361070 | E6: --- | F6: --- | G6: 86.16 | H6: --- | J6: Negativa
A7: CLC | B7: 100205650 | C7: OF PUREMOIST TRAVEL PACK (90ML) | D7: 0300653611784 | E7: --- | F7: --- | G7: 30.9 | H7: --- | J7: Negativa
A8: CLC | B8: 100310586 | C8: OFX PROMO (355ML + 355ML)/LC BR | D8: 0300655144037 | E8: --- | F8: --- | G8: 112.74 | H8: --- | J8: Negativa
A9: DE&OH | B9: 100064649 | C9: SYSTANE ULTRA 10ML (ASPEX) | D9: 7896548197738 | E9: --- | F9: --- | G9: 59.36 | J9: Negativa
A10: DE&OH | B10: 100081431 | C10: SYSTANE ULTRA 15ML (ASPEX) | D10: 7896548198957 | E10: --- | F10: --- | G10: 80.96 | J10: Negativa
A11: DE&OH | B11: 100334051 | C11: OFTANE LUB EYE DROPS 10ML | D11: 0300651429374 | E11: --- | F11: --- | G11: 52.78 | H11: --- | J11: Negativa
A12: DE&OH | B12: 100185962 | C12: CLAROFT 15ML | D12: 7896548133613 | E12: 1006810900011 | F12: Regulado | G12: 10.89 | H12: 10.89 | J12: Negativa | K12: 8.6903725 | L12: 0.02601 | M12: 8.92 | N12: 10.88 | O12: 11.173249 | P12: -0.2932489
A13: DE&OH | B13: 100185967 | C13: CLARIL 15ML | D13: 7896548113479 | E13: 1006811150016 | F13: Liberado | G13: 20.13 | H13: 20.13 | J13: Negativa
A14: DE&OH | B14: 100245294 | C14: SYSTANE COMPLETE 10ML | D14: 0300651481198 | E14: --- | F14: --- | G14: 77.1 | H14: --- | J14: Negativa
A15: DE&OH | B15: 100269569 | C15: OFTANE 15ML (ASPEX) | D15: 0300651429206 | E15: --- | F15: --- | G15: 74.74 | H15: --- | J15: Negativa
A16: DE&OH | B16: 100281203 | C16: SYSTANE LID WIPES 30 SACHES | D16: 0300658052582 | E16: --- | F16: --- | G16: 79.32 | H16: --- | J16: Negativa
A17: DE&OH | B17: 100289293 | C17: SYSTANE ULTRA MDPF 10ML - BR | D17: 0300651507775 | E17: --- | F17: --- | G17: 63.81 | H17: --- | J17: Negativa
A18: DE&OH | B18: 100299895 | C18: TRISORB 15ML | D18: 0300650426404 | E18: --- | F18: --- | G18: 29.45 | H18: --- | J18: Negativa
A19: DE&OH | B19: 100299902 | C19: LACRIMA PLUS 15ML | D19: 0300651418477 | E19: --- | F19: --- | G19: 31.52 | H19: --- | J19: Negativa
A20: DE&OH | B20: 100333357 | C20: SYSTANE HIDRATAÇÃO MDPF 10ML | D20: 0300652510149 | E20: --- | F20: --- | G20: 73.16 | H20: --- | J20: Negativa
A21: DE&OH | B21: 100353900 | C21: SYSTANE UL 10ML | D21: 0300652439259 | E21: --- | F21: --- | G21: 59.36 | H21: --- | J21: Negativa
A22: DE&OH | B22: 100354041 | C22: SYSTANE UL 15ML | D22: 0300652439266 | E22: --- | F22: --- | G22: 80.96 | H22: --- | J22: Negativa
A23: FARMA | B23: 100070337 | C23: SIMBRINZA 5ML TRD-BR | D23: 7896548199565 | E23: 1006811310013 | F23: Regulado | G23: 75.68 | H23: 75.68 | J23: Negativa | K23: 60.3937 | L23: 0.038305 | M23: 62.71 | N23: 76.48 | O23: 78.578922 | P23: -2.0989224
A24: FARMA | B24: 100081629 | C24: SIMBRINZA 8ML-BR | D24: 7896548199572 | E24: 1006811310021 | F24: Regulado | G24: 121.11 | H24: 121.11 | J24: Negativa | K24: 96.647476 | L24: 0.038305 | M24: 100.35 | N24: 122.38 | O24: 125.74912 | P24: -3.3691186
A25: FARMA | B25: 100192968 | C25: AZOPT 1% 5ML-BR | D25: 7896548168745 | E25: 1006811140010 | F25: Regulado | G25: 77.49 | H25: 77.49 | J25: Positiva | K25: 63.5418 | L25: 0.038305 | M25: 65.98 | N25: 80.46 | O25: 80.458254 | P25: 0.00174555
A26: FARMA | B26: 100193009 | C26: AZORGA 5ML-BR | D26: 7896548197967 | E26: 1006811080018 | F26: Regulado | G26: 82.68 | H26: 82.68 | J26: Negativa | K26: 65.979798 | L26: 0.038305 | M26: 68.51 | N26: 83.55 | O26: 85.847057 | P26: -2.2970574
A27: FARMA | B27: 100193011 | C27: AZORGA 6ML-BR | D27: 7896548199855 | E27: 1006811080026 | F27: Regulado | G27: 99.22 | H27: 99.22 | J27: Negativa | K27: 79.178949 | L27: 0.038305 | M27: 82.21 | N27: 100.26 | O27: 103.02062 | P27: -2.7606221
A28: FARMA | B28: 100300697 | C28: PATANOL S 2.5ML-BR | D28: 7896548140581 | E28: 1006811100051 | F28: Regulado | G28: 58.26 | H28: 58.26 | J28: Positiva | K28: 47.7732 | L28: 0.02601 | M28: 49.02 | N28: 59.78 | O28: 59.775343 | P28: 0.0046574
A29: FARMA | B29: 100300698 | C29: VIGAMOX 5ML TRD-BR | D29: 7896548139585 | E29: 1006811120028 | F29: Regulado | G29: 38.9 | H29: 38.9 | J29: Positiva | K29: 31.898 | L29: 0.02601 | M29: 32.73 | N29: 39.91 | O29: 39.911789 | P29: -0.001789
A30: FARMA | B30: 100300699 | C30: VIGADEXA 5ML TRD-BR | D30: 7896548197554 | E30: 1006811020015 | F30: Regulado | G30: 37.11 | H30: 37.11 | J30: Positiva | K30: 30.4302 | L30: 0.038305 | M30: 31.6 | N30: 38.54 | O30: 38.531499 | P30: 0.00850145

Sheet Preços 18%
A2: BU | B2: Cód. SAP | C2: Descrição | D2: EAN | E2: Registro | F2: Regime de preço | G2: Preço 18% | H2: Preço 18% CMED | I2: Classe terapeútica | J2: Nível de reajuste
A3: CIRÚRGICA | B3: 100134628 | C3: ANESTALCON 5ML | D3: 7896548197158 | E3: 1006810870015 | F3: Regulado | G3: 9.5204289 | H3: 9.4 | I3: S1H | J3: Nível 3
A4: CIRÚRGICA | B4: 100185949 | C4: MYDRIACYL 5ML | D4: 7896548112229 | E4: 1006811070012 | F4: Regulado | G4: 16.93736 | H4: 16.72 | I4: S1F | J4: Nível 3
A5: CLC | B5: 100101086 | C5: OF REPLENISH PROMOCIONAL (300ML + 120ML) | D5: 0300650356459 | E5: --- | F5: --- | G5: 90.7 | H5: ---
A6: CLC | B6: 100101258 | C6: OF PUREMOIST PROMOCIONAL (300ML + 120ML) | D6: 0300651361070 | E6: --- | F6: --- | G6: 90.47 | H6: ---
A7: CLC | B7: 100205650 | C7: OF PUREMOIST TRAVEL PACK (90ML) | D7: 0300653611784 | E7: --- | F7: --- | G7: 32.45 | H7: ---
A8: CLC | B8: 100310586 | C8: OFX PROMO (355ML + 355ML)/LC BR | D8: 0300655144037 | E8: --- | F8: --- | G8: 118.38 | H8: ---
A9: DE&OH | B9: 100064649 | C9: SYSTANE ULTRA 10ML (ASPEX) | D9: 7896548197738 | E9: --- | F9: --- | G9: 59.36
A10: DE&OH | B10: 100081431 | C10: SYSTANE ULTRA 15ML (ASPEX) | D10: 7896548198957 | E10: --- | F10: --- | G10: 80.96
A11: DE&OH | B11: 100334051 | C11: OFTANE LUB EYE DROPS 10ML | D11: 0300651429374 | E11: --- | F11: --- | G11: 58.74 | H11: ---
A12: DE&OH | B12: 100185962 | C12: CLAROFT 15ML | D12: 7896548133613 | E12: 1006810900011 | F12: Regulado | G12: 11.294528 | H12: 10.88 | I12: S1G5 | J12: Nível 1
A13: DE&OH | B13: 100185967 | C13: CLARIL 15ML | D13: 7896548113479 | E13: 1006811150016 | F13: Liberado | G13: 23.88 | H13: 20.13 | I13: S1G5 | J13: Nível 1
A14: DE&OH | B14: 100245294 | C14: SYSTANE COMPLETE 10ML | D14: 0300651481198 | E14: --- | F14: --- | G14: 85 | H14: ---
A15: DE&OH | B15: 100331647 | C15: SYSTANE COMPLETE MDPF 10ML | D15: 0300651509755 | E15: --- | F15: --- | G15: 90.68 | H15: ---
A16: DE&OH | B16: 100269569 | C16: OFTANE 15ML (ASPEX) | D16: 0300651429206 | E16: --- | F16: --- | G16: 83.19 | H16: ---
A17: DE&OH | B17: 100281203 | C17: SYSTANE LID WIPES 30 SACHES | D17: 0300658052582 | E17: --- | F17: --- | G17: 87.45 | H17: ---
A18: DE&OH | B18: 100289293 | C18: SYSTANE ULTRA MDPF 10ML - BR | D18: 0300651507775 | E18: --- | F18: --- | G18: 70.35 | H18: ---
A19: DE&OH | B19: 100299895 | C19: TRISORB 15ML | D19: 0300650426404 | E19: --- | F19: --- | G19: 32.47 | H19: ---
A20: DE&OH | B20: 100299902 | C20: LACRIMA PLUS 15ML | D20: 0300651418477 | E20: --- | F20: --- | G20: 34.75 | H20: ---
A21: DE&OH | B21: 100333357 | C21: SYSTANE HIDRATAÇÃO MDPF 10ML | D21: 0300652510149 | E21: --- | F21: --- | G21: 80.66 | H21: ---
A22: DE&OH | B22: 100353900 | C22: SYSTANE UL 10ML | D22: 0300652439259 | E22: --- | F22: --- | G22: 62.33 | H22: ---
A23: DE&OH | B23: 100354041 | C23: SYSTANE UL 15ML | D23: 0300652439266 | E23: --- | F23: --- | G23: 85.01 | H23: ---
A24: FARMA | B24: 100070337 | C24: SIMBRINZA 5ML TRD-BR | D24: 7896548199565 | E24: 1006811310013 | F24: Regulado | G24: 79.393888 | H24: 76.48 | I24: S1E2 | J24: Nível 1
A25: FARMA | B25: 100081629 | C25: SIMBRINZA 8ML-BR | D25: 7896548199572 | E25: 1006811310021 | F25: Regulado | G25: 127.04268 | H25: 122.38 | I25: S1E2 | J25: Nível 1
A26: FARMA | B26: 100192968 | C26: AZOPT 1% 5ML-BR | D26: 7896548168745 | E26: 1006811140010 | F26: Regulado | G26: 83.523714 | H26: 80.458254 | I26: S1E2 | J26: Nível 1
A27: FARMA | B27: 100193009 | C27: AZORGA 5ML-BR | D27: 7896548197967 | E27: 1006811080018 | F27: Regulado | G27: 86.733255 | H27: 83.55 | I27: S1E2 | J27: Nível 1
A28: FARMA | B28: 100193011 | C28: AZORGA 6ML-BR | D28: 7896548199855 | E28: 1006811080026 | F28: Regulado | G28: 104.07991 | H28: 100.26 | I28: S1E2 | J28: Nível 1
A29: FARMA | B29: 100300697 | C29: PATANOL S 2.5ML-BR | D29: 7896548140581 | E29: 1006811100051 | F29: Regulado | G29: 60.552422 | H29: 59.775343 | I29: S1G3 | J29: Nível 3
A30: FARMA | B30: 100300698 | C30: VIGAMOX 5ML TRD-BR | D30: 7896548139585 | E30: 1006811120028 | F30: Regulado | G30: 41.432428 | H30: 39.911789 | I30: S1A | J30: Nível 1
A31: FARMA | B31: 100300699 | C31: VIGADEXA 5ML TRD-BR | D31: 7896548197554 | E31: 1006811020015 | F31: Regulado | G31: 40.008374 | H31: 38.54 | I31: S1C1 | J31: Nível 1

Sheet Itens com ST (MG)
A1: UF | B1: NCM | C1: MVA
A2: AL | B2: 3307.90.00 | C2: 0.85122192
A3: AP | B3: 3307.90.00 | C3: 1.0416901
A4: MG | B4: 3307.90.00 | C4: 0.62876712
A5: MT | B5: 3307.90.00 | C5: 0.5964
A6: PR | B6: 3307.90.00 | C6: 0.631232
A7: RJ | B7: 3307.90.00 | C7: 0.55352558
A8: RS | B8: 3307.90.00 | C8: 1.0993753
A9: SP | B9: 3307.90.00 | C9: 0.94915122
A10: MG | B10: 3004.90.99 | C10: 0.33
A11: MS | B11: 3004.90.99 | C11: 0.38506024
A12: SP | B12: 3004.90.99 | C12: 0.59242927
A13: AL | B13: 3401.11.90 | C13: 0.6542
... A21: SP | B21: 3401.11.90 | C21: 0.7843122

Sheet Fatores PF
C2: FATORES DE CONVERSÃO PARA PF
C3: % ICMS | D3: 0 | E3: 0.12 | F3: 0.17 | G3: 0.175 | H3: 0.18 | I3: 0.19 | J3: 0.195 | K3: 0.2 | L3: 0.205 | M3: 0.21 | N3: 0.22 | O3: 0.225 | P3: 0.23
B4: POSITIVA
B5: =C5&" - "&$B$4 -> POSITIVA - POSITIVA | C5: POSITIVA | D5: 0.82 | E5: 0.931818 | F5: 0.987952 | G5: 0.993939 | H5: 1 | I5: 1.012346 | J5: 1.0186339 | K5: 1.025 | L5: 1.0314467 | M5: 1.037975 | N5: 1.051282 | O5: 1.058065 | P5: 1.064935
B6: =C6&" - "&$B$4 -> NEGATIVA - POSITIVA | C6: NEGATIVA | D6: 0.732143 | E6: 0.83198 | F6: 0.8821 | G6: 0.887446 | H6: 0.892857 | I6: 0.90388 | J6: 0.909494 | K6: 0.915178 | L6: 0.920934 | M6: 0.926763 | N6: 0.938644 | O6: 0.9447 | P6: 0.950835
B7: =C7&" - "&$B$4 -> NEUTRA - POSITIVA | C7: NEUTRA | D7: 0.752503 | E7: 0.855117 | F7: 0.90663 | G7: 0.912124 | H7: 0.917686 | I7: 0.929016 | J7: 0.934786 | K7: 0.940628 | L7: 0.946544 | M7: 0.952535 | N7: 0.964747 | O7: 0.970971 | P7: 0.977276
B8: NEGATIVA
B9: =C9&" - "&$B$8 -> POSITIVA - NEGATIVA | C9: POSITIVA | D9: 0.9184 | E9: 1.043637 | F9: 1.106506 | G9: 1.113213 | H9: 1.12 | I9: 1.133828 | J9: 1.14087 | K9: 1.148 | L9: 1.155221 | M9: 1.162532 | N9: 1.177436 | O9: 1.185033 | P9: 1.192728
B10: =C10&" - "&$B$8 -> NEGATIVA - NEGATIVA | C10: NEGATIVA | D10: 0.82 | E10: 0.931818 | F10: 0.987952 | G10: 0.993939 | H10: 1 | I10: 1.012346 | J10: 1.018634 | K10: 1.025 | L10: 1.031447 | M10: 1.037975 | N10: 1.051282 | O10: 1.058065 | P10: 1.064935
B11: =C11&" - "&$B$8 -> NEUTRA - NEGATIVA | C11: NEUTRA | D11: 0.842803 | E11: 0.957731 | F11: 1.015426 | G11: 1.02158 | H11: 1.027809 | I11: 1.040498 | J11: 1.04696 | K11: 1.053504 | L11: 1.06013 | M11: 1.066839 | N11: 1.080517 | O11: 1.087488 | P11: 1.09455
B12: NEUTRA
B13: =C13&" - "&$B$12 -> POSITIVA - NEUTRA | C13: POSITIVA | D13: 0.893552 | E13: 1.0154 | F13: 1.076568 | G13: 1.083093 | H13: 1.089697 | I13: 1.10315 | J13: 1.110002 | K13: 1.11694 | L13: 1.123964 | M13: 1.131078 | N13: 1.145579 | O13: 1.15297 | P13: 1.160457
B14: =C14&" - "&$B$12 -> NEGATIVA - NEUTRA | C14: NEGATIVA | D14: 0.797814 | E14: 0.906607 | F14: 0.961221 | G14: 0.967047 | H14: 0.972944 | I14: 0.984955 | J14: 0.991073 | K14: 0.997267 | L14: 1.003539 | M14: 1.009891 | N14: 1.022838 | O14: 1.029437 | P14: 1.036122
B15: =C15&" - "&$B$12 -> NEUTRA - NEUTRA | C15: NEUTRA | D15: 0.82 | E15: 0.931818 | F15: 0.987952 | G15: 0.993939 | H15: 1 | I15: 1.012346 | J15: 1.018634 | K15: 1.025 | L15: 1.031447 | M15: 1.037975 | N15: 1.051282 | O15: 1.058065 | P15: 1.064935
B17: POSITIVA
C18: Preço referência (18%) | D18: 100 | E18: 100 | F18: 100 | G18: 100 | H18: 100 | I18: 100 | J18: 100 | K18: 100 | L18: 100 | M18: 100 | N18: 100 | O18: 100 | P18: 100
C19: Preço ajustado | D19: =D18*D5 -> 82 | E19: =E18*E5 -> 93.1818 | F19: =F18*F5 -> 98.7952 | G19: =G18*G5 -> 99.3939 | H19: =H18*H5 -> 100 | I19: =I18*I5 -> 101.2346 | J19: =J18*J5 -> 101.86339 | K19: =K18*K5 -> 102.5 | ... P19: =P18*P5 -> 106.4935
C20: ICMS | D20: =D19*D3 -> 0 | E20: =E19*E3 -> 11.181816 | F20: =F19*F3 -> 16.795184 | G20: =G19*G3 -> 17.393932 | H20: =H19*H3 -> 18 | I20: =I19*I3 -> 19.234574 | J20: =J19*J3 -> 19.86336 | K20: =K19*K3 -> 20.5 | ... P20: =P19*P3 -> 24.493505
C21: Líq. | D21: =D19-D20 -> 82 | E21: =E19-E20 -> 81.999984 | F21: =F19-F20 -> 82.000016 | G21: =G19-G20 -> 81.999967 | H21: =H19-H20 -> 82 | I21: =I19-I20 -> 82.000026 | J21: =J19-J20 -> 82.000026 | K21: =K19-K20 -> 82 | ... P21: =P19-P20 -> 81.999995
B22: NEGATIVA
C23: Preço referência (18%) | D23: 100 | E23: 100 | F23: 100 | G23: 100 | H23: 100 | I23: 100 | J23: 100 | K23: 100 | L23: 100 | M23: 100 | N23: 100 | O23: 100 | P23: 100
C24: Preço ajustado | D24: =D23*D10 -> 82 | E24: =E23*E10 -> 93.1818 | F24: =F23*F10 -> 98.7952 | G24: =G23*G10 -> 99.3939 | H24: =H23*H10 -> 100 | I24: =I23*I10 -> 101.2346 | J24: =J23*J10 -> 101.8634 | K24: =K23*K10 -> 102.5 | ... P24: =P23*P10 -> 106.4935
C25: ICMS | D25: =D24*D3 -> 0 | E25: =E24*E3 -> 11.181816 | F25: =F24*F3 -> 16.795184 | G25: =G24*G3 -> 17.393932 | H25: =H24*H3 -> 18 | I25: =I24*I3 -> 19.234574 | J25: =J24*J3 -> 19.863363 | K25: =K24*K3 -> 20.5 | ... P25: =P24*P3 -> 24.493505
C26: BC PIS/COFINS | D26: =D24-D25 -> 82 | E26: =E24-E25 -> 81.999984 | F26: =F24-F25 -> 82.000016 | G26: =G24-G25 -> 81.999967 | H26: =H24-H25 -> 82 | I26: =I24-I25 -> 82.000026 | J26: =J24-J25 -> 82.000037 | K26: =K24-K25 -> 82 | ... P26: =P24-P25 -> 81.999995
C27: PIS/COFINS | D27: =D26*12% -> 9.84 | E27: =E26*12% -> 9.8399981 | F27: =F26*12% -> 9.8400019 | G27: =G26*12% -> 9.8399961 | H27: =H26*12% -> 9.84 | I27: =I26*12% -> 9.8400031 | J27: =J26*12% -> 9.8400044 | K27: =K26*12% -> 9.84 | ... P27: =P26*12% -> 9.8399994
C28: Líq. | D28: =D24-D25-D27 -> 72.16 | E28: =E24-E25-E27 -> 72.159986 | F28: =F24-F25-F27 -> 72.160014 | G28: =G24-G25-G27 -> 72.159971 | H28: =H24-H25-H27 -> 72.16 | I28: =I24-I25-I27 -> 72.160023 | J28: =J24-J25-J27 -> 72.160033 | K28: =K24-K25-K27 -> 72.16 | ... P28: =P24-P25-P27 -> 72.159996
B29: NEUTRA
D30: 100 | E30: 100 | F30: 100 | G30: 100 | H30: 100 | I30: 100 | J30: 100 | K30: 100 | L30: 100 | M30: 100 | N30: 100 | O30: 100 | P30: 100
C31: Preço ajustado | D31: =D30*D15 -> 82 | E31: =E30*E15 -> 93.1818 | F31: =F30*F15 -> 98.7952 | G31: =G30*G15 -> 99.3939 | H31: =H30*H15 -> 100 | I31: =I30*I15 -> 101.2346 | J31: =J30*J15 -> 101.8634 | K31: =K30*K15 -> 102.5 | ... P31: =P30*P15 -> 106.4935
C32: ICMS | D32: =D31*D3 -> 0 | E32: =E31*E3 -> 11.181816 | F32: =F31*F3 -> 16.795184 | G32: =G31*G3 -> 17.393932 | H32: =H31*H3 -> 18 | I32: =I31*I3 -> 19.234574 | J32: =J31*J3 -> 19.863363 | K32: =K31*K3 -> 20.5 | ... P32: =P31*P3 -> 24.493505
C33: BC PIS/COFINS | D33: =D31-D32 -> 82 | E33: =E31-E32 -> 81.999984 | F33: =F31-F32 -> 82.000016 | G33: =G31-G32 -> 81.999967 | H33: =H31-H32 -> 82 | I33: =I31-I32 -> 82.000026 | J33: =J31-J32 -> 82.000037 | K33: =K31-K32 -> 82 | ... P33: =P31-P32 -> 81.999995
C34: PIS/COFINS | D34: =D33*9.25% -> 7.585 | E34: =E33*9.25% -> 7.5849985 | F34: =F33*9.25% -> 7.5850015 | G34: =G33*9.25% -> 7.584997 | H34: =H33*9.25% -> 7.585 | I34: =I33*9.25% -> 7.5850024 | J34: =J33*9.25% -> 7.5850034 | K34: =K33*9.25% -> 7.585 | ... P34: =P33*9.25% -> 7.5849995
C35: Líq. | D35: =D31-D32-D34 -> 74.415 | E35: =E31-E32-E34 -> 74.414985 | F35: =F31-F32-F34 -> 74.415015 | G35: =G31-G32-G34 -> 74.414971 | H35: =H31-H32-H34 -> 74.415 | I35: =I31-I32-I34 -> 74.415024 | J35: =J31-J32-J34 -> 74.415034 | K35: =K31-K32-K34 -> 74.415 | ... P35: =P31-P32-P34 -> 74.414995

Sheet %ICMS
B2: UF | C2: Unidade da Federação | D2: %INTER (Nacional SP) | E2: %INTER (Importado) | F2: %Repasse (Nacional) | G2: %Repasse (Importado) | H2: ALC/ZFM | I2: %ICMS | J2: Region Group | K2: Region Group ALC/ZFM
B3: AC | C3: Acre | D3: 0.07 | E3: 0.04 | F3: =(I3-D3)/(1-D3) -> 0.12903226 | G3: =(I3-E3)/(1-E3) -> 0.15625 | H3: ALC/ZFM | I3: 0.19 | J3: B9 | K3: BC
B4: AL | C4: Alagoas | D4: 0.07 | E4: 0.04 | F4: =(I4-D4)/(1-D4) -> 0.14516129 | G4: =(I4-E4)/(1-E4) -> 0.171875 | I4: 0.205 | J4: B4 | M4: Revisar 2026, após correção dos fatores PF (não CMED)
B5: AM | C5: Amazonas | D5: 0.07 | E5: 0.04 | F5: =(I5-D5)/(1-D5) -> 0.13978495 | G5: =(I5-E5)/(1-E5) -> 0.16666667 | H5: ALC/ZFM | I5: 0.2 | J5: B4 | K5: BD
B6: AP | C6: Amapá | D6: 0.07 | E6: 0.04 | F6: =(I6-D6)/(1-D6) -> 0.11827957 | G6: =(I6-E6)/(1-E6) -> 0.14583333 | H6: ALC/ZFM | I6: 0.18 | J6: B3 | K6: B8
B7: BA | C7: Bahia | D7: 0.07 | E7: 0.04 | F7: =(I7-D7)/(1-D7) -> 0.14516129 | G7: =(I7-E7)/(1-E7) -> 0.171875 | I7: 0.205 | J7: BE
B8: CE | C8: Ceará | D8: 0.07 | E8: 0.04 | F8: =(I8-D8)/(1-D8) -> 0.13978495 | G8: =(I8-E8)/(1-E8) -> 0.16666667 | I8: 0.2 | J8: B4
B9: DF | C9: Distrito Federal | D9: 0.07 | E9: 0.04 | F9: =(I9-D9)/(1-D9) -> 0.10752688 | G9: =(I9-E9)/(1-E9) -> 0.13541667 | I9: 0.17 | J9: B1
B10: ES | C10: Espirito Santo | D10: 0.07 | E10: 0.04 | F10: =(I10-D10)/(1-D10) -> 0.10752688 | G10: =(I10-E10)/(1-E10) -> 0.13541667 | I10: 0.17 | J10: B1
B11: GO | C11: Goiás | D11: 0.07 | E11: 0.04 | F11: =(I11-D11)/(1-D11) -> 0.12903226 | G11: =(I11-E11)/(1-E11) -> 0.15625 | I11: 0.19 | J11: B9
B12: MA | C12: Maranhão | D12: 0.07 | E12: 0.04 | F12: =(I12-D12)/(1-D12) -> 0.17204301 | G12: =(I12-E12)/(1-E12) -> 0.19791667 | I12: 0.23 | J12: BH
B13: MG | C13: Minas Gerais | D13: 0.12 | E13: 0.04 | F13: =(I13-D13)/(1-D13) -> 0.068181818 | G13: =(I13-E13)/(1-E13) -> 0.14583333 | I13: 0.18 | J13: B5 (MG)
B14: MS | C14: Mato Grosso do Sul | D14: 0.07 | E14: 0.04 | F14: =(I14-D14)/(1-D14) -> 0.10752688 | G14: =(I14-E14)/(1-E14) -> 0.13541667 | I14: 0.17 | J14: B1
B15: MT | C15: Mato Grosso | D15: 0.07 | E15: 0.04 | F15: =(I15-D15)/(1-D15) -> 0.10752688 | G15: =(I15-E15)/(1-E15) -> 0.13541667 | I15: 0.17 | J15: B1
B16: PA | C16: Pará | D16: 0.07 | E16: 0.04 | F16: =(I16-D16)/(1-D16) -> 0.12903226 | G16: =(I16-E16)/(1-E16) -> 0.15625 | I16: 0.19 | J16: B9
B17: PB | C17: Paraíba | D17: 0.07 | E17: 0.04 | F17: =(I17-D17)/(1-D17) -> 0.13978495 | G17: =(I17-E17)/(1-E17) -> 0.16666667 | I17: 0.2 | J17: B4
B18: PE | C18: Pernambuco | D18: 0.07 | E18: 0.04 | F18: =(I18-D18)/(1-D18) -> 0.14516129 | G18: =(I18-E18)/(1-E18) -> 0.171875 | I18: 0.205 | J18: BE
... B22: RN | C22: Rio Grande do Norte | D22: 0.07 | E22: 0.04 | F22: =(I22-D22)/(1-D22) -> 0.13978495 | G22: =(I22-E22)/(1-E22) -> 0.16666667 | I22: 0.2 | J22: B4
B23: RO | C23: Rondônia | D23: 0.07 | E23: 0.04 | F23: =(I23-D23)/(1-D23) -> 0.1344086 | G23: =(I23-E23)/(1-E23) -> 0.16145833 | H23: ALC/ZFM | I23: 0.195 | J23: BG | K23: BF
B24: RR | C24: Roraíma | D24: 0.07 | E24: 0.04 | F24: =(I24-D24)/(1-D24) -> 0.13978495 | G24: =(I24-E24)/(1-E24) -> 0.16666667 | H24: ALC/ZFM | I24: 0.2 | J24: B4 | K24: BD
B25: RS | C25: Rio Grande do Sul | D25: 0.12 | E25: 0.04 | F25: =(I25-D25)/(1-D25) -> 0.056818182 | G25: =(I25-E25)/(1-E25) -> 0.13541667 | I25: 0.17 | J25: B1
B26: SC | C26: Santa Catarina | D26: 0.12 | E26: 0.04 | F26: =(I26-D26)/(1-D26) -> 0.056818182 | G26: =(I26-E26)/(1-E26) -> 0.13541667 | I26: 0.17 | J26: B1
B27: SE | C27: Sergipe | D27: 0.07 | E27: 0.04 | F27: =(I27-D27)/(1-D27) -> 0.13978495 | G27: =(I27-E27)/(1-E27) -> 0.16666667 | I27: 0.2 | J27: B4
B28: SP | C28: São Paulo | D28: 0 | E28: 0 | F28: 0 | G28: 0 | I28: 0.18 | J28: BJ (SP)
B29: TO | C29: Tocantins | D29: 0.07 | E29: 0.04 | F29: =(I29-D29)/(1-D29) -> 0.13978495 | G29: =(I29-E29)/(1-E29) -> 0.16666667 | I29: 0.2 | J29: B4

Sheet Fatores PF (não CMED)
C2: FATORES DE CONVERSÃO PARA PF
C3: % ICMS | D3: 0 | E3: 0.12 | F3: 0.17 | G3: 0.175 | H3: 0.18 | I3: 0.19 | J3: 0.195 | K3: 0.2 | L3: 0.205 | M3: 0.21 | N3: 0.22 | O3: 0.225 | P3: 0.23
B4: POSITIVA
B5: =C5&" - "&$B$4 -> POSITIVA - POSITIVA | C5: POSITIVA | D5: 0.82 | E5: 0.931818 | F5: 0.987952 | G5: 0.993939 | H5: 1 | I5: 1.012346 | J5: 1.0186339 | K5: 1.025 | L5: 1.0314467 | M5: 1.037975 | N5: 1.051282 | O5: 1.058065 | P5: 1.064935
B6: =C6&" - "&$B$4 -> NEGATIVA - POSITIVA | C6: NEGATIVA | D6: 0.712512 | E6: 0.809673 | F6: 0.858448 | G6: 0.863651 | H6: 0.868917 | I6: 0.879645 | J6: 0.885108 | K6: 0.89064 | L6: 0.898242 | M6: 0.901914 | N6: 0.913477 | O6: 0.91937 | P6: 0.92534
B7: =C7&" - "&$B$4 -> NEUTRA - POSITIVA | C7: NEUTRA | D7: 0.737483 | E7: 0.838049 | F7: 0.888533 | G7: 0.893919 | H7: 0.899369 | I7: 0.910473 | J7: 0.916128 | K7: 0.921853 | L7: 0.927651 | M7: 0.933522 | N7: 0.945491 | O7: 0.951591 | P7: 0.95777
B8: NEGATIVA
B9: =C9&" - "&$B$8 -> POSITIVA - NEGATIVA | C9: POSITIVA | D9: 0.9184 | E9: 1.061292 | F9: 1.134893 | G9: 1.142819 | H9: 1.150858 | I9: 1.167279 | J9: 1.175667 | K9: 1.184177 | L9: 1.192811 | M9: 1.201572 | N9: 1.219488 | O9: 1.228648 | P9: 1.237947
B10: =C10&" - "&$B$8 -> NEGATIVA - NEGATIVA | C10: NEGATIVA | D10: 0.798014 | E10: 0.922175 | F10: 0.986128 | G10: 0.993015 | H10: 1 | I10: 1.014269 | J10: 1.021557 | K10: 1.028952 | L10: 1.0364542 | M10: 1.044067 | N10: 1.059634 | O10: 1.067593 | P10: 1.075673
B11: =C11&" - "&$B$8 -> NEUTRA - NEGATIVA | C11: NEUTRA | D11: 0.825981 | E11: 0.954494 | F11: 1.020688 | G11: 1.027817 | H11: 1.035046 | I11: 1.049815 | J11: 1.057359 | K11: 1.065012 | L11: 1.072778 | M11: 1.080657 | N11: 1.09677 | O11: 1.105008 | P11: 1.113371
B12: NEUTRA
B13: =C13&" - "&$B$12 -> POSITIVA - NEUTRA | C13: POSITIVA | D13: 0.893552 | E13: 1.028136 | F13: 1.096995 | G13: 1.104393 | H13: 1.11189 | I13: 1.127196 | J13: 1.135008 | K13: 1.14293 | L13: 1.150963 | M13: 1.159109 | N13: 1.175754 | O13: 1.184258 | P13: 1.192885
B14: =C14&" - "&$B$12 -> NEGATIVA - NEUTRA | C14: NEGATIVA | D14: 0.776422 | E14: 0.893365 | F14: 0.953198 | G14: 0.959626 | H14: 0.966141 | I14: 0.97944 | J14: 0.986228 | K14: 0.993111 | L14: 1.000091 | M14: 1.00717 | N14: 1.021633 | O14: 1.029022 | P14: 1.036518
B15: =C15&" - "&$B$12 -> NEUTRA - NEUTRA | C15: NEUTRA | D15: 0.803633 | E15: 0.924674 | F15: 0.986604 | G15: 0.993257 | H15: 1 | I15: 1.013766 | J15: 1.020792 | K15: 1.027916 | L15: 1.0351399 | M15: 1.042467 | N15: 1.057437 | O15: 1.065085 | P15: 1.072844
B17: POSITIVA | R17: Criar fatores para (se ainda dentro do contexto da reforma tributária):
C18: Preço referência (18%) | D18: 100 | E18: 100 | F18: 100 | G18: 100 | H18: 100 | I18: 100 | J18: 100 | K18: 100 | L18: 100 | M18: 100 | N18: 100 | O18: 100 | P18: 100 | R18: 0.215
C19: Preço ajustado | D19: =D18*D5 -> 82 | E19: =E18*E5 -> 93.1818 | F19: =F18*F5 -> 98.7952 | G19: =G18*G5 -> 99.3939 | H19: =H18*H5 -> 100 | I19: =I18*I5 -> 101.2346 | J19: =J18*J5 -> 101.86339 | K19: =K18*K5 -> 102.5 | ... P19: =P18*P5 -> 106.4935 | R19: 0.25
C20: ICMS | D20: =D19*D3 -> 0 | E20: =E19*E3 -> 11.181816 | F20: =F19*F3 -> 16.795184 | G20: =G19*G3 -> 17.393932 | H20: =H19*H3 -> 18 | I20: =I19*I3 -> 19.234574 | J20: =J19*J3 -> 19.86336 | K20: =K19*K3 -> 20.5 | ... P20: =P19*P3 -> 24.493505 | R20: 0.26
C21: Líq. | D21: =D19-D20 -> 82 | E21: =E19-E20 -> 81.999984 | F21: =F19-F20 -> 82.000016 | G21: =G19-G20 -> 81.999967 | H21: =H19-H20 -> 82 | I21: =I19-I20 -> 82.000026 | J21: =J19-J20 -> 82.000026 | K21: =K19-K20 -> 82 | ... P21: =P19-P20 -> 81.999995 | R21: 0.27
B22: NEGATIVA | R22: 0.29
C23: Preço referência (18%) | D23: 100 | E23: 100 | F23: 100 | G23: 100 | H23: 100 | I23: 100 | J23: 100 | K23: 100 | L23: 100 | M23: 100 | N23: 100 | O23: 100 | P23: 100
C24: Preço ajustado | D24: =D23*D10 -> 79.8014 | E24: =E23*E10 -> 92.2175 | F24: =F23*F10 -> 98.6128 | G24: =G23*G10 -> 99.3015 | H24: =H23*H10 -> 100 | I24: =I23*I10 -> 101.4269 | J24: =J23*J10 -> 102.1557 | K24: =K23*K10 -> 102.8952 | ... P24: =P23*P10 -> 107.5673
C25: ICMS | D25: =D24*D3 -> 0 | E25: =E24*E3 -> 11.0661 | F25: =F24*F3 -> 16.764176 | G25: =G24*G3 -> 17.377762 | H25: =H24*H3 -> 18 | I25: =I24*I3 -> 19.271111 | J25: =J24*J3 -> 19.920362 | K25: =K24*K3 -> 20.57904 | ... P25: =P24*P3 -> 24.740479
C26: BC PIS/COFINS | D26: =D24-D25 -> 79.8014 | E26: =E24-E25 -> 81.1514 | F26: =F24-F25 -> 81.848624 | G26: =G24-G25 -> 81.923738 | H26: =H24-H25 -> 82 | I26: =I24-I25 -> 82.155789 | J26: =J24-J25 -> 82.235339 | K26: =K24-K25 -> 82.31616 | ... P26: =P24-P25 -> 82.826821
C27: PIS/COFINS | D27: =D26*12% -> 9.576168 | E27: =E26*12% -> 9.738168 | F27: =F26*12% -> 9.8218349 | G27: =G26*12% -> 9.8308485 | H27: =H26*12% -> 9.84 | I27: =I26*12% -> 9.8586947 | J27: =J26*12% -> 9.8682406 | K27: =K26*12% -> 9.8779392 | ... P27: =P26*12% -> 9.9392185
C28: Líq. | D28: =D24-D25-D27 -> 70.225232 | E28: =E24-E25-E27 -> 71.413232 | F28: =F24-F25-F27 -> 72.026789 | G28: =G24-G25-G27 -> 72.092889 | H28: =H24-H25-H27 -> 72.16 | I28: =I24-I25-I27 -> 72.297094 | J28: =J24-J25-J27 -> 72.367098 | K28: =K24-K25-K27 -> 72.438221 | ... P28: =P24-P25-P27 -> 72.887602 | R28: Revisar fatores 2026
B29: NEUTRA
D30: 100 | E30: 100 | F30: 100 | G30: 100 | H30: 100 | I30: 100 | J30: 100 | K30: 100 | L30: 100 | M30: 100 | N30: 100 | O30: 100 | P30: 100
C31: Preço ajustado | D31: =D30*D15 -> 80.3633 | E31: =E30*E15 -> 92.4674 | F31: =F30*F15 -> 98.6604 | G31: =G30*G15 -> 99.3257 | H31: =H30*H15 -> 100 | I31: =I30*I15 -> 101.3766 | J31: =J30*J15 -> 102.0792 | K31: =K30*K15 -> 102.7916 | ... P31: =P30*P15 -> 107.2844
C32: ICMS | D32: =D31*D3 -> 0 | E32: =E31*E3 -> 11.096088 | F32: =F31*F3 -> 16.772268 | G32: =G31*G3 -> 17.381997 | H32: =H31*H3 -> 18 | I32: =I31*I3 -> 19.261554 | J32: =J31*J3 -> 19.905444 | K32: =K31*K3 -> 20.55832 | ... P32: =P31*P3 -> 24.675412
C33: BC PIS/COFINS | D33: =D31-D32 -> 80.3633 | E33: =E31-E32 -> 81.371312 | F33: =F31-F32 -> 81.888132 | G33: =G31-G32 -> 81.943703 | H33: =H31-H32 -> 82 | I33: =I31-I32 -> 82.115046 | J33: =J31-J32 -> 82.173756 | K33: =K31-K32 -> 82.23328 | ... P33: =P31-P32 -> 82.608988
C34: PIS/COFINS | D34: =D33*9.25% -> 7.4336053 | E34: =E33*9.25% -> 7.5268464 | F34: =F33*9.25% -> 7.5746522 | G34: =G33*9.25% -> 7.5797925 | H34: =H33*9.25% -> 7.585 | I34: =I33*9.25% -> 7.5956418 | J34: =J33*9.25% -> 7.6010724 | K34: =K33*9.25% -> 7.6065784 | ... P34: =P33*9.25% -> 7.6413314
C35: Líq. | D35: =D31-D32-D34 -> 72.929695 | E35: =E31-E32-E34 -> 73.844466 | F35: =F31-F32-F34 -> 74.31348 | G35: =G31-G32-G34 -> 74.36391 | H35: =H31-H32-H34 -> 74.415 | I35: =I31-I32-I34 -> 74.519404 | J35: =J31-J32-J34 -> 74.572684 | K35: =K31-K32-K34 -> 74.626702 | ... P35: =P31-P32-P34 -> 74.967657 | R35: Revisar fatores 2026

Sheet Resumo
B2: UF remetente (Centro de Distribuição) | F2: MG e GO
B3: UF de destino | F3: PB
B6: UF | C6: Cód. SAP | D6: Descrição | E6: EAN | F6: PIS/COFINS | G6: IPI | H6: Intra % | I6: Inter % | J6: CT | K6: MVA % | L6: PMC | M6: PMPF | N6: PF | O6: Repasse | P6: Desconto (preencher) | Q6: Preço NF | R6: %Redução ICMS | S6: ICMS | T6: IPI | U6: ICMS-ST | V6: Preço Final
B7: =IF($F$2="SP","SP",_xlfn.XLOOKUP(C7,'VC (MG e GO)'!C:C,'VC (MG e GO)'!E:E,,0)) -> GO | C7: 100185949 | D7: MYDRIACYL 5ML | E7: 7896548112229 | F7: =IF($F$2="SP",_xlfn.XLOOKUP(C7,'VC (SP)'!C:C,'VC (SP)'!S:S,,0),_xlfn.XLOOKUP(C7,'VC (MG e GO)'!C:C,'VC (MG e GO)'!S:S,,0)) -> 0 | G7: =IF($F$2="SP",_xlfn.XLOOKUP(C7,'VC (SP)'!C:C,'VC (SP)'!T:T,,0),_xlfn.XLOOKUP(C7,'VC (MG e GO)'!C:C,'VC (MG e GO)'!T:T,,0)) -> 0 | H7: =IF($F$2="SP",VLOOKUP($C7,'VC (SP)'!$C:$SD,MATCH($F$3&" "&H$6,'VC (SP)'!$C$5:$NV$5,0),0),VLOOKUP($C7,'VC (MG e GO)'!$C:$RX,MATCH($F$3&" "&H$6,'VC (MG e GO)'!$C$5:$NP$5,0),0)) -> 0.2 | I7: =IF($F$2="SP",VLOOKUP($C7,'VC (SP)'!$C:$SD,MATCH($F$3&" "&I$6,'VC (SP)'!$C$5:$NV$5,0),0),VLOOKUP($C7,'VC (MG e GO)'!$C:$RX,MATCH($F$3&" "&I$6,'VC (MG e GO)'!$C$5:$NP$5,0),0)) -> 0.12 | J7: =IF($F$2="SP",VLOOKUP($C7,'VC (SP)'!$C:$SD,MATCH($F$3&" "&J$6,'VC (SP)'!$C$5:$NV$5,0),0),VLOOKUP($C7,'VC (MG e GO)'!$C:$RX,MATCH($F$3&" "&J$6,'VC (MG e GO)'!$C$5:$NP$5,0),0)) -> N/A | K7: =IF($F$2="SP",VLOOKUP($C7,'VC (SP)'!$C:$SD,MATCH($F$3&" "&K$6,'VC (SP)'!$C$5:$NV$5,0),0),VLOOKUP($C7,'VC (MG e GO)'!$C:$RX,MATCH($F$3&" "&K$6,'VC (MG e GO)'!$C$5:$NP$5,0),0)) -> N/A | L7: =IF($F$2="SP",VLOOKUP($C7,'VC (SP)'!$C:$SD,MATCH($F$3&" "&L$6,'VC (SP)'!$C$5:$NV$5,0),0),VLOOKUP($C7,'VC (MG e GO)'!$C:$RX,MATCH($F$3&" "&L$6,'VC (MG e GO)'!$C$5:$NP$5,0),0)) -> 23.288887 | M7: =IF($F$2="SP",_xlfn.XLOOKUP(C7,'VC (SP)'!C:C,'VC (SP)'!U:U,,0),"N/A") -> N/A | N7: =IF($F$2="SP",VLOOKUP($C7,'VC (SP)'!$C:$SD,MATCH($F$3&" "&N$6,'VC (SP)'!$C$5:$NV$5,0),0),VLOOKUP($C7,'VC (MG e GO)'!$C:$RX,MATCH($F$3&" "&N$6,'VC (MG e GO)'!$C$5:$NP$5,0),0)) -> 17.360794 | O7: =IF($F$2="SP",VLOOKUP($C7,'VC (SP)'!$C:$SD,MATCH($F$3&" "&O$6,'VC (SP)'!$C$5:$NV$5,0),0),VLOOKUP($C7,'VC (MG e GO)'!$C:$RX,MATCH($F$3&" "&O$6,'VC (MG e GO)'!$C$5:$NP$5,0),0)) -> 0.090909091 | P7: 0.08 | Q7: =N7-(N7*O7)-((N7-(N7*O7))*P7) -> 14.519937 | R7: =IF(B7=$F$3,IF($F$2="SP",_xlfn.XLOOKUP(C7,'VC (SP)'!C:C,'VC (SP)'!V:V,,0),_xlfn.XLOOKUP(C7,'VC (MG e GO)'!C:C,'VC (MG e GO)'!V:V,,0)),IF($F$2="SP",_xlfn.XLOOKUP(C7,'VC (SP)'!C:C,'VC (SP)'!W:W,,0),_xlfn.XLOOKUP(C7,'VC (MG e GO)'!C:C,'VC (MG e GO)'!W:W,,0))) -> 0 | S7: =(Q7-(Q7*R7))*I7 -> 1.7423924 | T7: =Q7*G7 -> 0 | U7: =IF(K7="N/A",0,IF(K7="PMPF",(M7*H7)-S7,IF(K7="PMC",(L7*H7)-S7,(((Q7+T7)*(1+K7))*H7)-S7))) -> 0 | V7: =Q7+T7+U7 -> 14.519937
B8: =IF($F$2="SP","SP",_xlfn.XLOOKUP(C8,'VC (MG e GO)'!C:C,'VC (MG e GO)'!E:E,,0)) -> MG | C8: 100101258 | D8: OF PUREMOIST PROMOCIONAL (300ML + 120ML) | E8: 0300651361070 | F8: =IF($F$2="SP",_xlfn.XLOOKUP(C8,'VC (SP)'!C:C,'VC (SP)'!S:S,,0),_xlfn.XLOOKUP(C8,'VC (MG e GO)'!C:C,'VC (MG e GO)'!S:S,,0)) -> 0.125 | G8: =IF($F$2="SP",_xlfn.XLOOKUP(C8,'VC (SP)'!C:C,'VC (SP)'!T:T,,0),_xlfn.XLOOKUP(C8,'VC (MG e GO)'!C:C,'VC (MG e GO)'!T:T,,0)) -> 0.078 | H8: =IF($F$2="SP",VLOOKUP($C8,'VC (SP)'!$C:$SD,MATCH($F$3&" "&H$6,'VC (SP)'!$C$5:$NV$5,0),0),VLOOKUP($C8,'VC (MG e GO)'!$C:$RX,MATCH($F$3&" "&H$6,'VC (MG e GO)'!$C$5:$NP$5,0),0)) -> 0.2 | I8: =IF($F$2="SP",VLOOKUP($C8,'VC (SP)'!$C:$SD,MATCH($F$3&" "&I$6,'VC (SP)'!$C$5:$NV$5,0),0),VLOOKUP($C8,'VC (MG e GO)'!$C:$RX,MATCH($F$3&" "&I$6,'VC (MG e GO)'!$C$5:$NP$5,0),0)) -> 0.04 | J8: =IF($F$2="SP",VLOOKUP($C8,'VC (SP)'!$C:$SD,MATCH($F$3&" "&J$6,'VC (SP)'!$C$5:$NV$5,0),0),VLOOKUP($C8,'VC (MG e GO)'!$C:$RX,MATCH($F$3&" "&J$6,'VC (MG e GO)'!$C$5:$NP$5,0),0)) -> N/A | K8: =IF($F$2="SP",VLOOKUP($C8,'VC (SP)'!$C:$SD,MATCH($F$3&" "&K$6,'VC (SP)'!$C$5:$NV$5,0),0),VLOOKUP($C8,'VC (MG e GO)'!$C:$RX,MATCH($F$3&" "&K$6,'VC (MG e GO)'!$C$5:$NP$5,0),0)) -> N/A | L8: =IF($F$2="SP",VLOOKUP($C8,'VC (SP)'!$C:$SD,MATCH($F$3&" "&L$6,'VC (SP)'!$C$5:$NV$5,0),0),VLOOKUP($C8,'VC (MG e GO)'!$C:$RX,MATCH($F$3&" "&L$6,'VC (MG e GO)'!$C$5:$NP$5,0),0)) -> N/A | M8: =IF($F$2="SP",_xlfn.XLOOKUP(C8,'VC (SP)'!C:C,'VC (SP)'!U:U,,0),"N/A") -> N/A | N8: =IF($F$2="SP",VLOOKUP($C8,'VC (SP)'!$C:$SD,MATCH($F$3&" "&N$6,'VC (SP)'!$C$5:$NV$5,0),0),VLOOKUP($C8,'VC (MG e GO)'!$C:$RX,MATCH($F$3&" "&N$6,'VC (MG e GO)'!$C$5:$NP$5,0),0)) -> 93.089287 | O8: =IF($F$2="SP",VLOOKUP($C8,'VC (SP)'!$C:$SD,MATCH($F$3&" "&O$6,'VC (SP)'!$C$5:$NV$5,0),0),VLOOKUP($C8,'VC (MG e GO)'!$C:$RX,MATCH($F$3&" "&O$6,'VC (MG e GO)'!$C$5:$NP$5,0),0)) -> 0.16666667 | P8: 0.34 | Q8: =N8-(N8*O8)-((N8-(N8*O8))*P8) -> 51.199108 | R8: =IF(B8=$F$3,IF($F$2="SP",_xlfn.XLOOKUP(C8,'VC (SP)'!C:C,'VC (SP)'!V:V,,0),_xlfn.XLOOKUP(C8,'VC (MG e GO)'!C:C,'VC (MG e GO)'!V:V,,0)),IF($F$2="SP",_xlfn.XLOOKUP(C8,'VC (SP)'!C:C,'VC (SP)'!W:W,,0),_xlfn.XLOOKUP(C8,'VC (MG e GO)'!C:C,'VC (MG e GO)'!W:W,,0))) -> 0.0959 | S8: =(Q8-(Q8*R8))*I8 -> 1.8515645 | T8: =Q8*G8 -> 3.9935304 | U8: =IF(K8="N/A",0,IF(K8="PMPF",(M8*H8)-S8,IF(K8="PMC",(L8*H8)-S8,(((Q8+T8)*(1+K8))*H8)-S8))) -> 0 | V8: =Q8+T8+U8 -> 55.192639
B9: =IF($F$2="SP","SP",_xlfn.XLOOKUP(C9,'VC (MG e GO)'!C:C,'VC (MG e GO)'!E:E,,0)) -> MG | C9: 100205650 | D9: OF PUREMOIST TRAVEL PACK (90ML) | E9: 0300653611784 | F9: =IF($F$2="SP",_xlfn.XLOOKUP(C9,'VC (SP)'!C:C,'VC (SP)'!S:S,,0),_xlfn.XLOOKUP(C9,'VC (MG e GO)'!C:C,'VC (MG e GO)'!S:S,,0)) -> 0.125 | G9: =IF($F$2="SP",_xlfn.XLOOKUP(C9,'VC (SP)'!C:C,'VC (SP)'!T:T,,0),_xlfn.XLOOKUP(C9,'VC (MG e GO)'!C:C,'VC (MG e GO)'!T:T,,0)) -> 0.078 | H9: =IF($F$2="SP",VLOOKUP($C9,'VC (SP)'!$C:$SD,MATCH($F$3&" "&H$6,'VC (SP)'!$C$5:$NV$5,0),0),VLOOKUP($C9,'VC (MG e GO)'!$C:$RX,MATCH($F$3&" "&H$6,'VC (MG e GO)'!$C$5:$NP$5,0),0)) -> 0.2 | I9: =IF($F$2="SP",VLOOKUP($C9,'VC (SP)'!$C:$SD,MATCH($F$3&" "&I$6,'VC (SP)'!$C$5:$NV$5,0),0),VLOOKUP($C9,'VC (MG e GO)'!$C:$RX,MATCH($F$3&" "&I$6,'VC (MG e GO)'!$C$5:$NP$5,0),0)) -> 0.04 | J9: =IF($F$2="SP",VLOOKUP($C9,'VC (SP)'!$C:$SD,MATCH($F$3&" "&J$6,'VC (SP)'!$C$5:$NV$5,0),0),VLOOKUP($C9,'VC (MG e GO)'!$C:$RX,MATCH($F$3&" "&J$6,'VC (MG e GO)'!$C$5:$NP$5,0),0)) -> N/A | K9: =IF($F$2="SP",VLOOKUP($C9,'VC (SP)'!$C:$SD,MATCH($F$3&" "&K$6,'VC (SP)'!$C$5:$NV$5,0),0),VLOOKUP($C9,'VC (MG e GO)'!$C:$RX,MATCH($F$3&" "&K$6,'VC (MG e GO)'!$C$5:$NP$5,0),0)) -> N/A | L9: =IF($F$2="SP",VLOOKUP($C9,'VC (SP)'!$C:$SD,MATCH($F$3&" "&L$6,'VC (SP)'!$C$5:$NV$5,0),0),VLOOKUP($C9,'VC (MG e GO)'!$C:$RX,MATCH($F$3&" "&L$6,'VC (MG e GO)'!$C$5:$NP$5,0),0)) -> N/A | M9: =IF($F$2="SP",_xlfn.XLOOKUP(C9,'VC (SP)'!C:C,'VC (SP)'!U:U,,0),"N/A") -> N/A | N9: =IF($F$2="SP",VLOOKUP($C9,'VC (SP)'!$C:$SD,MATCH($F$3&" "&N$6,'VC (SP)'!$C$5:$NV$5,0),0),VLOOKUP($C9,'VC (MG e GO)'!$C:$RX,MATCH($F$3&" "&N$6,'VC (MG e GO)'!$C$5:$NP$5,0),0)) -> 33.389492 | O9: =IF($F$2="SP",VLOOKUP($C9,'VC (SP)'!$C:$SD,MATCH($F$3&" "&O$6,'VC (SP)'!$C$5:$NV$5,0),0),VLOOKUP($C9,'VC (MG e GO)'!$C:$RX,MATCH($F$3&" "&O$6,'VC (MG e GO)'!$C$5:$NP$5,0),0)) -> 0.16666667 | P9: 0.34 | Q9: =N9-(N9*O9)-((N9-(N9*O9))*P9) -> 18.364221 | R9: =IF(B9=$F$3,IF($F$2="SP",_xlfn.XLOOKUP(C9,'VC (SP)'!C:C,'VC (SP)'!V:V,,0),_xlfn.XLOOKUP(C9,'VC (MG e GO)'!C:C,'VC (MG e GO)'!V:V,,0)),IF($F$2="SP",_xlfn.XLOOKUP(C9,'VC (SP)'!C:C,'VC (SP)'!W:W,,0),_xlfn.XLOOKUP(C9,'VC (MG e GO)'!C:C,'VC (MG e GO)'!W:W,,0))) -> 0.0959 | S9: =(Q9-(Q9*R9))*I9 -> 0.66412368 | T9: =Q9*G9 -> 1.4324092 | U9: =IF(K9="N/A",0,IF(K9="PMPF",(M9*H9)-S9,IF(K9="PMC",(L9*H9)-S9,(((Q9+T9)*(1+K9))*H9)-S9))) -> 0 | V9: =Q9+T9+U9 -> 19.79663
B10: =IF($F$2="SP","SP",_xlfn.XLOOKUP(C10,'VC (MG e GO)'!C:C,'VC (MG e GO)'!E:E,,0)) -> MG | C10: 100310586 | D10: OFX PROMO (355ML + 355ML)/LC BR | E10: 0300655144037 | F10: =IF($F$2="SP",_xlfn.XLOOKUP(C10,'VC (SP)'!C:C,'VC (SP)'!S:S,,0),_xlfn.XLOOKUP(C10,'VC (MG e GO)'!C:C,'VC (MG e GO)'!S:S,,0)) -> 0.125 | G10: =IF($F$2="SP",_xlfn.XLOOKUP(C10,'VC (SP)'!C:C,'VC (SP)'!T:T,,0),_xlfn.XLOOKUP(C10,'VC (MG e GO)'!C:C,'VC (MG e GO)'!T:T,,0)) -> 0.078 | H10: =IF($F$2="SP",VLOOKUP($C10,'VC (SP)'!$C:$SD,MATCH($F$3&" "&H$6,'VC (SP)'!$C$5:$NV$5,0),0),VLOOKUP($C10,'VC (MG e GO)'!$C:$RX,MATCH($F$3&" "&H$6,'VC (MG e GO)'!$C$5:$NP$5,0),0)) -> 0.2 | I10: =IF($F$2="SP",VLOOKUP($C10,'VC (SP)'!$C:$SD,MATCH($F$3&" "&I$6,'VC (SP)'!$C$5:$NV$5,0),0),VLOOKUP($C10,'VC (MG e GO)'!$C:$RX,MATCH($F$3&" "&I$6,'VC (MG e GO)'!$C$5:$NP$5,0),0)) -> 0.04 | J10: =IF($F$2="SP",VLOOKUP($C10,'VC (SP)'!$C:$SD,MATCH($F$3&" "&J$6,'VC (SP)'!$C$5:$NV$5,0),0),VLOOKUP($C10,'VC (MG e GO)'!$C:$RX,MATCH($F$3&" "&J$6,'VC (MG e GO)'!$C$5:$NP$5,0),0)) -> N/A | K10: =IF($F$2="SP",VLOOKUP($C10,'VC (SP)'!$C:$SD,MATCH($F$3&" "&K$6,'VC (SP)'!$C$5:$NV$5,0),0),VLOOKUP($C10,'VC (MG e GO)'!$C:$RX,MATCH($F$3&" "&K$6,'VC (MG e GO)'!$C$5:$NP$5,0),0)) -> N/A | L10: =IF($F$2="SP",VLOOKUP($C10,'VC (SP)'!$C:$SD,MATCH($F$3&" "&L$6,'VC (SP)'!$C$5:$NV$5,0),0),VLOOKUP($C10,'VC (MG e GO)'!$C:$RX,MATCH($F$3&" "&L$6,'VC (MG e GO)'!$C$5:$NP$5,0),0)) -> N/A | M10: =IF($F$2="SP",_xlfn.XLOOKUP(C10,'VC (SP)'!C:C,'VC (SP)'!U:U,,0),"N/A") -> N/A | N10: =IF($F$2="SP",VLOOKUP($C10,'VC (SP)'!$C:$SD,MATCH($F$3&" "&N$6,'VC (SP)'!$C$5:$NV$5,0),0),VLOOKUP($C10,'VC (MG e GO)'!$C:$RX,MATCH($F$3&" "&N$6,'VC (MG e GO)'!$C$5:$NP$5,0),0)) -> 121.80734 | O10: =IF($F$2="SP",VLOOKUP($C10,'VC (SP)'!$C:$SD,MATCH($F$3&" "&O$6,'VC (SP)'!$C$5:$NV$5,0),0),VLOOKUP($C10,'VC (MG e GO)'!$C:$RX,MATCH($F$3&" "&O$6,'VC (MG e GO)'!$C$5:$NP$5,0),0)) -> 0.16666667 | P10: 0.34 | Q10: =N10-(N10*O10)-((N10-(N10*O10))*P10) -> 66.994036 | R10: =IF(B10=$F$3,IF($F$2="SP",_xlfn.XLOOKUP(C10,'VC (SP)'!C:C,'VC (SP)'!V:V,,0),_xlfn.XLOOKUP(C10,'VC (MG e GO)'!C:C,'VC (MG e GO)'!V:V,,0)),IF($F$2="SP",_xlfn.XLOOKUP(C10,'VC (SP)'!C:C,'VC (SP)'!W:W,,0),_xlfn.XLOOKUP(C10,'VC (MG e GO)'!C:C,'VC (MG e GO)'!W:W,,0))) -> 0.0959 | S10: =(Q10-(Q10*R10))*I10 -> 2.4227723 | T10: =Q10*G10 -> 5.2255348 | U10: =IF(K10="N/A",0,IF(K10="PMPF",(M10*H10)-S10,IF(K10="PMC",(L10*H10)-S10,(((Q10+T10)*(1+K10))*H10)-S10))) -> 0 | V10: =Q10+T10+U10 -> 72.219571
B11: =IF($F$2="SP","SP",_xlfn.XLOOKUP(C11,'VC (MG e GO)'!C:C,'VC (MG e GO)'!E:E,,0)) -> MG | C11: 100334051 | D11: OFTANE LUB EYE DROPS 10ML | E11: 0300651429374 | F11: =IF($F$2="SP",_xlfn.XLOOKUP(C11,'VC (SP)'!C:C,'VC (SP)'!S:S,,0),_xlfn.XLOOKUP(C11,'VC (MG e GO)'!C:C,'VC (MG e GO)'!S:S,,0)) -> 0.12 | G11: =IF($F$2="SP",_xlfn.XLOOKUP(C11,'VC (SP)'!C:C,'VC (SP)'!T:T,,0),_xlfn.XLOOKUP(C11,'VC (MG e GO)'!C:C,'VC (MG e GO)'!T:T,,0)) -> 0 | H11: =IF($F$2="SP",VLOOKUP($C11,'VC (SP)'!$C:$SD,MATCH($F$3&" "&H$6,'VC (SP)'!$C$5:$NV$5,0),0),VLOOKUP($C11,'VC (MG e GO)'!$C:$RX,MATCH($F$3&" "&H$6,'VC (MG e GO)'!$C$5:$NP$5,0),0)) -> 0.2 | I11: =IF($F$2="SP",VLOOKUP($C11,'VC (SP)'!$C:$SD,MATCH($F$3&" "&I$6,'VC (SP)'!$C$5:$NV$5,0),0),VLOOKUP($C11,'VC (MG e GO)'!$C:$RX,MATCH($F$3&" "&I$6,'VC (MG e GO)'!$C$5:$NP$5,0),0)) -> 0.04 | J11: =IF($F$2="SP",VLOOKUP($C11,'VC (SP)'!$C:$SD,MATCH($F$3&" "&J$6,'VC (SP)'!$C$5:$NV$5,0),0),VLOOKUP($C11,'VC (MG e GO)'!$C:$RX,MATCH($F$3&" "&J$6,'VC (MG e GO)'!$C$5:$NP$5,0),0)) -> N/A | K11: =IF($F$2="SP",VLOOKUP($C11,'VC (SP)'!$C:$SD,MATCH($F$3&" "&K$6,'VC (SP)'!$C$5:$NV$5,0),0),VLOOKUP($C11,'VC (MG e GO)'!$C:$RX,MATCH($F$3&" "&K$6,'VC (MG e GO)'!$C$5:$NP$5,0),0)) -> N/A | L11: =IF($F$2="SP",VLOOKUP($C11,'VC (SP)'!$C:$SD,MATCH($F$3&" "&L$6,'VC (SP)'!$C$5:$NV$5,0),0),VLOOKUP($C11,'VC (MG e GO)'!$C:$RX,MATCH($F$3&" "&L$6,'VC (MG e GO)'!$C$5:$NP$5,0),0)) -> N/A | M11: =IF($F$2="SP",_xlfn.XLOOKUP(C11,'VC (SP)'!C:C,'VC (SP)'!U:U,,0),"N/A") -> N/A | N11: =IF($F$2="SP",VLOOKUP($C11,'VC (SP)'!$C:$SD,MATCH($F$3&" "&N$6,'VC (SP)'!$C$5:$NV$5,0),0),VLOOKUP($C11,'VC (MG e GO)'!$C:$RX,MATCH($F$3&" "&N$6,'VC (MG e GO)'!$C$5:$NP$5,0),0)) -> 60.44064 | O11: =IF($F$2="SP",VLOOKUP($C11,'VC (SP)'!$C:$SD,MATCH($F$3&" "&O$6,'VC (SP)'!$C$5:$NV$5,0),0),VLOOKUP($C11,'VC (MG e GO)'!$C:$RX,MATCH($F$3&" "&O$6,'VC (MG e GO)'!$C$5:$NP$5,0),0)) -> 0.16666667 | P11: 0.08 | Q11: =N11-(N11*O11)-((N11-(N11*O11))*P11) -> 46.337824 | R11: =IF(B11=$F$3,IF($F$2="SP",_xlfn.XLOOKUP(C11,'VC (SP)'!C:C,'VC (SP)'!V:V,,0),_xlfn.XLOOKUP(C11,'VC (MG e GO)'!C:C,'VC (MG e GO)'!V:V,,0)),IF($F$2="SP",_xlfn.XLOOKUP(C11,'VC (SP)'!C:C,'VC (SP)'!W:W,,0),_xlfn.XLOOKUP(C11,'VC (MG e GO)'!C:C,'VC (MG e GO)'!W:W,,0))) -> 0.0904 | S11: =(Q11-(Q11*R11))*I11 -> 1.6859554 | T11: =Q11*G11 -> 0 | U11: =IF(K11="N/A",0,IF(K11="PMPF",(M11*H11)-S11,IF(K11="PMC",(L11*H11)-S11,(((Q11+T11)*(1+K11))*H11)-S11))) -> 0 | V11: =Q11+T11+U11 -> 46.337824
B12: =IF($F$2="SP","SP",_xlfn.XLOOKUP(C12,'VC (MG e GO)'!C:C,'VC (MG e GO)'!E:E,,0)) -> GO | C12: 100185967 | D12: CLARIL 15ML | E12: 7896548113479 | F12: =IF($F$2="SP",_xlfn.XLOOKUP(C12,'VC (SP)'!C:C,'VC (SP)'!S:S,,0),_xlfn.XLOOKUP(C12,'VC (MG e GO)'!C:C,'VC (MG e GO)'!S:S,,0)) -> 0 | G12: =IF($F$2="SP",_xlfn.XLOOKUP(C12,'VC (SP)'!C:C,'VC (SP)'!T:T,,0),_xlfn.XLOOKUP(C12,'VC (MG e GO)'!C:C,'VC (MG e GO)'!T:T,,0)) -> 0 | H12: =IF($F$2="SP",VLOOKUP($C12,'VC (SP)'!$C:$SD,MATCH($F$3&" "&H$6,'VC (SP)'!$C$5:$NV$5,0),0),VLOOKUP($C12,'VC (MG e GO)'!$C:$RX,MATCH($F$3&" "&H$6,'VC (MG e GO)'!$C$5:$NP$5,0),0)) -> 0.2 | I12: =IF($F$2="SP",VLOOKUP($C12,'VC (SP)'!$C:$SD,MATCH($F$3&" "&I$6,'VC (SP)'!$C$5:$NV$5,0),0),VLOOKUP($C12,'VC (MG e GO)'!$C:$RX,MATCH($F$3&" "&I$6,'VC (MG e GO)'!$C$5:$NP$5,0),0)) -> 0.04 | J12: =IF($F$2="SP",VLOOKUP($C12,'VC (SP)'!$C:$SD,MATCH($F$3&" "&J$6,'VC (SP)'!$C$5:$NV$5,0),0),VLOOKUP($C12,'VC (MG e GO)'!$C:$RX,MATCH($F$3&" "&J$6,'VC (MG e GO)'!$C$5:$NP$5,0),0)) -> N/A | K12: =IF($F$2="SP",VLOOKUP($C12,'VC (SP)'!$C:$SD,MATCH($F$3&" "&K$6,'VC (SP)'!$C$5:$NV$5,0),0),VLOOKUP($C12,'VC (MG e GO)'!$C:$RX,MATCH($F$3&" "&K$6,'VC (MG e GO)'!$C$5:$NP$5,0),0)) -> N/A | L12: =IF($F$2="SP",VLOOKUP($C12,'VC (SP)'!$C:$SD,MATCH($F$3&" "&L$6,'VC (SP)'!$C$5:$NV$5,0),0),VLOOKUP($C12,'VC (MG e GO)'!$C:$RX,MATCH($F$3&" "&L$6,'VC (MG e GO)'!$C$5:$NP$5,0),0)) -> 27.67877 | M12: =IF($F$2="SP",_xlfn.XLOOKUP(C12,'VC (SP)'!C:C,'VC (SP)'!U:U,,0),"N/A") -> N/A | N12: =IF($F$2="SP",VLOOKUP($C12,'VC (SP)'!$C:$SD,MATCH($F$3&" "&N$6,'VC (SP)'!$C$5:$NV$5,0),0),VLOOKUP($C12,'VC (MG e GO)'!$C:$RX,MATCH($F$3&" "&N$6,'VC (MG e GO)'!$C$5:$NP$5,0),0)) -> 24.477 | O12: =IF($F$2="SP",VLOOKUP($C12,'VC (SP)'!$C:$SD,MATCH($F$3&" "&O$6,'VC (SP)'!$C$5:$NV$5,0),0),VLOOKUP($C12,'VC (MG e GO)'!$C:$RX,MATCH($F$3&" "&O$6,'VC (MG e GO)'!$C$5:$NP$5,0),0)) -> 0.16666667 | P12: 0.08 | Q12: =N12-(N12*O12)-((N12-(N12*O12))*P12) -> 18.7657 | R12: =IF(B12=$F$3,IF($F$2="SP",_xlfn.XLOOKUP(C12,'VC (SP)'!C:C,'VC (SP)'!V:V,,0),_xlfn.XLOOKUP(C12,'VC (MG e GO)'!C:C,'VC (MG e GO)'!V:V,,0)),IF($F$2="SP",_xlfn.XLOOKUP(C12,'VC (SP)'!C:C,'VC (SP)'!W:W,,0),_xlfn.XLOOKUP(C12,'VC (MG e GO)'!C:C,'VC (MG e GO)'!W:W,,0))) -> 0 | S12: =(Q12-(Q12*R12))*I12 -> 0.750628 | T12: =Q12*G12 -> 0 | U12: =IF(K12="N/A",0,IF(K12="PMPF",(M12*H12)-S12,IF(K12="PMC",(L12*H12)-S12,(((Q12+T12)*(1+K12))*H12)-S12))) -> 0 | V12: =Q12+T12+U12 -> 18.7657
B13: =IF($F$2="SP","SP",_xlfn.XLOOKUP(C13,'VC (MG e GO)'!C:C,'VC (MG e GO)'!E:E,,0)) -> MG | C13: 100245294 | D13: SYSTANE COMPLETE 10ML | E13: 0300651481198 | F13: =IF($F$2="SP",_xlfn.XLOOKUP(C13,'VC (SP)'!C:C,'VC (SP)'!S:S,,0),_xlfn.XLOOKUP(C13,'VC (MG e GO)'!C:C,'VC (MG e GO)'!S:S,,0)) -> 0.12 | G13: =IF($F$2="SP",_xlfn.XLOOKUP(C13,'VC (SP)'!C:C,'VC (SP)'!T:T,,0),_xlfn.XLOOKUP(C13,'VC (MG e GO)'!C:C,'VC (MG e GO)'!T:T,,0)) -> 0 | H13: =IF($F$2="SP",VLOOKUP($C13,'VC (SP)'!$C:$SD,MATCH($F$3&" "&H$6,'VC (SP)'!$C$5:$NV$5,0),0),VLOOKUP($C13,'VC (MG e GO)'!$C:$RX,MATCH($F$3&" "&H$6,'VC (MG e GO)'!$C$5:$NP$5,0),0)) -> 0.2 | I13: =IF($F$2="SP",VLOOKUP($C13,'VC (SP)'!$C:$SD,MATCH($F$3&" "&I$6,'VC (SP)'!$C$5:$NV$5,0),0),VLOOKUP($C13,'VC (MG e GO)'!$C:$RX,MATCH($F$3&" "&I$6,'VC (MG e GO)'!$C$5:$NP$5,0),0)) -> 0.04 | J13: =IF($F$2="SP",VLOOKUP($C13,'VC (SP)'!$C:$SD,MATCH($F$3&" "&J$6,'VC (SP)'!$C$5:$NV$5,0),0),VLOOKUP($C13,'VC (MG e GO)'!$C:$RX,MATCH($F$3&" "&J$6,'VC (MG e GO)'!$C$5:$NP$5,0),0)) -> N/A | K13: =IF($F$2="SP",VLOOKUP($C13,'VC (SP)'!$C:$SD,MATCH($F$3&" "&K$6,'VC (SP)'!$C$5:$NV$5,0),0),VLOOKUP($C13,'VC (MG e GO)'!$C:$RX,MATCH($F$3&" "&K$6,'VC (MG e GO)'!$C$5:$NP$5,0),0)) -> N/A | L13: =IF($F$2="SP",VLOOKUP($C13,'VC (SP)'!$C:$SD,MATCH($F$3&" "&L$6,'VC (SP)'!$C$5:$NV$5,0),0),VLOOKUP($C13,'VC (MG e GO)'!$C:$RX,MATCH($F$3&" "&L$6,'VC (MG e GO)'!$C$5:$NP$5,0),0)) -> N/A | M13: =IF($F$2="SP",_xlfn.XLOOKUP(C13,'VC (SP)'!C:C,'VC (SP)'!U:U,,0),"N/A") -> N/A | N13: =IF($F$2="SP",VLOOKUP($C13,'VC (SP)'!$C:$SD,MATCH($F$3&" "&N$6,'VC (SP)'!$C$5:$NV$5,0),0),VLOOKUP($C13,'VC (MG e GO)'!$C:$RX,MATCH($F$3&" "&N$6,'VC (MG e GO)'!$C$5:$NP$5,0),0)) -> 87.46092 | O13: =IF($F$2="SP",VLOOKUP($C13,'VC (SP)'!$C:$SD,MATCH($F$3&" "&O$6,'VC (SP)'!$C$5:$NV$5,0),0),VLOOKUP($C13,'VC (MG e GO)'!$C:$RX,MATCH($F$3&" "&O$6,'VC (MG e GO)'!$C$5:$NP$5,0),0)) -> 0.16666667 | P13: 0.08 | Q13: =N13-(N13*O13)-((N13-(N13*O13))*P13) -> 67.053372 | R13: =IF(B13=$F$3,IF($F$2="SP",_xlfn.XLOOKUP(C13,'VC (SP)'!C:C,'VC (SP)'!V:V,,0),_xlfn.XLOOKUP(C13,'VC (MG e GO)'!C:C,'VC (MG e GO)'!V:V,,0)),IF($F$2="SP",_xlfn.XLOOKUP(C13,'VC (SP)'!C:C,'VC (SP)'!W:W,,0),_xlfn.XLOOKUP(C13,'VC (MG e GO)'!C:C,'VC (MG e GO)'!W:W,,0))) -> 0.0904 | S13: =(Q13-(Q13*R13))*I13 -> 2.4396699 | T13: =Q13*G13 -> 0 | U13: =IF(K13="N/A",0,IF(K13="PMPF",(M13*H13)-S13,IF(K13="PMC",(L13*H13)-S13,(((Q13+T13)*(1+K13))*H13)-S13))) -> 0 | V13: =Q13+T13+U13 -> 67.053372
B14: =IF($F$2="SP","SP",_xlfn.XLOOKUP(C14,'VC (MG e GO)'!C:C,'VC (MG e GO)'!E:E,,0)) -> MG | C14: 100331647 | D14: SYSTANE COMPLETE MDPF 10ML | E14: 0300651509755 | F14: =IF($F$2="SP",_xlfn.XLOOKUP(C14,'VC (SP)'!C:C,'VC (SP)'!S:S,,0),_xlfn.XLOOKUP(C14,'VC (MG e GO)'!C:C,'VC (MG e GO)'!S:S,,0)) -> 0.12 | G14: =IF($F$2="SP",_xlfn.XLOOKUP(C14,'VC (SP)'!C:C,'VC (SP)'!T:T,,0),_xlfn.XLOOKUP(C14,'VC (MG e GO)'!C:C,'VC (MG e GO)'!T:T,,0)) -> 0 | H14: =IF($F$2="SP",VLOOKUP($C14,'VC (SP)'!$C:$SD,MATCH($F$3&" "&H$6,'VC (SP)'!$C$5:$NV$5,0),0),VLOOKUP($C14,'VC (MG e GO)'!$C:$RX,MATCH($F$3&" "&H$6,'VC (MG e GO)'!$C$5:$NP$5,0),0)) -> 0.2 | I14: =IF($F$2="SP",VLOOKUP($C14,'VC (SP)'!$C:$SD,MATCH($F$3&" "&I$6,'VC (SP)'!$C$5:$NV$5,0),0),VLOOKUP($C14,'VC (MG e GO)'!$C:$RX,MATCH($F$3&" "&I$6,'VC (MG e GO)'!$C$5:$NP$5,0),0)) -> 0.04 | J14: =IF($F$2="SP",VLOOKUP($C14,'VC (SP)'!$C:$SD,MATCH($F$3&" "&J$6,'VC (SP)'!$C$5:$NV$5,0),0),VLOOKUP($C14,'VC (MG e GO)'!$C:$RX,MATCH($F$3&" "&J$6,'VC (MG e GO)'!$C$5:$NP$5,0),0)) -> N/A | K14: =IF($F$2="SP",VLOOKUP($C14,'VC (SP)'!$C:$SD,MATCH($F$3&" "&K$6,'VC (SP)'!$C$5:$NV$5,0),0),VLOOKUP($C14,'VC (MG e GO)'!$C:$RX,MATCH($F$3&" "&K$6,'VC (MG e GO)'!$C$5:$NP$5,0),0)) -> N/A | L14: =IF($F$2="SP",VLOOKUP($C14,'VC (SP)'!$C:$SD,MATCH($F$3&" "&L$6,'VC (SP)'!$C$5:$NV$5,0),0),VLOOKUP($C14,'VC (MG e GO)'!$C:$RX,MATCH($F$3&" "&L$6,'VC (MG e GO)'!$C$5:$NP$5,0),0)) -> N/A | M14: =IF($F$2="SP",_xlfn.XLOOKUP(C14,'VC (SP)'!C:C,'VC (SP)'!U:U,,0),"N/A") -> N/A | N14: =IF($F$2="SP",VLOOKUP($C14,'VC (SP)'!$C:$SD,MATCH($F$3&" "&N$6,'VC (SP)'!$C$5:$NV$5,0),0),VLOOKUP($C14,'VC (MG e GO)'!$C:$RX,MATCH($F$3&" "&N$6,'VC (MG e GO)'!$C$5:$NP$5,0),0)) -> 93.305367 | O14: =IF($F$2="SP",VLOOKUP($C14,'VC (SP)'!$C:$SD,MATCH($F$3&" "&O$6,'VC (SP)'!$C$5:$NV$5,0),0),VLOOKUP($C14,'VC (MG e GO)'!$C:$RX,MATCH($F$3&" "&O$6,'VC (MG e GO)'!$C$5:$NP$5,0),0)) -> 0.16666667 | P14: 0.08 | Q14: =N14-(N14*O14)-((N14-(N14*O14))*P14) -> 71.534115 | R14: =IF(B14=$F$3,IF($F$2="SP",_xlfn.XLOOKUP(C14,'VC (SP)'!C:C,'VC (SP)'!V:V,,0),_xlfn.XLOOKUP(C14,'VC (MG e GO)'!C:C,'VC (MG e GO)'!V:V,,0)),IF($F$2="SP",_xlfn.XLOOKUP(C14,'VC (SP)'!C:C,'VC (SP)'!W:W,,0),_xlfn.XLOOKUP(C14,'VC (MG e GO)'!C:C,'VC (MG e GO)'!W:W,,0))) -> 0.0904 | S14: =(Q14-(Q14*R14))*I14 -> 2.6026972 | T14: =Q14*G14 -> 0 | U14: =IF(K14="N/A",0,IF(K14="PMPF",(M14*H14)-S14,IF(K14="PMC",(L14*H14)-S14,(((Q14+T14)*(1+K14))*H14)-S14))) -> 0 | V14: =Q14+T14+U14 -> 71.534115
B15: =IF($F$2="SP","SP",_xlfn.XLOOKUP(C15,'VC (MG e GO)'!C:C,'VC (MG e GO)'!E:E,,0)) -> MG | C15: 100269569 | D15: OFTANE 15ML (ASPEX) | E15: 0300651429206 | F15: =IF($F$2="SP",_xlfn.XLOOKUP(C15,'VC (SP)'!C:C,'VC (SP)'!S:S,,0),_xlfn.XLOOKUP(C15,'VC (MG e GO)'!C:C,'VC (MG e GO)'!S:S,,0)) -> 0.12 | G15: =IF($F$2="SP",_xlfn.XLOOKUP(C15,'VC (SP)'!C:C,'VC (SP)'!T:T,,0),_xlfn.XLOOKUP(C15,'VC (MG e GO)'!C:C,'VC (MG e GO)'!T:T,,0)) -> 0 | H15: =IF($F$2="SP",VLOOKUP($C15,'VC (SP)'!$C:$SD,MATCH($F$3&" "&H$6,'VC (SP)'!$C$5:$NV$5,0),0),VLOOKUP($C15,'VC (MG e GO)'!$C:$RX,MATCH($F$3&" "&H$6,'VC (MG e GO)'!$C$5:$NP$5,0),0)) -> 0.2 | I15: =IF($F$2="SP",VLOOKUP($C15,'VC (SP)'!$C:$SD,MATCH($F$3&" "&I$6,'VC (SP)'!$C$5:$NV$5,0),0),VLOOKUP($C15,'VC (MG e GO)'!$C:$RX,MATCH($F$3&" "&I$6,'VC (MG e GO)'!$C$5:$NP$5,0),0)) -> 0.04 | J15: =IF($F$2="SP",VLOOKUP($C15,'VC (SP)'!$C:$SD,MATCH($F$3&" "&J$6,'VC (SP)'!$C$5:$NV$5,0),0),VLOOKUP($C15,'VC (MG e GO)'!$C:$RX,MATCH($F$3&" "&J$6,'VC (MG e GO)'!$C$5:$NP$5,0),0)) -> N/A | K15: =IF($F$2="SP",VLOOKUP($C15,'VC (SP)'!$C:$SD,MATCH($F$3&" "&K$6,'VC (SP)'!$C$5:$NV$5,0),0),VLOOKUP($C15,'VC (MG e GO)'!$C:$RX,MATCH($F$3&" "&K$6,'VC (MG e GO)'!$C$5:$NP$5,0),0)) -> N/A | L15: =IF($F$2="SP",VLOOKUP($C15,'VC (SP)'!$C:$SD,MATCH($F$3&" "&L$6,'VC (SP)'!$C$5:$NV$5,0),0),VLOOKUP($C15,'VC (MG e GO)'!$C:$RX,MATCH($F$3&" "&L$6,'VC (MG e GO)'!$C$5:$NP$5,0),0)) -> N/A | M15: =IF($F$2="SP",_xlfn.XLOOKUP(C15,'VC (SP)'!C:C,'VC (SP)'!U:U,,0),"N/A") -> N/A | N15: =IF($F$2="SP",VLOOKUP($C15,'VC (SP)'!$C:$SD,MATCH($F$3&" "&N$6,'VC (SP)'!$C$5:$NV$5,0),0),VLOOKUP($C15,'VC (MG e GO)'!$C:$RX,MATCH($F$3&" "&N$6,'VC (MG e GO)'!$C$5:$NP$5,0),0)) -> 85.598517 | O15: =IF($F$2="SP",VLOOKUP($C15,'VC (SP)'!$C:$SD,MATCH($F$3&" "&O$6,'VC (SP)'!$C$5:$NV$5,0),0),VLOOKUP($C15,'VC (MG e GO)'!$C:$RX,MATCH($F$3&" "&O$6,'VC (MG e GO)'!$C$5:$NP$5,0),0)) -> 0.16666667 | P15: 0.08 | Q15: =N15-(N15*O15)-((N15-(N15*O15))*P15) -> 65.62553 | R15: =IF(B15=$F$3,IF($F$2="SP",_xlfn.XLOOKUP(C15,'VC (SP)'!C:C,'VC (SP)'!V:V,,0),_xlfn.XLOOKUP(C15,'VC (MG e GO)'!C:C,'VC (MG e GO)'!V:V,,0)),IF($F$2="SP",_xlfn.XLOOKUP(C15,'VC (SP)'!C:C,'VC (SP)'!W:W,,0),_xlfn.XLOOKUP(C15,'VC (MG e GO)'!C:C,'VC (MG e GO)'!W:W,,0))) -> 0.0904 | S15: =(Q15-(Q15*R15))*I15 -> 2.3877193 | T15: =Q15*G15 -> 0 | U15: =IF(K15="N/A",0,IF(K15="PMPF",(M15*H15)-S15,IF(K15="PMC",(L15*H15)-S15,(((Q15+T15)*(1+K15))*H15)-S15))) -> 0 | V15: =Q15+T15+U15 -> 65.62553
B16: =IF($F$2="SP","SP",_xlfn.XLOOKUP(C16,'VC (MG e GO)'!C:C,'VC (MG e GO)'!E:E,,0)) -> MG | C16: 100281203 | D16: SYSTANE LID WIPES 30 SACHES | E16: 0300658052582 | F16: =IF($F$2="SP",_xlfn.XLOOKUP(C16,'VC (SP)'!C:C,'VC (SP)'!S:S,,0),_xlfn.XLOOKUP(C16,'VC (MG e GO)'!C:C,'VC (MG e GO)'!S:S,,0)) -> 0.125 | G16: =IF($F$2="SP",_xlfn.XLOOKUP(C16,'VC (SP)'!C:C,'VC (SP)'!T:T,,0),_xlfn.XLOOKUP(C16,'VC (MG e GO)'!C:C,'VC (MG e GO)'!T:T,,0)) -> 0.0325 | H16: =IF($F$2="SP",VLOOKUP($C16,'VC (SP)'!$C:$SD,MATCH($F$3&" "&H$6,'VC (SP)'!$C$5:$NV$5,0),0),VLOOKUP($C16,'VC (MG e GO)'!$C:$RX,MATCH($F$3&" "&H$6,'VC (MG e GO)'!$C$5:$NP$5,0),0)) -> 0.2 | I16: =IF($F$2="SP",VLOOKUP($C16,'VC (SP)'!$C:$SD,MATCH($F$3&" "&I$6,'VC (SP)'!$C$5:$NV$5,0),0),VLOOKUP($C16,'VC (MG e GO)'!$C:$RX,MATCH($F$3&" "&I$6,'VC (MG e GO)'!$C$5:$NP$5,0),0)) -> 0.04 | J16: =IF($F$2="SP",VLOOKUP($C16,'VC (SP)'!$C:$SD,MATCH($F$3&" "&J$6,'VC (SP)'!$C$5:$NV$5,0),0),VLOOKUP($C16,'VC (MG e GO)'!$C:$RX,MATCH($F$3&" "&J$6,'VC (MG e GO)'!$C$5:$NP$5,0),0)) -> N/A | K16: =IF($F$2="SP",VLOOKUP($C16,'VC (SP)'!$C:$SD,MATCH($F$3&" "&K$6,'VC (SP)'!$C$5:$NV$5,0),0),VLOOKUP($C16,'VC (MG e GO)'!$C:$RX,MATCH($F$3&" "&K$6,'VC (MG e GO)'!$C$5:$NP$5,0),0)) -> N/A | L16: =IF($F$2="SP",VLOOKUP($C16,'VC (SP)'!$C:$SD,MATCH($F$3&" "&L$6,'VC (SP)'!$C$5:$NV$5,0),0),VLOOKUP($C16,'VC (MG e GO)'!$C:$RX,MATCH($F$3&" "&L$6,'VC (MG e GO)'!$C$5:$NP$5,0),0)) -> N/A | M16: =IF($F$2="SP",_xlfn.XLOOKUP(C16,'VC (SP)'!C:C,'VC (SP)'!U:U,,0),"N/A") -> N/A | N16: =IF($F$2="SP",VLOOKUP($C16,'VC (SP)'!$C:$SD,MATCH($F$3&" "&N$6,'VC (SP)'!$C$5:$NV$5,0),0),VLOOKUP($C16,'VC (MG e GO)'!$C:$RX,MATCH($F$3&" "&N$6,'VC (MG e GO)'!$C$5:$NP$5,0),0)) -> 89.981852 | O16: =IF($F$2="SP",VLOOKUP($C16,'VC (SP)'!$C:$SD,MATCH($F$3&" "&O$6,'VC (SP)'!$C$5:$NV$5,0),0),VLOOKUP($C16,'VC (MG e GO)'!$C:$RX,MATCH($F$3&" "&O$6,'VC (MG e GO)'!$C$5:$NP$5,0),0)) -> 0.16666667 | P16: 0.08 | Q16: =N16-(N16*O16)-((N16-(N16*O16))*P16) -> 68.986087 | R16: =IF(B16=$F$3,IF($F$2="SP",_xlfn.XLOOKUP(C16,'VC (SP)'!C:C,'VC (SP)'!V:V,,0),_xlfn.XLOOKUP(C16,'VC (MG e GO)'!C:C,'VC (MG e GO)'!V:V,,0)),IF($F$2="SP",_xlfn.XLOOKUP(C16,'VC (SP)'!C:C,'VC (SP)'!W:W,,0),_xlfn.XLOOKUP(C16,'VC (MG e GO)'!C:C,'VC (MG e GO)'!W:W,,0))) -> 0.0959 | S16: =(Q16-(Q16*R16))*I16 -> 2.4948128 | T16: =Q16*G16 -> 2.2420478 | U16: =IF(K16="N/A",0,IF(K16="PMPF",(M16*H16)-S16,IF(K16="PMC",(L16*H16)-S16,(((Q16+T16)*(1+K16))*H16)-S16))) -> 0 | V16: =Q16+T16+U16 -> 71.228135
B17: =IF($F$2="SP","SP",_xlfn.XLOOKUP(C17,'VC (MG e GO)'!C:C,'VC (MG e GO)'!E:E,,0)) -> MG | C17: 100289293 | D17: SYSTANE ULTRA MDPF 10ML - BR | E17: 0300651507775 | F17: =IF($F$2="SP",_xlfn.XLOOKUP(C17,'VC (SP)'!C:C,'VC (SP)'!S:S,,0),_xlfn.XLOOKUP(C17,'VC (MG e GO)'!C:C,'VC (MG e GO)'!S:S,,0)) -> 0.12 | G17: =IF($F$2="SP",_xlfn.XLOOKUP(C17,'VC (SP)'!C:C,'VC (SP)'!T:T,,0),_xlfn.XLOOKUP(C17,'VC (MG e GO)'!C:C,'VC (MG e GO)'!T:T,,0)) -> 0 | H17: =IF($F$2="SP",VLOOKUP($C17,'VC (SP)'!$C:$SD,MATCH($F$3&" "&H$6,'VC (SP)'!$C$5:$NV$5,0),0),VLOOKUP($C17,'VC (MG e GO)'!$C:$RX,MATCH($F$3&" "&H$6,'VC (MG e GO)'!$C$5:$NP$5,0),0)) -> 0.2 | I17: =IF($F$2="SP",VLOOKUP($C17,'VC (SP)'!$C:$SD,MATCH($F$3&" "&I$6,'VC (SP)'!$C$5:$NV$5,0),0),VLOOKUP($C17,'VC (MG e GO)'!$C:$RX,MATCH($F$3&" "&I$6,'VC (MG e GO)'!$C$5:$NP$5,0),0)) -> 0.04 | J17: =IF($F$2="SP",VLOOKUP($C17,'VC (SP)'!$C:$SD,MATCH($F$3&" "&J$6,'VC (SP)'!$C$5:$NV$5,0),0),VLOOKUP($C17,'VC (MG e GO)'!$C:$RX,MATCH($F$3&" "&J$6,'VC (MG e GO)'!$C$5:$NP$5,0),0)) -> N/A | K17: =IF($F$2="SP",VLOOKUP($C17,'VC (SP)'!$C:$SD,MATCH($F$3&" "&K$6,'VC (SP)'!$C$5:$NV$5,0),0),VLOOKUP($C17,'VC (MG e GO)'!$C:$RX,MATCH($F$3&" "&K$6,'VC (MG e GO)'!$C$5:$NP$5,0),0)) -> N/A | L17: =IF($F$2="SP",VLOOKUP($C17,'VC (SP)'!$C:$SD,MATCH($F$3&" "&L$6,'VC (SP)'!$C$5:$NV$5,0),0),VLOOKUP($C17,'VC (MG e GO)'!$C:$RX,MATCH($F$3&" "&L$6,'VC (MG e GO)'!$C$5:$NP$5,0),0)) -> N/A | M17: =IF($F$2="SP",_xlfn.XLOOKUP(C17,'VC (SP)'!C:C,'VC (SP)'!U:U,,0),"N/A") -> N/A | N17: =IF($F$2="SP",VLOOKUP($C17,'VC (SP)'!$C:$SD,MATCH($F$3&" "&N$6,'VC (SP)'!$C$5:$NV$5,0),0),VLOOKUP($C17,'VC (MG e GO)'!$C:$RX,MATCH($F$3&" "&N$6,'VC (MG e GO)'!$C$5:$NP$5,0),0)) -> 72.386773 | O17: =IF($F$2="SP",VLOOKUP($C17,'VC (SP)'!$C:$SD,MATCH($F$3&" "&O$6,'VC (SP)'!$C$5:$NV$5,0),0),VLOOKUP($C17,'VC (MG e GO)'!$C:$RX,MATCH($F$3&" "&O$6,'VC (MG e GO)'!$C$5:$NP$5,0),0)) -> 0.16666667 | P17: 0.08 | Q17: =N17-(N17*O17)-((N17-(N17*O17))*P17) -> 55.496526 | R17: =IF(B17=$F$3,IF($F$2="SP",_xlfn.XLOOKUP(C17,'VC (SP)'!C:C,'VC (SP)'!V:V,,0),_xlfn.XLOOKUP(C17,'VC (MG e GO)'!C:C,'VC (MG e GO)'!V:V,,0)),IF($F$2="SP",_xlfn.XLOOKUP(C17,'VC (SP)'!C:C,'VC (SP)'!W:W,,0),_xlfn.XLOOKUP(C17,'VC (MG e GO)'!C:C,'VC (MG e GO)'!W:W,,0))) -> 0.0904 | S17: =(Q17-(Q17*R17))*I17 -> 2.0191856 | T17: =Q17*G17 -> 0 | U17: =IF(K17="N/A",0,IF(K17="PMPF",(M17*H17)-S17,IF(K17="PMC",(L17*H17)-S17,(((Q17+T17)*(1+K17))*H17)-S17))) -> 0 | V17: =Q17+T17+U17 -> 55.496526
B18: =IF($F$2="SP","SP",_xlfn.XLOOKUP(C18,'VC (MG e GO)'!C:C,'VC (MG e GO)'!E:E,,0)) -> MG | C18: 100299895 | D18: TRISORB 15ML | E18: 0300650426404 | F18: =IF($F$2="SP",_xlfn.XLOOKUP(C18,'VC (SP)'!C:C,'VC (SP)'!S:S,,0),_xlfn.XLOOKUP(C18,'VC (MG e GO)'!C:C,'VC (MG e GO)'!S:S,,0)) -> 0.12 | G18: =IF($F$2="SP",_xlfn.XLOOKUP(C18,'VC (SP)'!C:C,'VC (SP)'!T:T,,0),_xlfn.XLOOKUP(C18,'VC (MG e GO)'!C:C,'VC (MG e GO)'!T:T,,0)) -> 0 | H18: =IF($F$2="SP",VLOOKUP($C18,'VC (SP)'!$C:$SD,MATCH($F$3&" "&H$6,'VC (SP)'!$C$5:$NV$5,0),0),VLOOKUP($C18,'VC (MG e GO)'!$C:$RX,MATCH($F$3&" "&H$6,'VC (MG e GO)'!$C$5:$NP$5,0),0)) -> 0.2 | I18: =IF($F$2="SP",VLOOKUP($C18,'VC (SP)'!$C:$SD,MATCH($F$3&" "&I$6,'VC (SP)'!$C$5:$NV$5,0),0),VLOOKUP($C18,'VC (MG e GO)'!$C:$RX,MATCH($F$3&" "&I$6,'VC (MG e GO)'!$C$5:$NP$5,0),0)) -> 0.04 | J18: =IF($F$2="SP",VLOOKUP($C18,'VC (SP)'!$C:$SD,MATCH($F$3&" "&J$6,'VC (SP)'!$C$5:$NV$5,0),0),VLOOKUP($C18,'VC (MG e GO)'!$C:$RX,MATCH($F$3&" "&J$6,'VC (MG e GO)'!$C$5:$NP$5,0),0)) -> N/A | K18: =IF($F$2="SP",VLOOKUP($C18,'VC (SP)'!$C:$SD,MATCH($F$3&" "&K$6,'VC (SP)'!$C$5:$NV$5,0),0),VLOOKUP($C18,'VC (MG e GO)'!$C:$RX,MATCH($F$3&" "&K$6,'VC (MG e GO)'!$C$5:$NP$5,0),0)) -> N/A | L18: =IF($F$2="SP",VLOOKUP($C18,'VC (SP)'!$C:$SD,MATCH($F$3&" "&L$6,'VC (SP)'!$C$5:$NV$5,0),0),VLOOKUP($C18,'VC (MG e GO)'!$C:$RX,MATCH($F$3&" "&L$6,'VC (MG e GO)'!$C$5:$NP$5,0),0)) -> N/A | M18: =IF($F$2="SP",_xlfn.XLOOKUP(C18,'VC (SP)'!C:C,'VC (SP)'!U:U,,0),"N/A") -> N/A | N18: =IF($F$2="SP",VLOOKUP($C18,'VC (SP)'!$C:$SD,MATCH($F$3&" "&N$6,'VC (SP)'!$C$5:$NV$5,0),0),VLOOKUP($C18,'VC (MG e GO)'!$C:$RX,MATCH($F$3&" "&N$6,'VC (MG e GO)'!$C$5:$NP$5,0),0)) -> 33.410071 | O18: =IF($F$2="SP",VLOOKUP($C18,'VC (SP)'!$C:$SD,MATCH($F$3&" "&O$6,'VC (SP)'!$C$5:$NV$5,0),0),VLOOKUP($C18,'VC (MG e GO)'!$C:$RX,MATCH($F$3&" "&O$6,'VC (MG e GO)'!$C$5:$NP$5,0),0)) -> 0.16666667 | P18: 0.08 | Q18: =N18-(N18*O18)-((N18-(N18*O18))*P18) -> 25.614388 | R18: =IF(B18=$F$3,IF($F$2="SP",_xlfn.XLOOKUP(C18,'VC (SP)'!C:C,'VC (SP)'!V:V,,0),_xlfn.XLOOKUP(C18,'VC (MG e GO)'!C:C,'VC (MG e GO)'!V:V,,0)),IF($F$2="SP",_xlfn.XLOOKUP(C18,'VC (SP)'!C:C,'VC (SP)'!W:W,,0),_xlfn.XLOOKUP(C18,'VC (MG e GO)'!C:C,'VC (MG e GO)'!W:W,,0))) -> 0.0904 | S18: =(Q18-(Q18*R18))*I18 -> 0.9319539 | T18: =Q18*G18 -> 0 | U18: =IF(K18="N/A",0,IF(K18="PMPF",(M18*H18)-S18,IF(K18="PMC",(L18*H18)-S18,(((Q18+T18)*(1+K18))*H18)-S18))) -> 0 | V18: =Q18+T18+U18 -> 25.614388
